From mboxrd@z Thu Jan 1 00:00:00 1970 Return-Path: Received: from mails.dpdk.org (mails.dpdk.org [217.70.189.124]) by inbox.dpdk.org (Postfix) with ESMTP id 92BD54898E for ; Mon, 20 Oct 2025 20:46:16 +0200 (CEST) Received: from mails.dpdk.org (localhost [127.0.0.1]) by mails.dpdk.org (Postfix) with ESMTP id 8DC6840151; Mon, 20 Oct 2025 20:46:16 +0200 (CEST) Received: from mail-qv1-f100.google.com (mail-qv1-f100.google.com [209.85.219.100]) by mails.dpdk.org (Postfix) with ESMTP id 2C2CF40151 for ; Mon, 20 Oct 2025 20:46:15 +0200 (CEST) Received: by mail-qv1-f100.google.com with SMTP id 6a1803df08f44-81efcad9c90so86262256d6.0 for ; Mon, 20 Oct 2025 11:46:15 -0700 (PDT) DKIM-Signature: v=1; a=rsa-sha256; c=relaxed/relaxed; d=iol.unh.edu; s=unh-iol; t=1760985974; x=1761590774; darn=dpdk.org; h=references:in-reply-to:cc:to:from:subject:message-id:date:from:to :cc:subject:date:message-id:reply-to; bh=l2a9XUVRhoXnQiTWpYxzJ9m4YqbjTYLqHEaHOSqkvGw=; b=hBAEOXuztO6RLsuWG6Y/pLzI/WknZBLZ7YZY1NQhQed3cvWsmbgqZGiqKqelYGusPU 3Oh+4ez9zLpk0ttwPTTrRYFmLhqBV02XYFG7nvz+NhmFaz6Hhq9Px/worgsphGcltVWv bYR4F2mtERSSuE7mhEaSqdQY8Z3jzYaL7vxqc= X-Google-DKIM-Signature: v=1; a=rsa-sha256; c=relaxed/relaxed; d=1e100.net; s=20230601; t=1760985974; x=1761590774; h=references:in-reply-to:cc:to:from:subject:message-id:date :x-gm-message-state:from:to:cc:subject:date:message-id:reply-to; bh=l2a9XUVRhoXnQiTWpYxzJ9m4YqbjTYLqHEaHOSqkvGw=; b=WPNkDAHlk15eXgIf6exC/y87Csm+OTORlz+bH1GwgueO7OujCG7rbBXRGHzKu6kpNi DG0Y9gn0NAWz8XPEJKgYGT2nCCZmPMv5G0KnwbwDNnOiLkdQ7i5Ftw1t1oUZQjGPNiNP 8Z5T/TZWxvFdb07QF/CIKm0HFtTuWN74aAf1bABcg2GhPfsOGi+Y8qA0Q7EboUfLcO0m 8PGl+C7ZqeUy6lHcm5qSRwHFogLQsmzRpywLpBECF5RjiyQG3N02zVAh6uHZjYER7gcE 6iFU6rdbVVYdaREL+ct4/WNuM+0LSyxU3XXbIAyPEj4Aqv09WCySvOrEy4citdHNtdJX 6RmQ== X-Gm-Message-State: AOJu0YzwOvnz9FPrwdOfWyD0XIdRymWi3ZsvxceNs/ZRMBzyoxbanmlq KdRllevsgHpfdZOIJONgtBIEAh21AVq9WX65vWZ2POzsapBOPJEdBfDnsocQuMKHJVqom/mSjsd 2Y7jJC8pztzUbfEn0JEQJUBcrBKVdCwjmqAkMU45jwk0+ X-Gm-Gg: ASbGncvQEkD9CE/2V5PAfddGfRI4WdQz0Ozp+pxGSlWJxG4z3MtXsAsbV+71R0bCBei lr5tLxb+9pJjTrFQc+VHNQ4wWmKF+OywghmSnT7kOXhY+XURI2tg7kgs0jf9DJRRBHW870C+SVj 3XFMpjIt7pRnsbMzM2126AAljfPT+3Inub7j9oerqE3KGd0BZvaIxKqVS4Zk3YsQtdd16NLcdPa I2zv7pBVJW12CtpissymjuFUAy4DkYA4sINdzTRn6zMxkcmQ6lF5Qq9p2R0rgFu0BpPPdJy4D++ pOas/wmWnrqzCeQiU8Ah5IYECrzXS5qOEno0omkQAhg0FXzRVl7XGQ/AwyFgyEpY4srxKnmH2Mf b1DSwCTLbcWks7g9oG78exxqcORQ5H0c= X-Google-Smtp-Source: AGHT+IHhSBd2U1N9/m4s9thirfuzLU18rmLdGXRAB1kV+Ugcwo2dj5QkxLP5JgFTA+j/wap+0V1xzbM10EeG X-Received: by 2002:a05:6214:cc9:b0:87a:9fe:138d with SMTP id 6a1803df08f44-87c20632457mr162675466d6.53.1760985974547; Mon, 20 Oct 2025 11:46:14 -0700 (PDT) Received: from postal.iol.unh.edu (postal.iol.unh.edu. [132.177.123.84]) by smtp-relay.gmail.com with ESMTPS id 6a1803df08f44-87cf547d404sm10795536d6.23.2025.10.20.11.46.14 (version=TLS1_2 cipher=ECDHE-ECDSA-AES128-GCM-SHA256 bits=128/128); Mon, 20 Oct 2025 11:46:14 -0700 (PDT) X-Relaying-Domain: iol.unh.edu Date: Mon, 20 Oct 2025 11:46:14 -0700 (PDT) Message-ID: <68f68376.050a0220.d407.2d1aSMTPIN_ADDED_MISSING@mx.google.com> Received: from [172.21.0.2] (unknown [172.18.0.240]) by postal.iol.unh.edu (Postfix) with ESMTP id 47A0D604D420; Mon, 20 Oct 2025 14:46:14 -0400 (EDT) Subject: |SUCCESS| pw157883 [PATCH] Revert "net/ice: count drop-all filter in From: dpdklab@iol.unh.edu To: Test Report Cc: dpdk-test-reports@iol.unh.edu, Bruce Richardson In-Reply-To: <20251020164230.3724539-1-jeffrey.b.shaw@intel.com> References: <20251020164230.3724539-1-jeffrey.b.shaw@intel.com> Content-Type: text/plain X-BeenThere: test-report@dpdk.org X-Mailman-Version: 2.1.29 Precedence: list List-Id: automatic DPDK test reports List-Unsubscribe: , List-Archive: List-Post: List-Help: List-Subscribe: , Errors-To: test-report-bounces@dpdk.org Test-Label: iol-unit-amd64-testing Test-Status: SUCCESS http://dpdk.org/patch/157883 _Testing PASS_ Submitter: Jeff Shaw Date: Monday, October 20 2025 16:42:29 DPDK git baseline: Repo:dpdk-next-net-intel Branch: master CommitID:6b997d6b9ffdbb4f8ecd14d1f217da69cdc783af 157883 --> testing pass Upstream job id: Generic-Unit-Test-DPDK#383749 Test environment and result as below: +-------------------------------+----------------+ | Environment | dpdk_unit_test | +===============================+================+ | Debian GNU/Linux 12 | PASS | +-------------------------------+----------------+ | CentOS Stream 10 | PASS | +-------------------------------+----------------+ | CentOS Stream 9 | PASS | +-------------------------------+----------------+ | Fedora Linux 40 | PASS | +-------------------------------+----------------+ | Fedora Linux 41 | PASS | +-------------------------------+----------------+ | Red Hat Enterprise Linux 8.10 | PASS | +-------------------------------+----------------+ | Fedora Linux 42 | PASS | +-------------------------------+----------------+ | Ubuntu 24.04 | PASS | +-------------------------------+----------------+ | Red Hat Enterprise Linux 9.5 | PASS | +-------------------------------+----------------+ | Ubuntu 22.04 | PASS | +-------------------------------+----------------+ | Ubuntu 20.04 | PASS | +-------------------------------+----------------+ | Windows Server 2022 | PASS | +-------------------------------+----------------+ Debian GNU/Linux 12 Kernel: 5.15 Compiler: gcc gcc (Debian 12.2.0-14+deb12u1) 12.2.0 CentOS Stream 10 Kernel: 5.15 Compiler: gcc gcc (GCC) 14.2.1 20250110 (Red Hat 14.2.1-8) CentOS Stream 9 Kernel: 5.15 Compiler: gcc gcc (GCC) 11.5.0 20240719 (Red Hat 11.5.0-11) Fedora Linux 40 Kernel: 5.15 Compiler: clang gcc (GCC) 14.2.1 20240912 (Red Hat 14.2.1-3) Fedora Linux 41 Kernel: 5.15 Compiler: gcc gcc (GCC) 14.3.1 20250523 (Red Hat 14.3.1-1) Red Hat Enterprise Linux 8.10 Kernel: 5.15 Compiler: gcc gcc (GCC) 8.5.0 20210514 (Red Hat 8.5.0-22) Fedora Linux 42 Kernel: 5.15 Compiler: clang gcc (GCC) 15.2.1 20250808 (Red Hat 15.2.1-1) Ubuntu 24.04 Kernel: 5.15 Compiler: gcc gcc (Ubuntu 13.3.0-6ubuntu2~24.04) 13.3.0 Red Hat Enterprise Linux 9.5 Kernel: 5.15 Compiler: gcc gcc (GCC) 11.5.0 20240719 (Red Hat 11.5.0-2) Ubuntu 22.04 Kernel: 5.15 Compiler: gcc gcc (Ubuntu 11.4.0-1ubuntu1~22.04) 11.4.0 Ubuntu 20.04 Kernel: 5.15 Compiler: gcc gcc (Ubuntu 9.4.0-1ubuntu1~20.04.2) 9.4.0 Windows Server 2022 Kernel: 10.0.20348.2031 Compiler: clang 15.0.7, gcc 14.1.0 (MinGW), and MSVC VS 19.39.33521 To view detailed results, visit: https://lab.dpdk.org/results/dashboard/patchsets/34336/ UNH-IOL DPDK Community Lab To manage your email subscriptions, visit: https://lab.dpdk.org/results/dashboard/preferences/subscriptions/