From mboxrd@z Thu Jan 1 00:00:00 1970 Return-Path: Received: from mails.dpdk.org (mails.dpdk.org [217.70.189.124]) by inbox.dpdk.org (Postfix) with ESMTP id 878024898E for ; Mon, 20 Oct 2025 21:47:32 +0200 (CEST) Received: from mails.dpdk.org (localhost [127.0.0.1]) by mails.dpdk.org (Postfix) with ESMTP id 60F7140151; Mon, 20 Oct 2025 21:47:32 +0200 (CEST) Received: from mail-pg1-f226.google.com (mail-pg1-f226.google.com [209.85.215.226]) by mails.dpdk.org (Postfix) with ESMTP id CC32540151 for ; Mon, 20 Oct 2025 21:47:30 +0200 (CEST) Received: by mail-pg1-f226.google.com with SMTP id 41be03b00d2f7-b57bffc0248so3312855a12.0 for ; Mon, 20 Oct 2025 12:47:30 -0700 (PDT) DKIM-Signature: v=1; a=rsa-sha256; c=relaxed/relaxed; d=iol.unh.edu; s=unh-iol; t=1760989650; x=1761594450; darn=dpdk.org; h=references:in-reply-to:cc:to:from:subject:message-id:date:from:to :cc:subject:date:message-id:reply-to; bh=cnbGRhFIt9f/IXeXu+sIfO0kOY6Rz2R/JC/aRxrehJY=; b=C3aLXpvzk2Dg8IoAIGt20LQdRwvngQ4ITbETmTqcBX8EwPC/WqQ1Msfc5+wRilL6Pb hYnT+ALd11IW1oOBMoyY+uZc8fAtt85zni0ZBx5rnvHK4+7GGg3+nBPJYjedfLdyjiMx xYxZouM36PbixtZVUvVjERM0RH+P5zhbW1DRU= X-Google-DKIM-Signature: v=1; a=rsa-sha256; c=relaxed/relaxed; d=1e100.net; s=20230601; t=1760989650; x=1761594450; h=references:in-reply-to:cc:to:from:subject:message-id:date :x-gm-message-state:from:to:cc:subject:date:message-id:reply-to; bh=cnbGRhFIt9f/IXeXu+sIfO0kOY6Rz2R/JC/aRxrehJY=; b=bQ48mkGmejmhN2VoeG5Q2H3sSMgNda+RBtrEAI4rZJ+9PLro34GP4f3CJjAHKqyhaX 12TQzYjKuDPKmNBUvrL7syvF8+O+yKd8O7xVgacsFFzxbvgCt1E8KyEwG4RSnplz6GUJ oNKIY0wQn6cZR9uzk/ymS4lZ5g4Z8jW9hnwzAFzscIDPnKwVAooy+RYqE+kGcxRTq93R 1GPkt4oNtE7ZJ8xmilCxbaPYS0597GgK8OwOfFrV9foYzZb9ztI9lsF5iOu9s/O0aF6I jhl7GOYKLIBBxzJPithQG33bL5p04wlaVrOmM6bLU7xbrrrZLY4HZPQsxq4YdvTZRZC0 nuoQ== X-Gm-Message-State: AOJu0YwsRZSBPnVlFN+O4hPSUGwdAaC70xoj4T/6GIRIsnecR0d5kyGT ovRVi6haASMlqxG3rpGXWyfgkTx2YyaZtRQJK+70rPn0TIMKwKwPQYvtQCUFKH7UaGbcoaP8FPu 2yqFPkJ0HnVWcJ8xYNa7wEmfj9dm8+YXeYT7eT8Cw+yHr X-Gm-Gg: ASbGncvuLw1yODEYanZ4q6fwCwlYS+J5j7TxcitVhJW+vwcw8qYzbUmY2M7Yv7tM+Ht C0hODkh+A5yCnnmHfVOPXjkMQcrqvqzImX8S0/pzB73I1K8O/DxG2YHX27FaiEdXr5o2EHrK2il IieTKzUwopzkqJbqwZR6y6VhE5bz+4j+8nV7pVba7YEDAFzm1asJyjb4diJVmXOzDFKjIpld6B2 aQwhTgRRtLazH3dm6u4YokYr0fOPcMTsqMX/LIs5XtYyBw2y7v7VCJuMphC/yGFKDxI6CiAskjH LkvdzmKj7vVRxncv96C2s6MCERF6boU6nx6/BOsPuwroyIjUj9HqzRWOGdTfQ/nlSVIjuYTwf5K PosXLnkF2O1pUVdx4rA4Xbdeb8/eKPWI= X-Google-Smtp-Source: AGHT+IFj/Lk8kjUGuThjAZetCTpcnvAUtdABiMKEq/5dZb55f5UyR187kPOZwvLQu1mL54tAHsOUJ57ldgN9 X-Received: by 2002:a17:902:e808:b0:28d:195a:7d92 with SMTP id d9443c01a7336-290c74021dbmr160955325ad.25.1760989649827; Mon, 20 Oct 2025 12:47:29 -0700 (PDT) Received: from postal.iol.unh.edu (postal.iol.unh.edu. [132.177.123.84]) by smtp-relay.gmail.com with ESMTPS id d9443c01a7336-292471c5cd2sm9990445ad.33.2025.10.20.12.47.29 (version=TLS1_2 cipher=ECDHE-ECDSA-AES128-GCM-SHA256 bits=128/128); Mon, 20 Oct 2025 12:47:29 -0700 (PDT) X-Relaying-Domain: iol.unh.edu Date: Mon, 20 Oct 2025 12:47:29 -0700 (PDT) Message-ID: <68f691d1.170a0220.3b1406.ed77SMTPIN_ADDED_MISSING@mx.google.com> Received: from [172.21.0.2] (unknown [172.18.0.240]) by postal.iol.unh.edu (Postfix) with ESMTP id 214616051830; Mon, 20 Oct 2025 15:47:29 -0400 (EDT) Subject: |SUCCESS| pw157839-157852 [PATCH] [v4,14/14] app/dma-perf: refactor From: dpdklab@iol.unh.edu To: Test Report Cc: dpdk-test-reports@iol.unh.edu In-Reply-To: <20251020041105.1590-15-fengchengwen@huawei.com> References: <20251020041105.1590-15-fengchengwen@huawei.com> Content-Type: text/plain X-BeenThere: test-report@dpdk.org X-Mailman-Version: 2.1.29 Precedence: list List-Id: automatic DPDK test reports List-Unsubscribe: , List-Archive: List-Post: List-Help: List-Subscribe: , Errors-To: test-report-bounces@dpdk.org Test-Label: iol-compile-arm64-testing Test-Status: SUCCESS http://dpdk.org/patch/157852 _Testing PASS_ Submitter: fengchengwen Date: Monday, October 20 2025 04:11:05 DPDK git baseline: Repo:dpdk Branch: master CommitID:f0db0f659a1f4192a4aca7ce2a298f272aa3af8f 157839-157852 --> testing pass Upstream job id: Generic-DPDK-Compile-Meson#436168 Test environment and result as below: +------------------------------+--------------------+ | Environment | dpdk_meson_compile | +==============================+====================+ | Red Hat Enterprise Linux 9.5 | PASS | +------------------------------+--------------------+ | Ubuntu 20.04 | PASS | +------------------------------+--------------------+ | Debian GNU/Linux 12 | PASS | +------------------------------+--------------------+ | Fedora Linux 42 | PASS | +------------------------------+--------------------+ | Ubuntu 22.04 | PASS | +------------------------------+--------------------+ | Ubuntu 24.04 | PASS | +------------------------------+--------------------+ | CentOS Stream 9 | PASS | +------------------------------+--------------------+ | CentOS Stream 10 | PASS | +------------------------------+--------------------+ Red Hat Enterprise Linux 9.5 Kernel: 5.4 Compiler: gcc gcc (GCC) 11.5.0 20240719 (Red Hat 11.5.0-2) Ubuntu 20.04 Kernel: 5.15 Compiler: aarch64-linux-gnu-gcc gcc (Ubuntu 9.4.0-1ubuntu1~20.04.2) 9.4.0 Debian GNU/Linux 12 Kernel: 5.4 Compiler: gcc gcc (Debian 12.2.0-14+deb12u1) 12.2.0 Fedora Linux 42 Kernel: 5.4 Compiler: gcc gcc (GCC) 15.2.1 20250808 (Red Hat 15.2.1-1) Ubuntu 22.04 Kernel: 5.4 Compiler: gcc gcc (Ubuntu 11.4.0-1ubuntu1~22.04) 11.4.0 Ubuntu 24.04 Kernel: 5.4 Compiler: gcc gcc (Ubuntu 13.3.0-6ubuntu2~24.04) 13.3.0 CentOS Stream 9 Kernel: 5.4 Compiler: gcc gcc (GCC) 11.5.0 20240719 (Red Hat 11.5.0-11) CentOS Stream 10 Kernel: 5.4 Compiler: gcc gcc (GCC) 14.2.1 20250110 (Red Hat 14.2.1-8) To view detailed results, visit: https://lab.dpdk.org/results/dashboard/patchsets/34328/ UNH-IOL DPDK Community Lab To manage your email subscriptions, visit: https://lab.dpdk.org/results/dashboard/preferences/subscriptions/