From mboxrd@z Thu Jan 1 00:00:00 1970 Return-Path: Received: from mails.dpdk.org (mails.dpdk.org [217.70.189.124]) by inbox.dpdk.org (Postfix) with ESMTP id 42BEC4898E for ; Mon, 20 Oct 2025 21:56:35 +0200 (CEST) Received: from mails.dpdk.org (localhost [127.0.0.1]) by mails.dpdk.org (Postfix) with ESMTP id 2863940151; Mon, 20 Oct 2025 21:56:35 +0200 (CEST) Received: from mail-ot1-f100.google.com (mail-ot1-f100.google.com [209.85.210.100]) by mails.dpdk.org (Postfix) with ESMTP id E511540151 for ; Mon, 20 Oct 2025 21:56:33 +0200 (CEST) Received: by mail-ot1-f100.google.com with SMTP id 46e09a7af769-7c0e357ab51so3954980a34.2 for ; Mon, 20 Oct 2025 12:56:33 -0700 (PDT) DKIM-Signature: v=1; a=rsa-sha256; c=relaxed/relaxed; d=iol.unh.edu; s=unh-iol; t=1760990193; x=1761594993; darn=dpdk.org; h=references:in-reply-to:cc:to:from:subject:message-id:date:from:to :cc:subject:date:message-id:reply-to; bh=gPIVvfJYQS2WFHkYTRkFQKuArPIoGR7PLWSTUnvCWvM=; b=MFNmmuKsXi4KRpIRUIrpvqBzuu0kRIhMUznOUi0zoVvNPEQXTS73rVSV/UiDG97MqI aDhAEKN1Sb3rU+4TrnPkKDAlI9qJJk2wtY6iipxHl+b7jcv1S0+ptZtnJQcDssOfhtb8 alhRkLE7eVgHuuJEoIzOzSunekN4cGeQZQVRM= X-Google-DKIM-Signature: v=1; a=rsa-sha256; c=relaxed/relaxed; d=1e100.net; s=20230601; t=1760990193; x=1761594993; h=references:in-reply-to:cc:to:from:subject:message-id:date :x-gm-message-state:from:to:cc:subject:date:message-id:reply-to; bh=gPIVvfJYQS2WFHkYTRkFQKuArPIoGR7PLWSTUnvCWvM=; b=bu1gyzRps2V8uEmnU7WNe84pETsacrqV5HhqkYrOhSTWCf+Fq+68/QHieOq5rtV7bl BTEDaEBR6UFuwDesiTfsP6iHgGgbGnSOx8wGGXYvo/ZvycvGaGGujXLKgeAkliVTX0Xn pFrJdt6ZeGv7M7eXnb/RIpOdfhP7hq+Y+qjJOhQkf7pGDPQXB2Tpoc61AmpuQjQ+ulu/ Lo2af217S+/IbzdLY7HbIDIUIfiJoV7dBy2GVVum7j6PBHXm7l9twtiIVAfmiy3eKblr yK1Njp9UWLQ2hvueb0w9kKWqCvTPv3p/1fvc68XiqqkaaUYLxN+IwZ24jadilMcNlKQu aoVg== X-Gm-Message-State: AOJu0YwwFsC+HDfsR0GRPpMoeXFCE0iZkMg4LF2/tGgllQAThzkXAwKk 6QKtGKFkBM7IZRV5t8/F8JdUjTyZqsQcTvJKeqTyayUnM/NRBN75q1y17P30sw/Bek49EOdnbAc D0i1p+D+PJiokCruSK3y1LZuxumygO+FENCfQ8akDbqEc X-Gm-Gg: ASbGncvXCE37vh3PK60v5wdc5W+IwpvF4LuHms0fthAZrNDthhF2d+Jzr9ofp5Q4ex0 HTbLciKm7RUFst0GVHUiebyyP4w4yEQOH+T1Vfhus+fSty4iYSscuCT47fkwmAiv/HhdEv//MKY P8GtEsLqmmnY495Bw7y7LYz9VGYBgnIjQ6pVSyCbi8MMcXAsmJofgjiAoeCbzTkiMu5+8B5FU4d RdTjRY9KS74RTKgUTCnTd+Vc9co09LpgOd8ST/sZplAcdCXhB1pUgt+5+mQDLxXJVG7b+u1gjBK gBmVR9CsVdM9z0leEyutngdBebpTj0b62vvBfBo4Pa4bWtC/FXR7E7qaK6KNQWL5osyYeC/Wp1G 8rlGmDHRMXYxzUXJtxIqVxecovyHmaRs= X-Google-Smtp-Source: AGHT+IG6pJh7U0tQNs7zZEXAGnleiR1/Z/2jjXxwXCQHnIpzyKCTSUlcaBtXDlwiMupqrJg4Zsazat5sPml/ X-Received: by 2002:a05:6830:6734:b0:7a2:f21c:ca8f with SMTP id 46e09a7af769-7c27ca5b45amr9254565a34.13.1760990192948; Mon, 20 Oct 2025 12:56:32 -0700 (PDT) Received: from postal.iol.unh.edu (postal.iol.unh.edu. [132.177.123.84]) by smtp-relay.gmail.com with ESMTPS id 46e09a7af769-7c2888b1d14sm1324270a34.8.2025.10.20.12.56.32 (version=TLS1_2 cipher=ECDHE-ECDSA-AES128-GCM-SHA256 bits=128/128); Mon, 20 Oct 2025 12:56:32 -0700 (PDT) X-Relaying-Domain: iol.unh.edu Date: Mon, 20 Oct 2025 12:56:32 -0700 (PDT) Message-ID: <68f693f0.050a0220.12a218.ac84SMTPIN_ADDED_MISSING@mx.google.com> Received: from [172.21.0.2] (unknown [172.18.0.240]) by postal.iol.unh.edu (Postfix) with ESMTP id DC1A86051830; Mon, 20 Oct 2025 15:56:31 -0400 (EDT) Subject: |WARNING| pw157858 [PATCH] devtools/test-meson-builds: reduce output From: dpdklab@iol.unh.edu To: Test Report Cc: dpdk-test-reports@iol.unh.edu In-Reply-To: <20251020155536.1965938-1-bruce.richardson@intel.com> References: <20251020155536.1965938-1-bruce.richardson@intel.com> Content-Type: text/plain X-BeenThere: test-report@dpdk.org X-Mailman-Version: 2.1.29 Precedence: list List-Id: automatic DPDK test reports List-Unsubscribe: , List-Archive: List-Post: List-Help: List-Subscribe: , Errors-To: test-report-bounces@dpdk.org Test-Label: iol-compile-amd64-testing Test-Status: WARNING http://dpdk.org/patch/157858 _Testing issues_ Submitter: Bruce Richardson Date: Monday, October 20 2025 15:55:36 DPDK git baseline: Repo:dpdk Branch: master CommitID:0a3410709d0d35c4914e468f2606c69b615d48e7 157858 --> testing issues Upstream job id: Generic-DPDK-Compile-Meson#436308 Test environment and result as below: +---------------------+--------------------+-------------------+-------------------------+----------------------+-------------------+ | Environment | dpdk_meson_compile | dpdk_msvc_compile | dpdk_llvm_clang_compile | dpdk_mingw64_compile | dpdk_compile_spdk | +=====================+====================+===================+=========================+======================+===================+ | Ubuntu 20.04 | PASS | SKIPPED | SKIPPED | SKIPPED | SKIPPED | +---------------------+--------------------+-------------------+-------------------------+----------------------+-------------------+ | FreeBSD 14.2 | PASS | SKIPPED | SKIPPED | SKIPPED | SKIPPED | +---------------------+--------------------+-------------------+-------------------------+----------------------+-------------------+ | CentOS Stream 9 | PEND | SKIPPED | SKIPPED | SKIPPED | PEND | +---------------------+--------------------+-------------------+-------------------------+----------------------+-------------------+ | CentOS Stream 10 | PASS | SKIPPED | SKIPPED | SKIPPED | SKIPPED | +---------------------+--------------------+-------------------+-------------------------+----------------------+-------------------+ | Debian GNU/Linux 12 | PASS | SKIPPED | SKIPPED | SKIPPED | WARN | +---------------------+--------------------+-------------------+-------------------------+----------------------+-------------------+ | Windows Server 2022 | SKIPPED | PASS | PASS | PASS | SKIPPED | +---------------------+--------------------+-------------------+-------------------------+----------------------+-------------------+ ==== 20 line log output for Debian GNU/Linux 12 (dpdk_compile_spdk): ==== --- Failed to get log output --- ==== End log output ==== Ubuntu 20.04 Kernel: 4.19 Compiler: gcc gcc (Ubuntu 9.4.0-1ubuntu1~20.04.2) 9.4.0 FreeBSD 14.2 Kernel: 14.2-RELEASE Compiler: clang 18.1.6 CentOS Stream 9 Kernel: 5.15 Compiler: gcc gcc (GCC) 11.5.0 20240719 (Red Hat 11.5.0-11) CentOS Stream 10 Kernel: 5.15 Compiler: gcc gcc (GCC) 14.2.1 20250110 (Red Hat 14.2.1-8) Debian GNU/Linux 12 Kernel: 5.15 Compiler: gcc gcc (Debian 12.2.0-14+deb12u1) 12.2.0 Windows Server 2022 Kernel: 10.0.20348.2031 Compiler: clang 15.0.7, gcc 14.1.0 (MinGW), and MSVC VS 19.39.33521 To view detailed results, visit: https://lab.dpdk.org/results/dashboard/patchsets/34333/ UNH-IOL DPDK Community Lab To manage your email subscriptions, visit: https://lab.dpdk.org/results/dashboard/preferences/subscriptions/