From mboxrd@z Thu Jan 1 00:00:00 1970 Return-Path: Received: from mails.dpdk.org (mails.dpdk.org [217.70.189.124]) by inbox.dpdk.org (Postfix) with ESMTP id 5576D4898E for ; Mon, 20 Oct 2025 21:57:40 +0200 (CEST) Received: from mails.dpdk.org (localhost [127.0.0.1]) by mails.dpdk.org (Postfix) with ESMTP id 4E8DD40151; Mon, 20 Oct 2025 21:57:40 +0200 (CEST) Received: from mail-pl1-f225.google.com (mail-pl1-f225.google.com [209.85.214.225]) by mails.dpdk.org (Postfix) with ESMTP id 810B840151 for ; Mon, 20 Oct 2025 21:57:38 +0200 (CEST) Received: by mail-pl1-f225.google.com with SMTP id d9443c01a7336-29226bc4bafso30358875ad.0 for ; Mon, 20 Oct 2025 12:57:38 -0700 (PDT) DKIM-Signature: v=1; a=rsa-sha256; c=relaxed/relaxed; d=iol.unh.edu; s=unh-iol; t=1760990257; x=1761595057; darn=dpdk.org; h=references:in-reply-to:cc:to:from:subject:message-id:date:from:to :cc:subject:date:message-id:reply-to; bh=fYCKRQwkWfRD6iMVjxcLpdaJb3/HLVoBI2uCGndnVtU=; b=glHwcIyXLME0RMpVZ45DmxoO2kC4LOaMCEJbRnHTUnK6sQ0dXaiAdBuLRvhV8HaPpw ENk8PkQJN6hx0Vb+f1HiUPLJ9W4O9pZdttUE+b+bCIsgBZp16HSTYKLi7eJqeIx8bs6N JZIswZAWlQKdZYwWA+dzG4CAp1O485gR9sBRc= X-Google-DKIM-Signature: v=1; a=rsa-sha256; c=relaxed/relaxed; d=1e100.net; s=20230601; t=1760990257; x=1761595057; h=references:in-reply-to:cc:to:from:subject:message-id:date :x-gm-message-state:from:to:cc:subject:date:message-id:reply-to; bh=fYCKRQwkWfRD6iMVjxcLpdaJb3/HLVoBI2uCGndnVtU=; b=El/KM58K74I7DQ1CJOCerEaRS3XYuQ/hmyAwtPkvlrZz/C1qotx5mPdVJlqumhY7Fa L4ZPeohk1HmxLVxL0duRvbh4j51vhwCHr7xkpLsOZpc+T0buk4hs3ntSif2aaS9e1IeX vf/ySNNzUinn4r+2HEZ0/0148m+TVv1zlSyC5a5M1YVgOA8qn64Dby122/yeT1dbdKjm IcUNFg6gt4ecSkp0YQ0GvVxgu7gf6nzNFop91YymYRpzthUbkbQ38Hyw7UT5hiwGWdvW EY4R1BIHJwxlK5YcOEacBtRBynAc93a+/ExiEX8eQR9pujpsB/+5ABvHN2i84mIsE4Ll nMTw== X-Gm-Message-State: AOJu0Yzd2qDYcRatk/8ifWwlaPeeHkJ0tDel4K/GU/lh4LCvrSwuVKYi rdhQVHYEovgw7KTDOAcjt5dMHw7j66XVeOb2cBSY/c2GrgVkoNaEMtsIbRORGDMRl0IhQmiAqcr xwTuOevv8rm3Ast+t6XYBbWU8ejYet0Ap+fE7043bNlz7wi5sjzmbDkSxhb9B X-Gm-Gg: ASbGncvme3ukw5AzKGOTwdPzoS8IwEFJ20NouKbNEqqgwZ/I6YPTD/+Piiw0xHETcGm tXGQxFOCu6skv1Q+5AUuI0nKzFeU+qB8/WeUItgdSf/K+HpkyP/+3Z5u9cm2bQO825080eDvj+r 3Et0aZ1Upi3ZfsgDmFmqIepOjRspx0iHrh5gewbpiP7YLsmTat7GbN/KrFhKL5i0Nl1VK0d6Vxa KRqoaaDDEqUIZH5TVev1WKzWBITtngH4IV3zd3kdd+CkZR34JdEwRFZJDaKVT9Co/2HqKl+TJC5 NUFE4QFzzrOkGDDgC3JjC7Okgx2iPnhd+pukqk71YzjH6SRaw9h606IPJYfFs2lgTe4LKbEGNVu 3YETKA088 X-Google-Smtp-Source: AGHT+IHRHo+BRLfkI2ahfAbqIYro/EL6cYiNDa8lLwPxxVGLVzUYxLwpUNRki2XFzQNoO4uC7yCf284osMme X-Received: by 2002:a17:902:cf42:b0:269:ed31:6c50 with SMTP id d9443c01a7336-290c9c896b0mr163662345ad.10.1760990257589; Mon, 20 Oct 2025 12:57:37 -0700 (PDT) Received: from postal.iol.unh.edu (postal.iol.unh.edu. [2606:4100:3880:1234::84]) by smtp-relay.gmail.com with ESMTPS id d9443c01a7336-292471c6830sm10960855ad.37.2025.10.20.12.57.37 (version=TLS1_2 cipher=ECDHE-ECDSA-AES128-GCM-SHA256 bits=128/128); Mon, 20 Oct 2025 12:57:37 -0700 (PDT) X-Relaying-Domain: iol.unh.edu Date: Mon, 20 Oct 2025 12:57:37 -0700 (PDT) Message-ID: <68f69431.170a0220.3a54b7.3040SMTPIN_ADDED_MISSING@mx.google.com> Received: from [172.21.0.2] (unknown [172.18.0.240]) by postal.iol.unh.edu (Postfix) with ESMTP id 1EA89604D420; Mon, 20 Oct 2025 15:57:37 -0400 (EDT) Subject: |WARNING| pw157858 [PATCH] devtools/test-meson-builds: reduce output From: dpdklab@iol.unh.edu To: Test Report Cc: dpdk-test-reports@iol.unh.edu In-Reply-To: <20251020155536.1965938-1-bruce.richardson@intel.com> References: <20251020155536.1965938-1-bruce.richardson@intel.com> Content-Type: text/plain X-BeenThere: test-report@dpdk.org X-Mailman-Version: 2.1.29 Precedence: list List-Id: automatic DPDK test reports List-Unsubscribe: , List-Archive: List-Post: List-Help: List-Subscribe: , Errors-To: test-report-bounces@dpdk.org Test-Label: iol-compile-amd64-testing Test-Status: WARNING http://dpdk.org/patch/157858 _Testing issues_ Submitter: Bruce Richardson Date: Monday, October 20 2025 15:55:36 DPDK git baseline: Repo:dpdk Branch: master CommitID:0a3410709d0d35c4914e468f2606c69b615d48e7 157858 --> testing issues Upstream job id: Generic-DPDK-Compile-Meson#436306 Test environment and result as below: +---------------------+--------------------+-------------------+-------------------------+----------------------+-------------------+ | Environment | dpdk_meson_compile | dpdk_msvc_compile | dpdk_llvm_clang_compile | dpdk_mingw64_compile | dpdk_compile_spdk | +=====================+====================+===================+=========================+======================+===================+ | Ubuntu 20.04 | PASS | SKIPPED | SKIPPED | SKIPPED | SKIPPED | +---------------------+--------------------+-------------------+-------------------------+----------------------+-------------------+ | FreeBSD 14.2 | PASS | SKIPPED | SKIPPED | SKIPPED | SKIPPED | +---------------------+--------------------+-------------------+-------------------------+----------------------+-------------------+ | CentOS Stream 9 | PASS | SKIPPED | SKIPPED | SKIPPED | WARN | +---------------------+--------------------+-------------------+-------------------------+----------------------+-------------------+ | CentOS Stream 10 | PASS | SKIPPED | SKIPPED | SKIPPED | SKIPPED | +---------------------+--------------------+-------------------+-------------------------+----------------------+-------------------+ | Debian GNU/Linux 12 | PASS | SKIPPED | SKIPPED | SKIPPED | WARN | +---------------------+--------------------+-------------------+-------------------------+----------------------+-------------------+ | Windows Server 2022 | SKIPPED | PASS | PASS | PASS | SKIPPED | +---------------------+--------------------+-------------------+-------------------------+----------------------+-------------------+ ==== 20 line log output for Debian GNU/Linux 12 (dpdk_compile_spdk): ==== --- Failed to get log output --- ==== End log output ==== Ubuntu 20.04 Kernel: 4.19 Compiler: gcc gcc (Ubuntu 9.4.0-1ubuntu1~20.04.2) 9.4.0 FreeBSD 14.2 Kernel: 14.2-RELEASE Compiler: clang 18.1.6 CentOS Stream 9 Kernel: 5.15 Compiler: gcc gcc (GCC) 11.5.0 20240719 (Red Hat 11.5.0-11) CentOS Stream 10 Kernel: 5.15 Compiler: gcc gcc (GCC) 14.2.1 20250110 (Red Hat 14.2.1-8) Debian GNU/Linux 12 Kernel: 5.15 Compiler: gcc gcc (Debian 12.2.0-14+deb12u1) 12.2.0 Windows Server 2022 Kernel: 10.0.20348.2031 Compiler: clang 15.0.7, gcc 14.1.0 (MinGW), and MSVC VS 19.39.33521 To view detailed results, visit: https://lab.dpdk.org/results/dashboard/patchsets/34333/ UNH-IOL DPDK Community Lab To manage your email subscriptions, visit: https://lab.dpdk.org/results/dashboard/preferences/subscriptions/