From mboxrd@z Thu Jan 1 00:00:00 1970 Return-Path: Received: from mails.dpdk.org (mails.dpdk.org [217.70.189.124]) by inbox.dpdk.org (Postfix) with ESMTP id E1EA64898F for ; Mon, 20 Oct 2025 22:38:40 +0200 (CEST) Received: from mails.dpdk.org (localhost [127.0.0.1]) by mails.dpdk.org (Postfix) with ESMTP id DC3DE40262; Mon, 20 Oct 2025 22:38:40 +0200 (CEST) Received: from mail-il1-f225.google.com (mail-il1-f225.google.com [209.85.166.225]) by mails.dpdk.org (Postfix) with ESMTP id 809EA40262 for ; Mon, 20 Oct 2025 22:38:39 +0200 (CEST) Received: by mail-il1-f225.google.com with SMTP id e9e14a558f8ab-430d7638d27so18979495ab.3 for ; Mon, 20 Oct 2025 13:38:39 -0700 (PDT) DKIM-Signature: v=1; a=rsa-sha256; c=relaxed/relaxed; d=iol.unh.edu; s=unh-iol; t=1760992719; x=1761597519; darn=dpdk.org; h=references:in-reply-to:cc:to:from:subject:message-id:date:from:to :cc:subject:date:message-id:reply-to; bh=GwchkQWmRzYlxClNzw+x1ZF3pEUP35AoJzsI5insyQc=; b=D+YVUYMmVN17DVWri1/ypvfgn1ky1vok5KhPvjql8n7yh4KV/KG9rik6HaxV/KTkEU 22/fPGd3wfcd70xG38Xi7ZHZhPfZHdNJsmWfVKU/j6sWCQwLkpvNzRY5P4h+gfd91T4n 66J7Ao/8i3zjwuWwOXPR7RD8pWSSiGX8iM02Q= X-Google-DKIM-Signature: v=1; a=rsa-sha256; c=relaxed/relaxed; d=1e100.net; s=20230601; t=1760992719; x=1761597519; h=references:in-reply-to:cc:to:from:subject:message-id:date :x-gm-message-state:from:to:cc:subject:date:message-id:reply-to; bh=GwchkQWmRzYlxClNzw+x1ZF3pEUP35AoJzsI5insyQc=; b=uJu7HGTeZz2G5Pt6SAdowomQVj06z0/CTFy8ELkmDUSyEeOpluYF6g9iA06uGuBWU/ CSirm+h0PW9WRPjzhyeRS2nunuo3LHUmkMOu/xbQqcGJcpucYsXR7FW3TsEz7fbsFS9l geAU5MzlqTY/kB4A0mTQRVVy3y1RxQsXLp1mINJob2mSrZZFMIAXWdBiifz0TyI3XclW DN7gF9orbo6m0+r3lMNkzpTtvICVKrD3VYAo76DX5sFVADniAhn2ARNL7T/8pw6Glwdy 3Lwr/Sc3/AJa1tCpHdhgdEust73GV82TUmWNgbIyf6uJh7bCcvnqjLJHsNdzEBfeHs4K gEUQ== X-Gm-Message-State: AOJu0YyoymWAwA91cLyp9oLXtgggWbnKS5UoaSZmEz8ZPkRw/nDgKnDb 6hMu/R+7F3wKr81jPFxPZa4lFGIX3nXDtxYjNEP7xxhHNrHA2LyL62HvtYF3uSOEBEpZcN0U/Mc tYXIDjZ9LD/smROPtU+HEZi2rfEKjflOTwb5UdZ4zG08f X-Gm-Gg: ASbGncsNclTIkG/hgtodHOSIgUehqoz2VXEZA5/A42/DCLVzcCFYfaDDU3K7z/gAMha 2KijEX3Jle1+42uUnF0J1Q0f38qO/9bJElugEimr55yL17hNCDf33fBz/oPcyZsXxK1UxYZL7uo nUnkH1izKxhi+FzXhb8mMZDMBZ3FoJWjmQv3jwedXz6UYD+WD4uCO5liHK1xuIVXbmThK8LUzCq tMVmIuk2NVDsTNTLRbkjvIpSwHbuhR3X8AP46kYRymctHK6DXMxQuFdZeY6sUZcR3CLhGmTFZiN W3Zp1Vw1Y5eYM2OCS3BpKtNDklLt/GiEKVE4fCsQZaZhr2j9jvex60ikUiHwJI0E4FdSQrahCNr 3FA21E7+jg+iR9+PNz8UvoCd7oQMZo0I= X-Google-Smtp-Source: AGHT+IHsAG9ByumsoLQa8sMPY2t4XmaRo190Rd3wwyoKrVr9kCxDLqak84eDldGjUsyfz9tGhl8FUhNnJX0j X-Received: by 2002:a05:6e02:180f:b0:430:b290:b6c5 with SMTP id e9e14a558f8ab-430c52cd00fmr222922805ab.30.1760992718734; Mon, 20 Oct 2025 13:38:38 -0700 (PDT) Received: from postal.iol.unh.edu (postal.iol.unh.edu. [132.177.123.84]) by smtp-relay.gmail.com with ESMTPS id 8926c6da1cb9f-5a8a9656e73sm1069454173.19.2025.10.20.13.38.38 (version=TLS1_2 cipher=ECDHE-ECDSA-AES128-GCM-SHA256 bits=128/128); Mon, 20 Oct 2025 13:38:38 -0700 (PDT) X-Relaying-Domain: iol.unh.edu Date: Mon, 20 Oct 2025 13:38:38 -0700 (PDT) Message-ID: <68f69dce.050a0220.18ca36.1c72SMTPIN_ADDED_MISSING@mx.google.com> Received: from [172.21.0.2] (unknown [172.18.0.240]) by postal.iol.unh.edu (Postfix) with ESMTP id 628CD604D420; Mon, 20 Oct 2025 16:38:38 -0400 (EDT) Subject: |WARNING| pw157858 [PATCH] devtools/test-meson-builds: reduce output From: dpdklab@iol.unh.edu To: Test Report Cc: dpdk-test-reports@iol.unh.edu In-Reply-To: <20251020155536.1965938-1-bruce.richardson@intel.com> References: <20251020155536.1965938-1-bruce.richardson@intel.com> Content-Type: text/plain X-BeenThere: test-report@dpdk.org X-Mailman-Version: 2.1.29 Precedence: list List-Id: automatic DPDK test reports List-Unsubscribe: , List-Archive: List-Post: List-Help: List-Subscribe: , Errors-To: test-report-bounces@dpdk.org Test-Label: iol-compile-amd64-testing Test-Status: WARNING http://dpdk.org/patch/157858 _Testing issues_ Submitter: Bruce Richardson Date: Monday, October 20 2025 15:55:36 DPDK git baseline: Repo:dpdk Branch: master CommitID:0a3410709d0d35c4914e468f2606c69b615d48e7 157858 --> testing issues Upstream job id: Generic-DPDK-Compile-Meson#436311 Test environment and result as below: +-------------------------------+--------------------+-------------------+-------------------------+----------------------+-------------------+------------------+ | Environment | dpdk_meson_compile | dpdk_msvc_compile | dpdk_llvm_clang_compile | dpdk_mingw64_compile | dpdk_compile_spdk | dpdk_compile_ovs | +===============================+====================+===================+=========================+======================+===================+==================+ | Ubuntu 20.04 | PASS | SKIPPED | SKIPPED | SKIPPED | SKIPPED | SKIPPED | +-------------------------------+--------------------+-------------------+-------------------------+----------------------+-------------------+------------------+ | FreeBSD 14.2 | PASS | SKIPPED | SKIPPED | SKIPPED | SKIPPED | SKIPPED | +-------------------------------+--------------------+-------------------+-------------------------+----------------------+-------------------+------------------+ | CentOS Stream 9 | PASS | SKIPPED | SKIPPED | SKIPPED | WARN | SKIPPED | +-------------------------------+--------------------+-------------------+-------------------------+----------------------+-------------------+------------------+ | CentOS Stream 10 | PASS | SKIPPED | SKIPPED | SKIPPED | SKIPPED | SKIPPED | +-------------------------------+--------------------+-------------------+-------------------------+----------------------+-------------------+------------------+ | Debian GNU/Linux 12 | PASS | SKIPPED | SKIPPED | SKIPPED | WARN | SKIPPED | +-------------------------------+--------------------+-------------------+-------------------------+----------------------+-------------------+------------------+ | Fedora Linux 42 | PASS | SKIPPED | SKIPPED | SKIPPED | WARN | PASS | +-------------------------------+--------------------+-------------------+-------------------------+----------------------+-------------------+------------------+ | openSUSE Leap 15.6 | PASS | SKIPPED | SKIPPED | SKIPPED | SKIPPED | SKIPPED | +-------------------------------+--------------------+-------------------+-------------------------+----------------------+-------------------+------------------+ | Red Hat Enterprise Linux 8.10 | PASS | SKIPPED | SKIPPED | SKIPPED | SKIPPED | SKIPPED | +-------------------------------+--------------------+-------------------+-------------------------+----------------------+-------------------+------------------+ | Red Hat Enterprise Linux 9.5 | PASS | SKIPPED | SKIPPED | SKIPPED | SKIPPED | SKIPPED | +-------------------------------+--------------------+-------------------+-------------------------+----------------------+-------------------+------------------+ | Ubuntu 22.04 | PASS | SKIPPED | SKIPPED | SKIPPED | WARN | SKIPPED | +-------------------------------+--------------------+-------------------+-------------------------+----------------------+-------------------+------------------+ | Ubuntu 24.04 | PASS | SKIPPED | SKIPPED | SKIPPED | WARN | PASS | +-------------------------------+--------------------+-------------------+-------------------------+----------------------+-------------------+------------------+ | Alpine Linux 3.22.0 | PASS | SKIPPED | SKIPPED | SKIPPED | SKIPPED | SKIPPED | +-------------------------------+--------------------+-------------------+-------------------------+----------------------+-------------------+------------------+ | Windows Server 2022 | SKIPPED | PASS | PASS | PASS | SKIPPED | SKIPPED | +-------------------------------+--------------------+-------------------+-------------------------+----------------------+-------------------+------------------+ ==== 20 line log output for Ubuntu 24.04 (dpdk_compile_spdk): ==== --- Failed to get log output --- ==== End log output ==== Ubuntu 20.04 Kernel: 4.19 Compiler: gcc gcc (Ubuntu 9.4.0-1ubuntu1~20.04.2) 9.4.0 FreeBSD 14.2 Kernel: 14.2-RELEASE Compiler: clang 18.1.6 CentOS Stream 9 Kernel: 5.15 Compiler: gcc gcc (GCC) 11.5.0 20240719 (Red Hat 11.5.0-11) CentOS Stream 10 Kernel: 5.15 Compiler: gcc gcc (GCC) 14.2.1 20250110 (Red Hat 14.2.1-8) Debian GNU/Linux 12 Kernel: 5.15 Compiler: gcc gcc (Debian 12.2.0-14+deb12u1) 12.2.0 Fedora Linux 42 Kernel: 5.15 Compiler: clang gcc (GCC) 15.2.1 20250808 (Red Hat 15.2.1-1) openSUSE Leap 15.6 Kernel: 5.15 Compiler: gcc gcc (SUSE Linux) 7.5.0 Red Hat Enterprise Linux 8.10 Kernel: 5.15 Compiler: gcc gcc (GCC) 8.5.0 20210514 (Red Hat 8.5.0-22) Red Hat Enterprise Linux 9.5 Kernel: 5.15 Compiler: gcc gcc (GCC) 11.5.0 20240719 (Red Hat 11.5.0-2) Ubuntu 22.04 Kernel: 5.15 Compiler: gcc gcc (Ubuntu 11.4.0-1ubuntu1~22.04) 11.4.0 Ubuntu 24.04 Kernel: 5.15 Compiler: gcc gcc (Ubuntu 13.3.0-6ubuntu2~24.04) 13.3.0 Alpine Linux 3.22.0 Kernel: 5.15 Compiler: gcc gcc (Alpine 14.2.0) 14.2.0 Windows Server 2022 Kernel: 10.0.20348.2031 Compiler: clang 15.0.7, gcc 14.1.0 (MinGW), and MSVC VS 19.39.33521 To view detailed results, visit: https://lab.dpdk.org/results/dashboard/patchsets/34333/ UNH-IOL DPDK Community Lab To manage your email subscriptions, visit: https://lab.dpdk.org/results/dashboard/preferences/subscriptions/