From mboxrd@z Thu Jan 1 00:00:00 1970 Return-Path: Received: from mails.dpdk.org (mails.dpdk.org [217.70.189.124]) by inbox.dpdk.org (Postfix) with ESMTP id 693D44898F for ; Mon, 20 Oct 2025 22:43:05 +0200 (CEST) Received: from mails.dpdk.org (localhost [127.0.0.1]) by mails.dpdk.org (Postfix) with ESMTP id 44F1040262; Mon, 20 Oct 2025 22:43:05 +0200 (CEST) Received: from mail-pg1-f228.google.com (mail-pg1-f228.google.com [209.85.215.228]) by mails.dpdk.org (Postfix) with ESMTP id EB60A40262 for ; Mon, 20 Oct 2025 22:43:03 +0200 (CEST) Received: by mail-pg1-f228.google.com with SMTP id 41be03b00d2f7-b4755f37c3eso4018578a12.3 for ; Mon, 20 Oct 2025 13:43:03 -0700 (PDT) DKIM-Signature: v=1; a=rsa-sha256; c=relaxed/relaxed; d=iol.unh.edu; s=unh-iol; t=1760992983; x=1761597783; darn=dpdk.org; h=references:in-reply-to:cc:to:from:subject:message-id:date:from:to :cc:subject:date:message-id:reply-to; bh=9N0nZQT/OEUEZ027qlVDp/INgqZWR01clxHxC/Py+sk=; b=g4tedU/tdrGEEbccrFzzfSRbLpcIbF3AdwBxjiM80TXXgw5oYVzyjOGXIgkExgVbUp 6e8fIXqwb+TcX6lowFconK3xZdjqU4OJLte/eAg7p9mr0FoN1RDqcvkyYcBUuEV3bu9m PU8i8mBMvlixChCO6DalyhD6uCU23FuTCy6VI= X-Google-DKIM-Signature: v=1; a=rsa-sha256; c=relaxed/relaxed; d=1e100.net; s=20230601; t=1760992983; x=1761597783; h=references:in-reply-to:cc:to:from:subject:message-id:date :x-gm-message-state:from:to:cc:subject:date:message-id:reply-to; bh=9N0nZQT/OEUEZ027qlVDp/INgqZWR01clxHxC/Py+sk=; b=QltsDtDP0+VQdJPPp/eq7nVJyNa2R+JMdRmpT+a4H7JtKymV4kF+52Gu/5y02j22NA 6t3n+pBeqWEMnbW2LLHhIfr9bAyHDWs9paJcSHT0T3o7/e+mTvMdx0rtbFFP/qfGpIR0 M1EFT0r9q99HeX8LhcFiAg+PspENf9V5cT+RSmJOA11o/JcRnQXrmcDJatn+dfboSbW0 NhfeGR9jZqvvelRWgYqsjDbBCtGmUi3nDYsGgFYX8k7dGzLsONqWpT8pblsQu3Jzma0j N5qYGrQpcmsa3d6eO91+/PcITt71gH/9DBX6JYPSv7YfGn0EvPszQAz2cSDJIo5Ey0Mo A7bA== X-Gm-Message-State: AOJu0YyyOkbHmHgfwuSK6ypGP0V72ULXIREuLkrDGVy4hAmgPiIqY0y6 pff0Vge0wcU7E2/tQ5yGoJBB4aczGb8vHPdHdd1IxrTpcRZRBgclKC/9Sw6JjEgvN31gX6SwFS9 iLOLzIWtYujtaSd4oMJpwRwlWiKmZmbk8F4o+g9GKA8KR+7Zlq9NGd1LX9nru X-Gm-Gg: ASbGnct7NLWJMGTWHb9NrnaaXWzeP4Zvuct93uVYY43HmKYzTQ8oUJa42icDbbAMKne I0lV1Ml13bw1wPif+TmNd9VszwZkK9vHqqGVrmLbYlVI9Ssu7ZgdxdFrOcsdVRQm3Dh3lYqLWDm KMOMDuQ9VBIqYvn3H19+E92pxNhRRg89agudBdK1NZ6NHNLEkuq8ZlGRjeIsADKWHmar1jQI1K9 EJ4c2g/KVK1+R+RKEOhYESlc/K2FdHvwxs2xUE5xY/NMB6KcTUsy3c6ckb0RKC9U7zBgvDFw1qz Dyp4QxDi7XQAvp1yQ332jQ4+F70YacxT3lGF2CfA5bfCA5X6YOwyqxZWekW2ZugGrVpdMCVT220 monn22BFZ X-Google-Smtp-Source: AGHT+IFXTbqFUUEmif50mlyzP8O4RqCKKYqAFQfbIy6WObxXnXC7LJairjQMtzBGvtTrUq2RHX0HQT/v1cEu X-Received: by 2002:a17:902:da90:b0:258:9d26:1860 with SMTP id d9443c01a7336-290cb27ec6emr202759185ad.40.1760992983043; Mon, 20 Oct 2025 13:43:03 -0700 (PDT) Received: from postal.iol.unh.edu (postal.iol.unh.edu. [2606:4100:3880:1234::84]) by smtp-relay.gmail.com with ESMTPS id d9443c01a7336-29246fe9e92sm11117315ad.5.2025.10.20.13.43.02 (version=TLS1_2 cipher=ECDHE-ECDSA-AES128-GCM-SHA256 bits=128/128); Mon, 20 Oct 2025 13:43:03 -0700 (PDT) X-Relaying-Domain: iol.unh.edu Date: Mon, 20 Oct 2025 13:43:03 -0700 (PDT) Message-ID: <68f69ed7.170a0220.37f711.345dSMTPIN_ADDED_MISSING@mx.google.com> Received: from [172.21.0.2] (unknown [172.18.0.240]) by postal.iol.unh.edu (Postfix) with ESMTP id 8063E604D420; Mon, 20 Oct 2025 16:43:02 -0400 (EDT) Subject: |SUCCESS| pw157853 [PATCH] [v2] mbuf: optimize segment prefree From: dpdklab@iol.unh.edu To: Test Report Cc: dpdk-test-reports@iol.unh.edu In-Reply-To: <20251020120202.80114-1-mb@smartsharesystems.com> References: <20251020120202.80114-1-mb@smartsharesystems.com> Content-Type: text/plain X-BeenThere: test-report@dpdk.org X-Mailman-Version: 2.1.29 Precedence: list List-Id: automatic DPDK test reports List-Unsubscribe: , List-Archive: List-Post: List-Help: List-Subscribe: , Errors-To: test-report-bounces@dpdk.org Test-Label: iol-unit-arm64-testing Test-Status: SUCCESS http://dpdk.org/patch/157853 _Testing PASS_ Submitter: Morten Brorup Date: Monday, October 20 2025 12:02:01 DPDK git baseline: Repo:dpdk Branch: master CommitID:3e19094cb697998972e7f89bdd3ab08ea457ae1f 157853 --> testing pass Upstream job id: Generic-Unit-Test-DPDK#383573 Test environment and result as below: +------------------------------+----------------+--------------+------------------------------+---------------------------+ | Environment | dpdk_unit_test | lpm_autotest | cryptodev_sw_snow3g_autotest | cryptodev_sw_zuc_autotest | +==============================+================+==============+==============================+===========================+ | Fedora Linux 41 | PASS | SKIPPED | SKIPPED | SKIPPED | +------------------------------+----------------+--------------+------------------------------+---------------------------+ | Red Hat Enterprise Linux 9.5 | PASS | SKIPPED | SKIPPED | SKIPPED | +------------------------------+----------------+--------------+------------------------------+---------------------------+ | CentOS Stream 10 | PASS | SKIPPED | SKIPPED | SKIPPED | +------------------------------+----------------+--------------+------------------------------+---------------------------+ | CentOS Stream 9 | PASS | SKIPPED | SKIPPED | SKIPPED | +------------------------------+----------------+--------------+------------------------------+---------------------------+ | Ubuntu 20.04 | PASS | PASS | SKIPPED | SKIPPED | +------------------------------+----------------+--------------+------------------------------+---------------------------+ | Fedora Linux 42 | PASS | SKIPPED | SKIPPED | SKIPPED | +------------------------------+----------------+--------------+------------------------------+---------------------------+ | Fedora Linux 40 | PASS | SKIPPED | SKIPPED | SKIPPED | +------------------------------+----------------+--------------+------------------------------+---------------------------+ | Ubuntu 22.04 | PASS | SKIPPED | SKIPPED | SKIPPED | +------------------------------+----------------+--------------+------------------------------+---------------------------+ | Debian GNU/Linux 12 | PASS | SKIPPED | SKIPPED | SKIPPED | +------------------------------+----------------+--------------+------------------------------+---------------------------+ | Ubuntu 24.04 | PASS | SKIPPED | SKIPPED | SKIPPED | +------------------------------+----------------+--------------+------------------------------+---------------------------+ | Debian 12 (arm) | SKIPPED | SKIPPED | PASS | PASS | +------------------------------+----------------+--------------+------------------------------+---------------------------+ Fedora Linux 41 Kernel: 5.4 Compiler: clang gcc (GCC) 14.3.1 20250523 (Red Hat 14.3.1-1) Red Hat Enterprise Linux 9.5 Kernel: 5.4 Compiler: gcc gcc (GCC) 11.5.0 20240719 (Red Hat 11.5.0-2) CentOS Stream 10 Kernel: 5.4 Compiler: gcc gcc (GCC) 14.2.1 20250110 (Red Hat 14.2.1-8) CentOS Stream 9 Kernel: 5.4 Compiler: gcc gcc (GCC) 11.5.0 20240719 (Red Hat 11.5.0-11) Ubuntu 20.04 Kernel: 5.4 Compiler: gcc gcc (Ubuntu 9.4.0-1ubuntu1~20.04.2) 9.4.0 Fedora Linux 42 Kernel: 5.4 Compiler: gcc gcc (GCC) 15.2.1 20250808 (Red Hat 15.2.1-1) Fedora Linux 40 Kernel: 5.4 Compiler: clang gcc (GCC) 14.2.1 20240912 (Red Hat 14.2.1-3) Ubuntu 22.04 Kernel: 5.4 Compiler: gcc gcc (Ubuntu 11.4.0-1ubuntu1~22.04) 11.4.0 Debian GNU/Linux 12 Kernel: 5.4 Compiler: gcc gcc (Debian 12.2.0-14+deb12u1) 12.2.0 Ubuntu 24.04 Kernel: 5.4 Compiler: gcc gcc (Ubuntu 13.3.0-6ubuntu2~24.04) 13.3.0 Debian 12 (arm) Kernel: Depends on container host Compiler: gcc (Debian 12.2.0-14) 12.2.0 To view detailed results, visit: https://lab.dpdk.org/results/dashboard/patchsets/34329/ UNH-IOL DPDK Community Lab To manage your email subscriptions, visit: https://lab.dpdk.org/results/dashboard/preferences/subscriptions/