From mboxrd@z Thu Jan 1 00:00:00 1970 Return-Path: Received: from mails.dpdk.org (mails.dpdk.org [217.70.189.124]) by inbox.dpdk.org (Postfix) with ESMTP id D4CAD4898F for ; Mon, 20 Oct 2025 23:01:08 +0200 (CEST) Received: from mails.dpdk.org (localhost [127.0.0.1]) by mails.dpdk.org (Postfix) with ESMTP id BEF1240151; Mon, 20 Oct 2025 23:01:08 +0200 (CEST) Received: from mail-io1-f99.google.com (mail-io1-f99.google.com [209.85.166.99]) by mails.dpdk.org (Postfix) with ESMTP id 1C8E040151 for ; Mon, 20 Oct 2025 23:01:08 +0200 (CEST) Received: by mail-io1-f99.google.com with SMTP id ca18e2360f4ac-930cfdfabb3so293645539f.1 for ; Mon, 20 Oct 2025 14:01:08 -0700 (PDT) DKIM-Signature: v=1; a=rsa-sha256; c=relaxed/relaxed; d=iol.unh.edu; s=unh-iol; t=1760994067; x=1761598867; darn=dpdk.org; h=references:in-reply-to:cc:to:from:subject:message-id:date:from:to :cc:subject:date:message-id:reply-to; bh=agOmNRCBMCaa7Lo+fCmOctZF3d3YCyyGrQvGgHdizto=; b=EoNAIhHeHu0c+7ohPBrMMREDJIvyvf5TI7kVChA2/8lldQXwmPr5wLJVPQn+ESHX0O h/8sY/m+M7CNp1cLMffTmzuQ0kqxx5WYQQDo1ZGp9/B8j/KQK0KwhqjqnhKTP/8WHebm lKWM+kyNH5NKgo6N6gYGcs605hplys/yikt2k= X-Google-DKIM-Signature: v=1; a=rsa-sha256; c=relaxed/relaxed; d=1e100.net; s=20230601; t=1760994067; x=1761598867; h=references:in-reply-to:cc:to:from:subject:message-id:date :x-gm-message-state:from:to:cc:subject:date:message-id:reply-to; bh=agOmNRCBMCaa7Lo+fCmOctZF3d3YCyyGrQvGgHdizto=; b=DuAEbVI4LYKzUybSMlAejA+hybGW1eDwbVWXJH1WPc4YQacOSNFTcf8x5vKO0BSjES z2pFwWQlCIX3HVSMckKBkqEAX2YwI6TFJuHEQawaGLONLi+l4LjE7JLU34JJBMKIzjcT kWleMeWfeu/eviDkAdl0VqQ/PQdamDSGkWzZblI4DhsfsBty5h+IjF0jF7S39iZqnU29 VIh2vRgeq9K42vYMuZDFkSYWWgq2gGGquSCfwXZOQ+Gwvp4qyrsfbTsGFmKe5Fys9G+r qRG3DJTYgUuRhitxvFQK6V5Agfo05VVooL2lP0YysKDEW2fVLTjCCEMKQEmHS0uVdxa3 6n2A== X-Gm-Message-State: AOJu0Yzvsyb43S1LPVpKhElnQwZxDQUBuw+plxi3e9xT+N01jCZkRH7w McWyfD8sqH3KNE2KJnBvc4VUgBvROPkxcSkH7/9pAmvoXmAbd/kreS5L0fdnZ/6treGqXBKK/rv 9GqAbagZFHoqlkVpgRWH9IO73lt7X7iaAvRjmDC/oO3wxRLhIdf5Sn0CItPft X-Gm-Gg: ASbGncsPwFLPLk9ZJEnZV4vSrDHy+MZ0iaQwQPYkt9t+bRcAcVIiSkkNs2xYeX0QSr0 9qBa0wdXTXOxfOnFa8CUKgM74585bp0zGefVDjzUhctBNFslCYS8qMqX/KOw9kjQDeY5nJBIzIg ZKbzYVgxSqTI5oTjdMeIEBFpR+Geuw4LSPlueWrmssWPTwvdw8F5w1iNhpQ4MWPdKdsz7jNrY43 PSb/6FNmLvG35lIoAX1kZ+aqB4Z5tjHmtwCDfdrtnuHLwhaY78S7OK3vTp+ojo1qhf8b8Pa+SqG NgZg0ozMrawFnQj7jeo6lbsD/q7UfkO0uryItheuw1kvNQYQHiXKyW3Egi2x1eFH0Xd7TmNbVrV avZmi3T5R X-Google-Smtp-Source: AGHT+IEz+jHtx5eVSLFTpOWGOYyWM9il3/9k1qa/V8r+ONKXxNvVo+82vlaDsgTDkOGHj0kY1aOkxJ+onbcN X-Received: by 2002:a05:6e02:18cd:b0:430:afae:fe24 with SMTP id e9e14a558f8ab-430c5293310mr223000835ab.8.1760994067199; Mon, 20 Oct 2025 14:01:07 -0700 (PDT) Received: from postal.iol.unh.edu (postal.iol.unh.edu. [2606:4100:3880:1234::84]) by smtp-relay.gmail.com with ESMTPS id e9e14a558f8ab-430d072a4efsm9415645ab.15.2025.10.20.14.01.07 (version=TLS1_2 cipher=ECDHE-ECDSA-AES128-GCM-SHA256 bits=128/128); Mon, 20 Oct 2025 14:01:07 -0700 (PDT) X-Relaying-Domain: iol.unh.edu Date: Mon, 20 Oct 2025 14:01:07 -0700 (PDT) Message-ID: <68f6a313.050a0220.3b21b9.e8f5SMTPIN_ADDED_MISSING@mx.google.com> Received: from [172.21.0.3] (unknown [172.18.0.240]) by postal.iol.unh.edu (Postfix) with ESMTP id C0BC2604D420; Mon, 20 Oct 2025 17:01:06 -0400 (EDT) Subject: |WARNING| pw157884-157903 [PATCH] [v2,21/21] net/ntnic: fix potentia From: dpdklab@iol.unh.edu To: Test Report Cc: dpdk-test-reports@iol.unh.edu, Stephen Hemminger In-Reply-To: <20251020164336.283664-22-sil-plv@napatech.com> References: <20251020164336.283664-22-sil-plv@napatech.com> Content-Type: text/plain X-BeenThere: test-report@dpdk.org X-Mailman-Version: 2.1.29 Precedence: list List-Id: automatic DPDK test reports List-Unsubscribe: , List-Archive: List-Post: List-Help: List-Subscribe: , Errors-To: test-report-bounces@dpdk.org Test-Label: iol-compile-amd64-testing Test-Status: WARNING http://dpdk.org/patch/157903 _Testing issues_ Submitter: Serhii Iliushyk Date: Monday, October 20 2025 16:43:30 DPDK git baseline: Repo:dpdk-next-net Branch: master CommitID:dce56012d806099005d3cf28a11a6cba140c0f31 157884-157903 --> testing issues Upstream job id: Generic-DPDK-Compile-Meson#436333 Test environment and result as below: +-------------------------------+--------------------+-------------------------+-------------------+----------------------+-------------------+------------------+ | Environment | dpdk_meson_compile | dpdk_llvm_clang_compile | dpdk_msvc_compile | dpdk_mingw64_compile | dpdk_compile_spdk | dpdk_compile_ovs | +===============================+====================+=========================+===================+======================+===================+==================+ | FreeBSD 14.2 | PASS | SKIPPED | SKIPPED | SKIPPED | SKIPPED | SKIPPED | +-------------------------------+--------------------+-------------------------+-------------------+----------------------+-------------------+------------------+ | Ubuntu 20.04 | PASS | SKIPPED | SKIPPED | SKIPPED | SKIPPED | SKIPPED | +-------------------------------+--------------------+-------------------------+-------------------+----------------------+-------------------+------------------+ | CentOS Stream 9 | PASS | SKIPPED | SKIPPED | SKIPPED | WARN | SKIPPED | +-------------------------------+--------------------+-------------------------+-------------------+----------------------+-------------------+------------------+ | CentOS Stream 10 | PASS | SKIPPED | SKIPPED | SKIPPED | SKIPPED | SKIPPED | +-------------------------------+--------------------+-------------------------+-------------------+----------------------+-------------------+------------------+ | Debian GNU/Linux 12 | PEND | SKIPPED | SKIPPED | SKIPPED | PEND | SKIPPED | +-------------------------------+--------------------+-------------------------+-------------------+----------------------+-------------------+------------------+ | Fedora Linux 42 | PEND | SKIPPED | SKIPPED | SKIPPED | PEND | PEND | +-------------------------------+--------------------+-------------------------+-------------------+----------------------+-------------------+------------------+ | openSUSE Leap 15.6 | PEND | SKIPPED | SKIPPED | SKIPPED | SKIPPED | SKIPPED | +-------------------------------+--------------------+-------------------------+-------------------+----------------------+-------------------+------------------+ | Red Hat Enterprise Linux 8.10 | PEND | SKIPPED | SKIPPED | SKIPPED | SKIPPED | SKIPPED | +-------------------------------+--------------------+-------------------------+-------------------+----------------------+-------------------+------------------+ | Windows Server 2022 | SKIPPED | PASS | PASS | PASS | SKIPPED | SKIPPED | +-------------------------------+--------------------+-------------------------+-------------------+----------------------+-------------------+------------------+ ==== 20 line log output for CentOS Stream 9 (dpdk_compile_spdk): ==== --- Failed to get log output --- ==== End log output ==== FreeBSD 14.2 Kernel: 14.2-RELEASE Compiler: clang 18.1.6 Ubuntu 20.04 Kernel: 4.19 Compiler: gcc gcc (Ubuntu 9.4.0-1ubuntu1~20.04.2) 9.4.0 CentOS Stream 9 Kernel: 5.15 Compiler: gcc gcc (GCC) 11.5.0 20240719 (Red Hat 11.5.0-11) CentOS Stream 10 Kernel: 5.15 Compiler: gcc gcc (GCC) 14.2.1 20250110 (Red Hat 14.2.1-8) Debian GNU/Linux 12 Kernel: 5.15 Compiler: gcc gcc (Debian 12.2.0-14+deb12u1) 12.2.0 Fedora Linux 42 Kernel: 5.15 Compiler: clang gcc (GCC) 15.2.1 20250808 (Red Hat 15.2.1-1) openSUSE Leap 15.6 Kernel: 5.15 Compiler: gcc gcc (SUSE Linux) 7.5.0 Red Hat Enterprise Linux 8.10 Kernel: 5.15 Compiler: gcc gcc (GCC) 8.5.0 20210514 (Red Hat 8.5.0-22) Windows Server 2022 Kernel: 10.0.20348.2031 Compiler: clang 15.0.7, gcc 14.1.0 (MinGW), and MSVC VS 19.39.33521 To view detailed results, visit: https://lab.dpdk.org/results/dashboard/patchsets/34335/ UNH-IOL DPDK Community Lab To manage your email subscriptions, visit: https://lab.dpdk.org/results/dashboard/preferences/subscriptions/