From mboxrd@z Thu Jan 1 00:00:00 1970 Return-Path: Received: from mails.dpdk.org (mails.dpdk.org [217.70.189.124]) by inbox.dpdk.org (Postfix) with ESMTP id 3B5764898F for ; Mon, 20 Oct 2025 23:36:29 +0200 (CEST) Received: from mails.dpdk.org (localhost [127.0.0.1]) by mails.dpdk.org (Postfix) with ESMTP id 2440040151; Mon, 20 Oct 2025 23:36:29 +0200 (CEST) Received: from mail-qk1-f228.google.com (mail-qk1-f228.google.com [209.85.222.228]) by mails.dpdk.org (Postfix) with ESMTP id 4626C40151 for ; Mon, 20 Oct 2025 23:36:27 +0200 (CEST) Received: by mail-qk1-f228.google.com with SMTP id af79cd13be357-88f26db50b4so665252685a.2 for ; Mon, 20 Oct 2025 14:36:27 -0700 (PDT) DKIM-Signature: v=1; a=rsa-sha256; c=relaxed/relaxed; d=iol.unh.edu; s=unh-iol; t=1760996186; x=1761600986; darn=dpdk.org; h=references:in-reply-to:cc:to:from:subject:message-id:date:from:to :cc:subject:date:message-id:reply-to; bh=eGBEMf945AS7PFdM+FRpJhTlUPaYHCZXiy2miiMtxpI=; b=Iqtqf2inIOmbv5hY8Ovcb+Aem6LgvzqfRmdq8v2RaCLfMIhR8Yy0lYPgR87J5X+UhC F5PJGZn2qXL9hP8QXKCg3ZXGyUfV6KSIP5ZdA1cfa4k39Vvzor2KU+jY8NV0VuoQ8EQz KINE20IEzb1Zedv72tQ+ZpF8+FP1iMFRCVJ9U= X-Google-DKIM-Signature: v=1; a=rsa-sha256; c=relaxed/relaxed; d=1e100.net; s=20230601; t=1760996186; x=1761600986; h=references:in-reply-to:cc:to:from:subject:message-id:date :x-gm-message-state:from:to:cc:subject:date:message-id:reply-to; bh=eGBEMf945AS7PFdM+FRpJhTlUPaYHCZXiy2miiMtxpI=; b=wb9oNDf7t6kRjiBMkmbJCq0CiIzFhgOEjazGT2odXzVciQCYjueRhnt9etSqQeYf7b VvnXm9OkA5erLkO+FusfTqOu6c9kInwKMZ8d0PI3N/kYt9btACKsaMlOVW7AZxzuDR7F nXBuNoCrSxw4aofMJ1HVH0SG8Gd7kpzU/Io3lXmxiWWTZ0VOAJ3rtYcujGUcG8QeyriR +kwE1ElrXxdI/SWkvM6OOfgff6nJ83qAw/ERMqzf1nS2ochAcRAiM02EGZGQe3SKTzEB JJhr879hLoUMdiGK822uQSAVD5i1jYITaulFKw4pOACJ63rttZcerXtEt9rrq4Kwto6V SHmA== X-Gm-Message-State: AOJu0YwSy2wNRx0GjXeDNf3gr/a3ehKXd+AchgYBtRchIiAzt2JNdHt3 MhUgv8Td03d1JSpappLfgQvm2a2DZHQVyXNyldJlMAaS9YI6thVxGSFMUgARwhfWUP8+jZ4Uhhe TYPsVS63phvzzWC2OF9pOt3LKrVcDA6NrLzE/QHpMw/viFXdD3q7w7PLIYvnq X-Gm-Gg: ASbGncsJCaHY3+qe8UaJp33gizJgZ0eF3TRwvLOfw6ZsJNSxCXP8GOz8pXaVzo1ZzG2 SVcdQJtVQET6t7cMjIJaAeXOeCo43OBkyQpM+ZXfgVd/NJcUAlt0Gvtm9Q3oMDsaikJO38Kb1NE a/R1yNQ+uJrQbsacbjm66v5M8EoHulKbbxllJHOc1DvWyM3lSq2OOU85s6Zc29Hxp9vrZo3ckp2 o0iiGi1NsP3GXEV/ywNhj7lRbVTVyX5NliXxq0dW2rOrHC6OnP8HjwLUaYwm/y7DTI+RS86xy4G PTf2g4VipS+uF7rYBJb4m4O0+umUPFa5v3b4qTU+RPZlQ0fyCXkaJQOxUunX1LtYbb7SdTRLWMK kTsYeAVWs X-Google-Smtp-Source: AGHT+IEux2XUFjbZoknSPiIHICfqHl0CtoTwafMa84mhbzJHiDwdBilak3ZxKUs0gJE42s4xLmb/yDCDIPKO X-Received: by 2002:a05:620a:199b:b0:891:b273:1677 with SMTP id af79cd13be357-891b273231fmr1532311385a.71.1760996186428; Mon, 20 Oct 2025 14:36:26 -0700 (PDT) Received: from postal.iol.unh.edu (postal.iol.unh.edu. [2606:4100:3880:1234::84]) by smtp-relay.gmail.com with ESMTPS id af79cd13be357-891cf29d279sm103464085a.4.2025.10.20.14.36.26 (version=TLS1_2 cipher=ECDHE-ECDSA-AES128-GCM-SHA256 bits=128/128); Mon, 20 Oct 2025 14:36:26 -0700 (PDT) X-Relaying-Domain: iol.unh.edu Date: Mon, 20 Oct 2025 14:36:26 -0700 (PDT) Message-ID: <68f6ab5a.050a0220.1f57bb.2475SMTPIN_ADDED_MISSING@mx.google.com> Received: from [172.21.0.2] (unknown [172.18.0.240]) by postal.iol.unh.edu (Postfix) with ESMTP id 14DF06051830; Mon, 20 Oct 2025 17:36:26 -0400 (EDT) Subject: |WARNING| pw157884-157903 [PATCH] [v2,21/21] net/ntnic: fix potentia From: dpdklab@iol.unh.edu To: Test Report Cc: dpdk-test-reports@iol.unh.edu, Stephen Hemminger In-Reply-To: <20251020164336.283664-22-sil-plv@napatech.com> References: <20251020164336.283664-22-sil-plv@napatech.com> Content-Type: text/plain X-BeenThere: test-report@dpdk.org X-Mailman-Version: 2.1.29 Precedence: list List-Id: automatic DPDK test reports List-Unsubscribe: , List-Archive: List-Post: List-Help: List-Subscribe: , Errors-To: test-report-bounces@dpdk.org Test-Label: iol-compile-amd64-testing Test-Status: WARNING http://dpdk.org/patch/157903 _Testing issues_ Submitter: Serhii Iliushyk Date: Monday, October 20 2025 16:43:30 DPDK git baseline: Repo:dpdk-next-net Branch: master CommitID:dce56012d806099005d3cf28a11a6cba140c0f31 157884-157903 --> testing issues Upstream job id: Generic-DPDK-Compile-Meson#436343 Test environment and result as below: +-------------------------------+--------------------+-------------------------+-------------------+----------------------+-------------------+------------------+ | Environment | dpdk_meson_compile | dpdk_llvm_clang_compile | dpdk_msvc_compile | dpdk_mingw64_compile | dpdk_compile_spdk | dpdk_compile_ovs | +===============================+====================+=========================+===================+======================+===================+==================+ | FreeBSD 14.2 | PASS | SKIPPED | SKIPPED | SKIPPED | SKIPPED | SKIPPED | +-------------------------------+--------------------+-------------------------+-------------------+----------------------+-------------------+------------------+ | Ubuntu 20.04 | PASS | SKIPPED | SKIPPED | SKIPPED | SKIPPED | SKIPPED | +-------------------------------+--------------------+-------------------------+-------------------+----------------------+-------------------+------------------+ | CentOS Stream 9 | PASS | SKIPPED | SKIPPED | SKIPPED | WARN | SKIPPED | +-------------------------------+--------------------+-------------------------+-------------------+----------------------+-------------------+------------------+ | CentOS Stream 10 | PASS | SKIPPED | SKIPPED | SKIPPED | SKIPPED | SKIPPED | +-------------------------------+--------------------+-------------------------+-------------------+----------------------+-------------------+------------------+ | Debian GNU/Linux 12 | PASS | SKIPPED | SKIPPED | SKIPPED | WARN | SKIPPED | +-------------------------------+--------------------+-------------------------+-------------------+----------------------+-------------------+------------------+ | Fedora Linux 42 | PASS | SKIPPED | SKIPPED | SKIPPED | WARN | PASS | +-------------------------------+--------------------+-------------------------+-------------------+----------------------+-------------------+------------------+ | openSUSE Leap 15.6 | PASS | SKIPPED | SKIPPED | SKIPPED | SKIPPED | SKIPPED | +-------------------------------+--------------------+-------------------------+-------------------+----------------------+-------------------+------------------+ | Red Hat Enterprise Linux 8.10 | PASS | SKIPPED | SKIPPED | SKIPPED | SKIPPED | SKIPPED | +-------------------------------+--------------------+-------------------------+-------------------+----------------------+-------------------+------------------+ | Red Hat Enterprise Linux 9.5 | PASS | SKIPPED | SKIPPED | SKIPPED | SKIPPED | SKIPPED | +-------------------------------+--------------------+-------------------------+-------------------+----------------------+-------------------+------------------+ | Ubuntu 22.04 | PASS | SKIPPED | SKIPPED | SKIPPED | WARN | SKIPPED | +-------------------------------+--------------------+-------------------------+-------------------+----------------------+-------------------+------------------+ | Ubuntu 24.04 | PASS | SKIPPED | SKIPPED | SKIPPED | WARN | PASS | +-------------------------------+--------------------+-------------------------+-------------------+----------------------+-------------------+------------------+ | Alpine Linux 3.22.0 | PASS | SKIPPED | SKIPPED | SKIPPED | SKIPPED | SKIPPED | +-------------------------------+--------------------+-------------------------+-------------------+----------------------+-------------------+------------------+ | Windows Server 2022 | SKIPPED | PASS | PASS | PASS | SKIPPED | SKIPPED | +-------------------------------+--------------------+-------------------------+-------------------+----------------------+-------------------+------------------+ ==== 20 line log output for Ubuntu 24.04 (dpdk_compile_spdk): ==== --- Failed to get log output --- ==== End log output ==== FreeBSD 14.2 Kernel: 14.2-RELEASE Compiler: clang 18.1.6 Ubuntu 20.04 Kernel: 4.19 Compiler: gcc gcc (Ubuntu 9.4.0-1ubuntu1~20.04.2) 9.4.0 CentOS Stream 9 Kernel: 5.15 Compiler: gcc gcc (GCC) 11.5.0 20240719 (Red Hat 11.5.0-11) CentOS Stream 10 Kernel: 5.15 Compiler: gcc gcc (GCC) 14.2.1 20250110 (Red Hat 14.2.1-8) Debian GNU/Linux 12 Kernel: 5.15 Compiler: gcc gcc (Debian 12.2.0-14+deb12u1) 12.2.0 Fedora Linux 42 Kernel: 5.15 Compiler: clang gcc (GCC) 15.2.1 20250808 (Red Hat 15.2.1-1) openSUSE Leap 15.6 Kernel: 5.15 Compiler: gcc gcc (SUSE Linux) 7.5.0 Red Hat Enterprise Linux 8.10 Kernel: 5.15 Compiler: gcc gcc (GCC) 8.5.0 20210514 (Red Hat 8.5.0-22) Red Hat Enterprise Linux 9.5 Kernel: 5.15 Compiler: gcc gcc (GCC) 11.5.0 20240719 (Red Hat 11.5.0-2) Ubuntu 22.04 Kernel: 5.15 Compiler: gcc gcc (Ubuntu 11.4.0-1ubuntu1~22.04) 11.4.0 Ubuntu 24.04 Kernel: 5.15 Compiler: gcc gcc (Ubuntu 13.3.0-6ubuntu2~24.04) 13.3.0 Alpine Linux 3.22.0 Kernel: 5.15 Compiler: gcc gcc (Alpine 14.2.0) 14.2.0 Windows Server 2022 Kernel: 10.0.20348.2031 Compiler: clang 15.0.7, gcc 14.1.0 (MinGW), and MSVC VS 19.39.33521 To view detailed results, visit: https://lab.dpdk.org/results/dashboard/patchsets/34335/ UNH-IOL DPDK Community Lab To manage your email subscriptions, visit: https://lab.dpdk.org/results/dashboard/preferences/subscriptions/