From mboxrd@z Thu Jan 1 00:00:00 1970 Return-Path: Received: from mails.dpdk.org (mails.dpdk.org [217.70.189.124]) by inbox.dpdk.org (Postfix) with ESMTP id 979394898F for ; Mon, 20 Oct 2025 23:40:05 +0200 (CEST) Received: from mails.dpdk.org (localhost [127.0.0.1]) by mails.dpdk.org (Postfix) with ESMTP id 8F37A40151; Mon, 20 Oct 2025 23:40:05 +0200 (CEST) Received: from mail-io1-f100.google.com (mail-io1-f100.google.com [209.85.166.100]) by mails.dpdk.org (Postfix) with ESMTP id D4B8240151 for ; Mon, 20 Oct 2025 23:40:03 +0200 (CEST) Received: by mail-io1-f100.google.com with SMTP id ca18e2360f4ac-940276d224dso236241539f.1 for ; Mon, 20 Oct 2025 14:40:03 -0700 (PDT) DKIM-Signature: v=1; a=rsa-sha256; c=relaxed/relaxed; d=iol.unh.edu; s=unh-iol; t=1760996403; x=1761601203; darn=dpdk.org; h=references:in-reply-to:cc:to:from:subject:message-id:date:from:to :cc:subject:date:message-id:reply-to; bh=eeoquiMhmdfLPIQlsekwv8v5BBu4t/lB4gqYvgVMAZw=; b=eNC26/qdFPRFWgCkKsqGRSQGyVGE2uspxc9nt3nzta4KUK8Za0WmY4HZJ8rjif70oJ KZ99RW+gEEh6uq08Bgyg7JOZpfZZTDLyU6aFuW7JqKKsk1TtcLxptRukX4V0IX+5v41a cw5dVSZEtMbAw2clDzQPuPtRRZtckAQl73l7c= X-Google-DKIM-Signature: v=1; a=rsa-sha256; c=relaxed/relaxed; d=1e100.net; s=20230601; t=1760996403; x=1761601203; h=references:in-reply-to:cc:to:from:subject:message-id:date :x-gm-message-state:from:to:cc:subject:date:message-id:reply-to; bh=eeoquiMhmdfLPIQlsekwv8v5BBu4t/lB4gqYvgVMAZw=; b=bIgRJPOhe5iSMRFlOh2n02DU+erfHUbpb3cEMTdlDXK8uqUqr4R+P0xFrBDRol0TN5 Ar2vjqbiVInpm/XnboxndKrmSK3zC8TslhH5M6YDOUKbYOBJodKbAnZa4jlAMrVfH3rD LPrqyctPpN2AemEmwX9K4DsbrdkeSLJhkvc5eLFLCn4F1C1PrgzxV1dKcEK6/S5uDILx JyiRyR0l5vxaF+zK8uQ+JgPXMx3o8H/DOFi1ORvVsasOcn6R5jhoDod89EWnrHGjmuUk D5ax2jRIdwJ8PDblYvrvq6Uwn6dR0Y21KDFWD2oZ9w1/H11GJnuiucoIaf/Iv6706Pmh m5ug== X-Gm-Message-State: AOJu0YytFEbBHeGXbgdipc+imOHsrGAdu+P4dz97eyY0ER3xxPU7k8jc dBLi4b2k3EKPKmeW86a6VK+YWWfHxM9DdYv4EgJLoOosO8ip6aooz8bEGaCbrVqzdLh2DpdiC+d uip2eu7gYWhmur/zZYAJl9AFCF0540FqHdj3KrmOEqCvH X-Gm-Gg: ASbGncvRV8Cuyw3oaraxVkCKlg9cER5Xh9SmxrnOul3UMkmwZjiWDX48nRn4tl8zjSt DCRe0OPuyfwtJVZg5NV/ifctXwUNzTXl1bN0CFlfZ+r/hxaa76k0yoNkLLhZ+hs1/LO1GE1/Rsb BanyMeN059hzf/SLQRxZl8XhG5THl2cQz1bA13JixxOLKmnErJvNuJGNgYCW6mOhS90WnhB08kJ PveWpCNk5t/RKrodefMe4pA4bvoKrU4Vs5WDCAe2E5vfGEwF7PFvfsJwtSBGHN3i0Zjnv/HpP9P ume4H/mr753qb5QsuhtOxilBg86nQvFpDWoyL1gkxOfn1VCi+cenB7cdp3DIYljOmelFvSVoKLM uAIYnzmPxZ1mhg2fbVqWzbiIkP/7dplo= X-Google-Smtp-Source: AGHT+IERbQy6UMccz7eVAANNiAjrq8hTX3AeFGBAY4kiJdlyMrVgs/a9xw/OOCfQIJ07gL8Zi7KCd4y1stqk X-Received: by 2002:a05:6602:2cca:b0:93e:897a:77f with SMTP id ca18e2360f4ac-93e897a1930mr1547732939f.0.1760996403169; Mon, 20 Oct 2025 14:40:03 -0700 (PDT) Received: from postal.iol.unh.edu (postal.iol.unh.edu. [132.177.123.84]) by smtp-relay.gmail.com with ESMTPS id 8926c6da1cb9f-5a8a95fed09sm1112445173.5.2025.10.20.14.40.03 (version=TLS1_2 cipher=ECDHE-ECDSA-AES128-GCM-SHA256 bits=128/128); Mon, 20 Oct 2025 14:40:03 -0700 (PDT) X-Relaying-Domain: iol.unh.edu Date: Mon, 20 Oct 2025 14:40:03 -0700 (PDT) Message-ID: <68f6ac33.050a0220.237a1d.428dSMTPIN_ADDED_MISSING@mx.google.com> Received: from [172.21.0.3] (unknown [172.18.0.240]) by postal.iol.unh.edu (Postfix) with ESMTP id BA15B6051830; Mon, 20 Oct 2025 17:40:02 -0400 (EDT) Subject: |WARNING| pw157883 [PATCH] Revert "net/ice: count drop-all filter in From: dpdklab@iol.unh.edu To: Test Report Cc: dpdk-test-reports@iol.unh.edu, Bruce Richardson In-Reply-To: <20251020164230.3724539-1-jeffrey.b.shaw@intel.com> References: <20251020164230.3724539-1-jeffrey.b.shaw@intel.com> Content-Type: text/plain X-BeenThere: test-report@dpdk.org X-Mailman-Version: 2.1.29 Precedence: list List-Id: automatic DPDK test reports List-Unsubscribe: , List-Archive: List-Post: List-Help: List-Subscribe: , Errors-To: test-report-bounces@dpdk.org Test-Label: iol-compile-amd64-testing Test-Status: WARNING http://dpdk.org/patch/157883 _Testing issues_ Submitter: Jeff Shaw Date: Monday, October 20 2025 16:42:29 DPDK git baseline: Repo:dpdk-next-net-intel Branch: master CommitID:6b997d6b9ffdbb4f8ecd14d1f217da69cdc783af 157883 --> testing issues Upstream job id: Generic-DPDK-Compile-Meson#436362 Test environment and result as below: +-------------------------------+--------------------+-------------------+-------------------------+----------------------+-------------------+------------------+ | Environment | dpdk_meson_compile | dpdk_msvc_compile | dpdk_llvm_clang_compile | dpdk_mingw64_compile | dpdk_compile_spdk | dpdk_compile_ovs | +===============================+====================+===================+=========================+======================+===================+==================+ | Ubuntu 20.04 | PASS | SKIPPED | SKIPPED | SKIPPED | SKIPPED | SKIPPED | +-------------------------------+--------------------+-------------------+-------------------------+----------------------+-------------------+------------------+ | FreeBSD 14.2 | PASS | SKIPPED | SKIPPED | SKIPPED | SKIPPED | SKIPPED | +-------------------------------+--------------------+-------------------+-------------------------+----------------------+-------------------+------------------+ | CentOS Stream 9 | PEND | SKIPPED | SKIPPED | SKIPPED | PEND | SKIPPED | +-------------------------------+--------------------+-------------------+-------------------------+----------------------+-------------------+------------------+ | CentOS Stream 10 | PEND | SKIPPED | SKIPPED | SKIPPED | SKIPPED | SKIPPED | +-------------------------------+--------------------+-------------------+-------------------------+----------------------+-------------------+------------------+ | Debian GNU/Linux 12 | PASS | SKIPPED | SKIPPED | SKIPPED | WARN | SKIPPED | +-------------------------------+--------------------+-------------------+-------------------------+----------------------+-------------------+------------------+ | Fedora Linux 42 | PEND | SKIPPED | SKIPPED | SKIPPED | PEND | PEND | +-------------------------------+--------------------+-------------------+-------------------------+----------------------+-------------------+------------------+ | openSUSE Leap 15.6 | PEND | SKIPPED | SKIPPED | SKIPPED | SKIPPED | SKIPPED | +-------------------------------+--------------------+-------------------+-------------------------+----------------------+-------------------+------------------+ | Red Hat Enterprise Linux 8.10 | PEND | SKIPPED | SKIPPED | SKIPPED | SKIPPED | SKIPPED | +-------------------------------+--------------------+-------------------+-------------------------+----------------------+-------------------+------------------+ | Windows Server 2022 | SKIPPED | PASS | PASS | PASS | SKIPPED | SKIPPED | +-------------------------------+--------------------+-------------------+-------------------------+----------------------+-------------------+------------------+ ==== 20 line log output for Debian GNU/Linux 12 (dpdk_compile_spdk): ==== --- Failed to get log output --- ==== End log output ==== Ubuntu 20.04 Kernel: 4.19 Compiler: gcc gcc (Ubuntu 9.4.0-1ubuntu1~20.04.2) 9.4.0 FreeBSD 14.2 Kernel: 14.2-RELEASE Compiler: clang 18.1.6 CentOS Stream 9 Kernel: 5.15 Compiler: gcc gcc (GCC) 11.5.0 20240719 (Red Hat 11.5.0-11) CentOS Stream 10 Kernel: 5.15 Compiler: gcc gcc (GCC) 14.2.1 20250110 (Red Hat 14.2.1-8) Debian GNU/Linux 12 Kernel: 5.15 Compiler: gcc gcc (Debian 12.2.0-14+deb12u1) 12.2.0 Fedora Linux 42 Kernel: 5.15 Compiler: clang gcc (GCC) 15.2.1 20250808 (Red Hat 15.2.1-1) openSUSE Leap 15.6 Kernel: 5.15 Compiler: gcc gcc (SUSE Linux) 7.5.0 Red Hat Enterprise Linux 8.10 Kernel: 5.15 Compiler: gcc gcc (GCC) 8.5.0 20210514 (Red Hat 8.5.0-22) Windows Server 2022 Kernel: 10.0.20348.2031 Compiler: clang 15.0.7, gcc 14.1.0 (MinGW), and MSVC VS 19.39.33521 To view detailed results, visit: https://lab.dpdk.org/results/dashboard/patchsets/34336/ UNH-IOL DPDK Community Lab To manage your email subscriptions, visit: https://lab.dpdk.org/results/dashboard/preferences/subscriptions/