From mboxrd@z Thu Jan 1 00:00:00 1970 Return-Path: Received: from mails.dpdk.org (mails.dpdk.org [217.70.189.124]) by inbox.dpdk.org (Postfix) with ESMTP id 5079748991 for ; Tue, 21 Oct 2025 00:21:29 +0200 (CEST) Received: from mails.dpdk.org (localhost [127.0.0.1]) by mails.dpdk.org (Postfix) with ESMTP id 284CD400D5; Tue, 21 Oct 2025 00:21:29 +0200 (CEST) Received: from mail-io1-f97.google.com (mail-io1-f97.google.com [209.85.166.97]) by mails.dpdk.org (Postfix) with ESMTP id 7B6E8400D5 for ; Tue, 21 Oct 2025 00:21:28 +0200 (CEST) Received: by mail-io1-f97.google.com with SMTP id ca18e2360f4ac-93e7ece3025so150437639f.1 for ; Mon, 20 Oct 2025 15:21:28 -0700 (PDT) DKIM-Signature: v=1; a=rsa-sha256; c=relaxed/relaxed; d=iol.unh.edu; s=unh-iol; t=1760998887; x=1761603687; darn=dpdk.org; h=references:in-reply-to:cc:to:from:subject:message-id:date:from:to :cc:subject:date:message-id:reply-to; bh=ZV35qZ0LpxZTH/qDSaIyhTgrL9/iliOnbmvhsCpfpD8=; b=CcmgcO3rAn30zmPKqZ7CiVRfqMwlrw/t0vanw26Sm+/wf/IgHetDVmugr3Uw/DsGMb GXHWJ87sTC2oXbQKldwVxOTYnZrZboUfe3W6O5HOmZvalJT7i3TPtw9gqN2r5bnaoAK1 sLRFkfoeUXAf/yYvJieWcBw0bO5b03wlmjTx4= X-Google-DKIM-Signature: v=1; a=rsa-sha256; c=relaxed/relaxed; d=1e100.net; s=20230601; t=1760998887; x=1761603687; h=references:in-reply-to:cc:to:from:subject:message-id:date :x-gm-message-state:from:to:cc:subject:date:message-id:reply-to; bh=ZV35qZ0LpxZTH/qDSaIyhTgrL9/iliOnbmvhsCpfpD8=; b=jwj89/79VvqfOmMPseEL6yGQdoXhchlpc/Cz3SAdnYoNZCW2/gT31IMnk8MSmuTDgJ HVLBio5G1RsttyGzZdFMEiakd46Z+duPG6TyCx8Az3NWnawk6r0UXwCyqR2Cp99RIR6e FGUxbFU1R29NU8kyQDLbgytWUxt57Ij/NcxA11bVCFzzwxpg3kAAI2a/cE8eMlKBorAZ 9G7ADvks455nTXAtTdB2R+qwU6RpvDZeeEyPxQMiGJagIYJ+A9WBt+vzLSDdWFMnPLul XdV9GwsmZtwqro2X8pj/c8nPpSTSjAoQu/Ih169SrxUki/OBvMPfIuPDTEx0Quwzw9oJ eFPQ== X-Gm-Message-State: AOJu0Yydaem+yrG5nopyuItcfBUE7wmYiwKuqErcZrFZ6D6pYi8Dp37W f6iNgEFoRG6wBJri26dR0ONhgqDUhzbezvJpF09xsm0C/Gsjtef0C9Jy5cjK7E1OPv6jcxTxm+Z I/g/TG7rlKgaH9Ht7JTzlMVowAUcJ3ZqIDfjzzchQ5T5riFPLI5WbPt3Jab0x X-Gm-Gg: ASbGnctwdXVxqIruGtid+pMaEks+LuqrEa02SswIAE4uuoz9DSG8zgifMWdDVEJ+aqF /K6kHVrr0i6s5cG2T4V+y2xRAxIkvkAXds8DDPBkI6xQLWt63BSL6/RZSnI3lx8sPW/RK3hdC0F nTHSK/FpTmBClUEZq095Tmu4lgEikWE3bV42J9+m2aN0vSeLTx6zXnErcrn83K6J9yoMGy+rJZp qMaeD5ioYabTAwVbm09BDWiqf9vpbW2Ryed+wgQTYlmnfXkD927m8ISrcILjXbIJfkdwVv0UgzT c4QxC1mRmgQodcnjacnivoq8q+arclUcMb3CDjxRPD0SUlotmJljJrWi6rfjUNo6SnPcg37420K 3cHPy3iO9 X-Google-Smtp-Source: AGHT+IGgnBYoyIsjvO9Z1ZCBLfyUgwAbFJNPC2j69oPYvquxdEp69wiCznq629Mr0q7uh5eqvfoXWGVZ4blx X-Received: by 2002:a5d:8445:0:b0:940:e0bd:ed8b with SMTP id ca18e2360f4ac-940e0bdf123mr402703839f.0.1760998887626; Mon, 20 Oct 2025 15:21:27 -0700 (PDT) Received: from postal.iol.unh.edu (postal.iol.unh.edu. [2606:4100:3880:1234::84]) by smtp-relay.gmail.com with ESMTPS id ca18e2360f4ac-940276c80b8sm56435139f.8.2025.10.20.15.21.27 (version=TLS1_2 cipher=ECDHE-ECDSA-AES128-GCM-SHA256 bits=128/128); Mon, 20 Oct 2025 15:21:27 -0700 (PDT) X-Relaying-Domain: iol.unh.edu Date: Mon, 20 Oct 2025 15:21:27 -0700 (PDT) Message-ID: <68f6b5e7.050a0220.35108.12deSMTPIN_ADDED_MISSING@mx.google.com> Received: from [172.21.0.2] (unknown [172.18.0.240]) by postal.iol.unh.edu (Postfix) with ESMTP id 0666C6051830; Mon, 20 Oct 2025 18:21:27 -0400 (EDT) Subject: |WARNING| pw157883 [PATCH] Revert "net/ice: count drop-all filter in From: dpdklab@iol.unh.edu To: Test Report Cc: dpdk-test-reports@iol.unh.edu, Bruce Richardson In-Reply-To: <20251020164230.3724539-1-jeffrey.b.shaw@intel.com> References: <20251020164230.3724539-1-jeffrey.b.shaw@intel.com> Content-Type: text/plain X-BeenThere: test-report@dpdk.org X-Mailman-Version: 2.1.29 Precedence: list List-Id: automatic DPDK test reports List-Unsubscribe: , List-Archive: List-Post: List-Help: List-Subscribe: , Errors-To: test-report-bounces@dpdk.org Test-Label: iol-compile-amd64-testing Test-Status: WARNING http://dpdk.org/patch/157883 _Testing issues_ Submitter: Jeff Shaw Date: Monday, October 20 2025 16:42:29 DPDK git baseline: Repo:dpdk-next-net-intel Branch: master CommitID:6b997d6b9ffdbb4f8ecd14d1f217da69cdc783af 157883 --> testing issues Upstream job id: Generic-DPDK-Compile-Meson#436370 Test environment and result as below: +-------------------------------+--------------------+-------------------+-------------------------+----------------------+-------------------+------------------+ | Environment | dpdk_meson_compile | dpdk_msvc_compile | dpdk_llvm_clang_compile | dpdk_mingw64_compile | dpdk_compile_spdk | dpdk_compile_ovs | +===============================+====================+===================+=========================+======================+===================+==================+ | Ubuntu 20.04 | PASS | SKIPPED | SKIPPED | SKIPPED | SKIPPED | SKIPPED | +-------------------------------+--------------------+-------------------+-------------------------+----------------------+-------------------+------------------+ | FreeBSD 14.2 | PASS | SKIPPED | SKIPPED | SKIPPED | SKIPPED | SKIPPED | +-------------------------------+--------------------+-------------------+-------------------------+----------------------+-------------------+------------------+ | CentOS Stream 9 | PASS | SKIPPED | SKIPPED | SKIPPED | WARN | SKIPPED | +-------------------------------+--------------------+-------------------+-------------------------+----------------------+-------------------+------------------+ | CentOS Stream 10 | PASS | SKIPPED | SKIPPED | SKIPPED | SKIPPED | SKIPPED | +-------------------------------+--------------------+-------------------+-------------------------+----------------------+-------------------+------------------+ | Debian GNU/Linux 12 | PASS | SKIPPED | SKIPPED | SKIPPED | WARN | SKIPPED | +-------------------------------+--------------------+-------------------+-------------------------+----------------------+-------------------+------------------+ | Fedora Linux 42 | PASS | SKIPPED | SKIPPED | SKIPPED | WARN | PASS | +-------------------------------+--------------------+-------------------+-------------------------+----------------------+-------------------+------------------+ | openSUSE Leap 15.6 | PASS | SKIPPED | SKIPPED | SKIPPED | SKIPPED | SKIPPED | +-------------------------------+--------------------+-------------------+-------------------------+----------------------+-------------------+------------------+ | Red Hat Enterprise Linux 8.10 | PASS | SKIPPED | SKIPPED | SKIPPED | SKIPPED | SKIPPED | +-------------------------------+--------------------+-------------------+-------------------------+----------------------+-------------------+------------------+ | Red Hat Enterprise Linux 9.5 | PASS | SKIPPED | SKIPPED | SKIPPED | SKIPPED | SKIPPED | +-------------------------------+--------------------+-------------------+-------------------------+----------------------+-------------------+------------------+ | Ubuntu 22.04 | PASS | SKIPPED | SKIPPED | SKIPPED | WARN | SKIPPED | +-------------------------------+--------------------+-------------------+-------------------------+----------------------+-------------------+------------------+ | Ubuntu 24.04 | PASS | SKIPPED | SKIPPED | SKIPPED | WARN | PASS | +-------------------------------+--------------------+-------------------+-------------------------+----------------------+-------------------+------------------+ | Alpine Linux 3.22.0 | PASS | SKIPPED | SKIPPED | SKIPPED | SKIPPED | SKIPPED | +-------------------------------+--------------------+-------------------+-------------------------+----------------------+-------------------+------------------+ | Windows Server 2022 | SKIPPED | PASS | PASS | PASS | SKIPPED | SKIPPED | +-------------------------------+--------------------+-------------------+-------------------------+----------------------+-------------------+------------------+ ==== 20 line log output for Ubuntu 24.04 (dpdk_compile_spdk): ==== --- Failed to get log output --- ==== End log output ==== Ubuntu 20.04 Kernel: 4.19 Compiler: gcc gcc (Ubuntu 9.4.0-1ubuntu1~20.04.2) 9.4.0 FreeBSD 14.2 Kernel: 14.2-RELEASE Compiler: clang 18.1.6 CentOS Stream 9 Kernel: 5.15 Compiler: gcc gcc (GCC) 11.5.0 20240719 (Red Hat 11.5.0-11) CentOS Stream 10 Kernel: 5.15 Compiler: gcc gcc (GCC) 14.2.1 20250110 (Red Hat 14.2.1-8) Debian GNU/Linux 12 Kernel: 5.15 Compiler: gcc gcc (Debian 12.2.0-14+deb12u1) 12.2.0 Fedora Linux 42 Kernel: 5.15 Compiler: clang gcc (GCC) 15.2.1 20250808 (Red Hat 15.2.1-1) openSUSE Leap 15.6 Kernel: 5.15 Compiler: gcc gcc (SUSE Linux) 7.5.0 Red Hat Enterprise Linux 8.10 Kernel: 5.15 Compiler: gcc gcc (GCC) 8.5.0 20210514 (Red Hat 8.5.0-22) Red Hat Enterprise Linux 9.5 Kernel: 5.15 Compiler: gcc gcc (GCC) 11.5.0 20240719 (Red Hat 11.5.0-2) Ubuntu 22.04 Kernel: 5.15 Compiler: gcc gcc (Ubuntu 11.4.0-1ubuntu1~22.04) 11.4.0 Ubuntu 24.04 Kernel: 5.15 Compiler: gcc gcc (Ubuntu 13.3.0-6ubuntu2~24.04) 13.3.0 Alpine Linux 3.22.0 Kernel: 5.15 Compiler: gcc gcc (Alpine 14.2.0) 14.2.0 Windows Server 2022 Kernel: 10.0.20348.2031 Compiler: clang 15.0.7, gcc 14.1.0 (MinGW), and MSVC VS 19.39.33521 To view detailed results, visit: https://lab.dpdk.org/results/dashboard/patchsets/34336/ UNH-IOL DPDK Community Lab To manage your email subscriptions, visit: https://lab.dpdk.org/results/dashboard/preferences/subscriptions/