From mboxrd@z Thu Jan 1 00:00:00 1970 Return-Path: Received: from mails.dpdk.org (mails.dpdk.org [217.70.189.124]) by inbox.dpdk.org (Postfix) with ESMTP id 8944648991 for ; Tue, 21 Oct 2025 00:36:53 +0200 (CEST) Received: from mails.dpdk.org (localhost [127.0.0.1]) by mails.dpdk.org (Postfix) with ESMTP id 6C0D3400D5; Tue, 21 Oct 2025 00:36:53 +0200 (CEST) Received: from mail-io1-f98.google.com (mail-io1-f98.google.com [209.85.166.98]) by mails.dpdk.org (Postfix) with ESMTP id BBFC1400D5 for ; Tue, 21 Oct 2025 00:36:52 +0200 (CEST) Received: by mail-io1-f98.google.com with SMTP id ca18e2360f4ac-92c781fd73aso505735739f.1 for ; Mon, 20 Oct 2025 15:36:52 -0700 (PDT) DKIM-Signature: v=1; a=rsa-sha256; c=relaxed/relaxed; d=iol.unh.edu; s=unh-iol; t=1760999812; x=1761604612; darn=dpdk.org; h=references:in-reply-to:cc:to:from:subject:message-id:date:from:to :cc:subject:date:message-id:reply-to; bh=RCq4s0aZtG9A4trkBgGFfDjxjNoTRE+Wc86WJTz/KyY=; b=DBEY9b9gIhug1Ix8RmMJlYf9YaMvvnN1cZLSuDWs/qxrul2NjDNP0cw8V6db3JoOUv mzikbeOX3xMcR2VKJBHOWfxyTxvKjnD8ZI1yfVWctDXmDzKWowtuRv/wung3OrKiqhSU 6izMC7bi3R+K3mSfaMn7+NaHslA+4xepwX7Rs= X-Google-DKIM-Signature: v=1; a=rsa-sha256; c=relaxed/relaxed; d=1e100.net; s=20230601; t=1760999812; x=1761604612; h=references:in-reply-to:cc:to:from:subject:message-id:date :x-gm-message-state:from:to:cc:subject:date:message-id:reply-to; bh=RCq4s0aZtG9A4trkBgGFfDjxjNoTRE+Wc86WJTz/KyY=; b=q/lAjns/21fOXNC4RnqqL0oMYgp7vtcJ5/RV0lBUaEQpxmYytpouoyZHga6j8Eo/K1 mFo/Ch4ZyqolI44pC11IkfP1APuD2NHkHJDFhao99H+mYWYCx8AEqAwJtQRTRd3MdFXB lIwzlg/ymjDNuvfa4h7UIEBYFlipiWAOawHxaSur9VRdXT8EqAR9023h280Mq9n5udqN hDtpvWyw2rSmxElN599tjpULXSqN2hP80QmjLXWiErZ0hSf/q/dOmYZHISKNreMgx4N2 IhLJaOilmIDY6pKZfSZY3ZNUTPDsmUS2HG9+GksDC1K4sxjBPQfBuQaUy1HKTEyyVYdH nAxg== X-Gm-Message-State: AOJu0Yyc9DYTHEWR5h8uefJ3SodOKeOF1M24gflvw577XoLUAJu7yidP N9eNuQnTHP/ju49Lixga3n8nYYZVvgPn15IEotjezg3Van1tB92yLg0giTGe+E0tfiOkmNPbHio YXxbS4J/Qdf5uipbKUOfopNglkkatD8LbpcRaBHKYLuDi/1SttY/5VtT7ZgJu X-Gm-Gg: ASbGnctPZhiCRX7Z6ownC+Kl3Y/BE+HZ/T77HhYaIWRMAM+tFnHMkVpmtoo4rzgeaqD Sp4czypTVjFYmU/KeYesH3YQRgrORLnQGhLwzAOQmPceBIWPFJGLjJC8bKj5rm/KdaDveqaB51j BdgZWBMcOH/hskBl+gaOCF9ya11SCimyAdkWKYXKML63CiFr/VcOnjW/dqh2Sv9uYxedhIjapx5 fAS4Rtb1oI5Qr/URCqdkdI4EY/HXxg+qIVSE0ncj5yJJEJFS6Ofeh7vWsQT+GEK+6qJgcIDNxRg aTwW95+fiyEt7hkBZJp5YkTLnSHYifxTgwt94xBNFlaFcBLURnTdAP454UEmMNXnFJRGnQmfDIE QB1qwD0ur X-Google-Smtp-Source: AGHT+IFxtUUOSQnsTBYzpdwhK6oih049eMvAl8bmH9Mqbsvw0e6FXAIi5ztnDqTYqSGDe9tX9UrnQ20hP9hu X-Received: by 2002:a05:6602:608c:b0:906:c3ea:3fb7 with SMTP id ca18e2360f4ac-93e763cf783mr2160863439f.12.1760999812025; Mon, 20 Oct 2025 15:36:52 -0700 (PDT) Received: from postal.iol.unh.edu (postal.iol.unh.edu. [2606:4100:3880:1234::84]) by smtp-relay.gmail.com with ESMTPS id 8926c6da1cb9f-5a8a962798bsm1081677173.12.2025.10.20.15.36.51 (version=TLS1_2 cipher=ECDHE-ECDSA-AES128-GCM-SHA256 bits=128/128); Mon, 20 Oct 2025 15:36:52 -0700 (PDT) X-Relaying-Domain: iol.unh.edu Date: Mon, 20 Oct 2025 15:36:52 -0700 (PDT) Message-ID: <68f6b984.050a0220.3bbcfc.2ca4SMTPIN_ADDED_MISSING@mx.google.com> Received: from [172.21.0.2] (unknown [172.18.0.240]) by postal.iol.unh.edu (Postfix) with ESMTP id 883496051830; Mon, 20 Oct 2025 18:36:51 -0400 (EDT) Subject: |SUCCESS| pw157854 [PATCH] [v3,1/1] lib/eal/riscv: optimize rte_memc From: dpdklab@iol.unh.edu To: Test Report Cc: dpdk-test-reports@iol.unh.edu In-Reply-To: <20251020120832.1377782-2-chen.qiguo@zte.com.cn> References: <20251020120832.1377782-2-chen.qiguo@zte.com.cn> Content-Type: text/plain X-BeenThere: test-report@dpdk.org X-Mailman-Version: 2.1.29 Precedence: list List-Id: automatic DPDK test reports List-Unsubscribe: , List-Archive: List-Post: List-Help: List-Subscribe: , Errors-To: test-report-bounces@dpdk.org Test-Label: iol-unit-arm64-testing Test-Status: SUCCESS http://dpdk.org/patch/157854 _Testing PASS_ Submitter: Qiguo Chen Date: Monday, October 20 2025 12:08:32 DPDK git baseline: Repo:dpdk Branch: master CommitID:3e19094cb697998972e7f89bdd3ab08ea457ae1f 157854 --> testing pass Upstream job id: Generic-Unit-Test-DPDK#383604 Test environment and result as below: +------------------------------+----------------+---------------------------+------------------------------+--------------+ | Environment | dpdk_unit_test | cryptodev_sw_zuc_autotest | cryptodev_sw_snow3g_autotest | lpm_autotest | +==============================+================+===========================+==============================+==============+ | Fedora Linux 42 | PASS | SKIPPED | SKIPPED | SKIPPED | +------------------------------+----------------+---------------------------+------------------------------+--------------+ | CentOS Stream 9 | PASS | SKIPPED | SKIPPED | SKIPPED | +------------------------------+----------------+---------------------------+------------------------------+--------------+ | Fedora Linux 40 | PASS | SKIPPED | SKIPPED | SKIPPED | +------------------------------+----------------+---------------------------+------------------------------+--------------+ | Fedora Linux 41 | PASS | SKIPPED | SKIPPED | SKIPPED | +------------------------------+----------------+---------------------------+------------------------------+--------------+ | Ubuntu 22.04 | PASS | SKIPPED | SKIPPED | SKIPPED | +------------------------------+----------------+---------------------------+------------------------------+--------------+ | CentOS Stream 10 | PASS | SKIPPED | SKIPPED | SKIPPED | +------------------------------+----------------+---------------------------+------------------------------+--------------+ | Ubuntu 20.04 | PASS | SKIPPED | SKIPPED | PASS | +------------------------------+----------------+---------------------------+------------------------------+--------------+ | Debian GNU/Linux 12 | PASS | SKIPPED | SKIPPED | SKIPPED | +------------------------------+----------------+---------------------------+------------------------------+--------------+ | Red Hat Enterprise Linux 9.5 | PASS | SKIPPED | SKIPPED | SKIPPED | +------------------------------+----------------+---------------------------+------------------------------+--------------+ | Ubuntu 24.04 | PASS | SKIPPED | SKIPPED | SKIPPED | +------------------------------+----------------+---------------------------+------------------------------+--------------+ | Debian 12 (arm) | SKIPPED | PASS | PASS | SKIPPED | +------------------------------+----------------+---------------------------+------------------------------+--------------+ Fedora Linux 42 Kernel: 5.4 Compiler: gcc gcc (GCC) 15.2.1 20250808 (Red Hat 15.2.1-1) CentOS Stream 9 Kernel: 5.4 Compiler: gcc gcc (GCC) 11.5.0 20240719 (Red Hat 11.5.0-11) Fedora Linux 40 Kernel: 5.4 Compiler: clang gcc (GCC) 14.2.1 20240912 (Red Hat 14.2.1-3) Fedora Linux 41 Kernel: 5.4 Compiler: clang gcc (GCC) 14.3.1 20250523 (Red Hat 14.3.1-1) Ubuntu 22.04 Kernel: 5.4 Compiler: gcc gcc (Ubuntu 11.4.0-1ubuntu1~22.04) 11.4.0 CentOS Stream 10 Kernel: 5.4 Compiler: gcc gcc (GCC) 14.2.1 20250110 (Red Hat 14.2.1-8) Ubuntu 20.04 Kernel: 5.4 Compiler: gcc gcc (Ubuntu 9.4.0-1ubuntu1~20.04.2) 9.4.0 Debian GNU/Linux 12 Kernel: 5.4 Compiler: gcc gcc (Debian 12.2.0-14+deb12u1) 12.2.0 Red Hat Enterprise Linux 9.5 Kernel: 5.4 Compiler: gcc gcc (GCC) 11.5.0 20240719 (Red Hat 11.5.0-2) Ubuntu 24.04 Kernel: 5.4 Compiler: gcc gcc (Ubuntu 13.3.0-6ubuntu2~24.04) 13.3.0 Debian 12 (arm) Kernel: Depends on container host Compiler: gcc (Debian 12.2.0-14) 12.2.0 To view detailed results, visit: https://lab.dpdk.org/results/dashboard/patchsets/34330/ UNH-IOL DPDK Community Lab To manage your email subscriptions, visit: https://lab.dpdk.org/results/dashboard/preferences/subscriptions/