From mboxrd@z Thu Jan 1 00:00:00 1970 Return-Path: Received: from mails.dpdk.org (mails.dpdk.org [217.70.189.124]) by inbox.dpdk.org (Postfix) with ESMTP id CD0AF48991 for ; Tue, 21 Oct 2025 01:03:44 +0200 (CEST) Received: from mails.dpdk.org (localhost [127.0.0.1]) by mails.dpdk.org (Postfix) with ESMTP id A10BB400D5; Tue, 21 Oct 2025 01:03:44 +0200 (CEST) Received: from mail-yw1-f225.google.com (mail-yw1-f225.google.com [209.85.128.225]) by mails.dpdk.org (Postfix) with ESMTP id 95CC7400D5 for ; Tue, 21 Oct 2025 01:03:43 +0200 (CEST) Received: by mail-yw1-f225.google.com with SMTP id 00721157ae682-7836853a0d6so72060627b3.1 for ; Mon, 20 Oct 2025 16:03:43 -0700 (PDT) DKIM-Signature: v=1; a=rsa-sha256; c=relaxed/relaxed; d=iol.unh.edu; s=unh-iol; t=1761001423; x=1761606223; darn=dpdk.org; h=references:in-reply-to:cc:to:from:subject:message-id:date:from:to :cc:subject:date:message-id:reply-to; bh=Qo5umOFTg2UD5GwpIVcPEWw/H7qJoRiE0BpvE9iiN7k=; b=eApLd6/cZMrJ1PNtNlUrSWNnakVok19iV58cZIoros6iyHKH87SzzzyqhwPAneSNR1 +VdQFuBo4igaTTyqmn0ElINWnQjC4ZdfBXSTY5+55UAjkAZ56L8OPWSLdwibnEFlv9// q7+MyjnozqIqW15YS1fpMTZ+o/WRf/7e3OOFc= X-Google-DKIM-Signature: v=1; a=rsa-sha256; c=relaxed/relaxed; d=1e100.net; s=20230601; t=1761001423; x=1761606223; h=references:in-reply-to:cc:to:from:subject:message-id:date :x-gm-message-state:from:to:cc:subject:date:message-id:reply-to; bh=Qo5umOFTg2UD5GwpIVcPEWw/H7qJoRiE0BpvE9iiN7k=; b=gPA1tmOJ8LiwmodHyJeQ6mhRRckMDIGxuDG51psrNtXQ1qkgaIE/M6Lr/SMTEAp+Oa 67D1yLsOjbTd1pb1K9CgQZ9xp+m245sXbOCvNfLddDqGrTYW49ptdadE4Vue2TWKNc5t F21ciCZpeq6KnuJYykPOiS+c2TjWb2U+YjbmqKLZQgjwLVGQb2B8JGVsfuMegfP6Jguj Ne9ezjhnMDs8y+qW6AoPj0HH0k7ajIpROXo8QtoYQe2xxiMvbSl3iH4IExv30YH4hm9y ed3UC4USe4PKJAt2CFsddS7CeyROv8C0p+KY2ygvJJrz+SKIA95U7NB7i+B4kt5aRnrY FG0A== X-Gm-Message-State: AOJu0YxnNvZD3D4kDMTFpVS50AZ9k9oS9umcOvyFIVbO77ZBSw5d0S1j i+GBiAU+pbIuq+znfblX/DtELYFh+si6y416ygwO2ZfdnjUsjpEeMM9k9MJufJNN23djKJgRoPe eyKzbqTzmE3XrfAhTvUnjFHxERmk2NmtQYtbHsN+w9Qm5 X-Gm-Gg: ASbGncscgH2T2ZwrTZgfAKdic+ZaSdz1Z4L4uXdYxAOxnE1PyWoPHyf1ZAoq1sJh0xb esX3AFSGWsHTFRcPN38o4lCuP7ioZzKk/EsyUZqN3e6FJfcFwQ9h5/9c09UhZ4N+sMvHyoBQpNN 47zFCXMJ7RNMR1+ThrAXaI7LX/TVq87MH7HsQaHeoedOLtqWZ40O4bcAnB+P/L/2rlYuDyjtWij FDH50pK8X5d2T+T+KmuHcC/7pJAU03mSuJKEL71KacZz19/z5Phq2B6LIUF9R1sBRI+MPXngE9e CC7OC6Ragz9s4p+xIFJ7drtb7FvCk+s7lzwaeMNWKlvHlvHn4JEtzmDxenBz4DV1He6fd4Rp0th 1amQlISswGDcz7xIyVVv6RxooCTUPRs4= X-Google-Smtp-Source: AGHT+IHuSkfx+quGPHTLpGg4YaiuUwXRcEpGOYG3GMm5mLByW2mNwyt0xV0u4/a77rEELQ0g6BmYrFthWbX+ X-Received: by 2002:a05:690c:60c1:b0:75d:e8c9:2db3 with SMTP id 00721157ae682-7836cddc05fmr126220427b3.17.1761001422910; Mon, 20 Oct 2025 16:03:42 -0700 (PDT) Received: from postal.iol.unh.edu (postal.iol.unh.edu. [132.177.123.84]) by smtp-relay.gmail.com with ESMTPS id 00721157ae682-7846a69946esm7453497b3.34.2025.10.20.16.03.42 (version=TLS1_2 cipher=ECDHE-ECDSA-AES128-GCM-SHA256 bits=128/128); Mon, 20 Oct 2025 16:03:42 -0700 (PDT) X-Relaying-Domain: iol.unh.edu Date: Mon, 20 Oct 2025 16:03:42 -0700 (PDT) Message-ID: <68f6bfce.050a0220.306f79.8606SMTPIN_ADDED_MISSING@mx.google.com> Received: from [172.21.0.2] (unknown [172.18.0.240]) by postal.iol.unh.edu (Postfix) with ESMTP id 8099F6051830; Mon, 20 Oct 2025 19:03:42 -0400 (EDT) Subject: |SUCCESS| pw157853 [PATCH] [v2] mbuf: optimize segment prefree From: dpdklab@iol.unh.edu To: Test Report Cc: dpdk-test-reports@iol.unh.edu In-Reply-To: <20251020120202.80114-1-mb@smartsharesystems.com> References: <20251020120202.80114-1-mb@smartsharesystems.com> Content-Type: text/plain X-BeenThere: test-report@dpdk.org X-Mailman-Version: 2.1.29 Precedence: list List-Id: automatic DPDK test reports List-Unsubscribe: , List-Archive: List-Post: List-Help: List-Subscribe: , Errors-To: test-report-bounces@dpdk.org Test-Label: iol-compile-arm64-testing Test-Status: SUCCESS http://dpdk.org/patch/157853 _Testing PASS_ Submitter: Morten Brorup Date: Monday, October 20 2025 12:02:01 DPDK git baseline: Repo:dpdk Branch: master CommitID:3e19094cb697998972e7f89bdd3ab08ea457ae1f 157853 --> testing pass Upstream job id: Generic-DPDK-Compile-Meson#436215 Test environment and result as below: +------------------------------+--------------------+ | Environment | dpdk_meson_compile | +==============================+====================+ | Red Hat Enterprise Linux 9.5 | PASS | +------------------------------+--------------------+ | Ubuntu 20.04 | PASS | +------------------------------+--------------------+ | Fedora Linux 42 | PASS | +------------------------------+--------------------+ | CentOS Stream 9 | PASS | +------------------------------+--------------------+ | CentOS Stream 10 | PASS | +------------------------------+--------------------+ | Ubuntu 24.04 | PASS | +------------------------------+--------------------+ | Ubuntu 22.04 | PASS | +------------------------------+--------------------+ | Debian GNU/Linux 12 | PASS | +------------------------------+--------------------+ Red Hat Enterprise Linux 9.5 Kernel: 5.4 Compiler: gcc gcc (GCC) 11.5.0 20240719 (Red Hat 11.5.0-2) Ubuntu 20.04 Kernel: 5.4 Compiler: gcc gcc (Ubuntu 9.4.0-1ubuntu1~20.04.2) 9.4.0 Fedora Linux 42 Kernel: 5.4 Compiler: clang gcc (GCC) 15.2.1 20250808 (Red Hat 15.2.1-1) CentOS Stream 9 Kernel: 5.4 Compiler: gcc gcc (GCC) 11.5.0 20240719 (Red Hat 11.5.0-11) CentOS Stream 10 Kernel: 5.4 Compiler: gcc gcc (GCC) 14.2.1 20250110 (Red Hat 14.2.1-8) Ubuntu 24.04 Kernel: 5.4 Compiler: gcc gcc (Ubuntu 13.3.0-6ubuntu2~24.04) 13.3.0 Ubuntu 22.04 Kernel: 5.4 Compiler: gcc gcc (Ubuntu 11.4.0-1ubuntu1~22.04) 11.4.0 Debian GNU/Linux 12 Kernel: 5.4 Compiler: gcc gcc (Debian 12.2.0-14+deb12u1) 12.2.0 To view detailed results, visit: https://lab.dpdk.org/results/dashboard/patchsets/34329/ UNH-IOL DPDK Community Lab To manage your email subscriptions, visit: https://lab.dpdk.org/results/dashboard/preferences/subscriptions/