From mboxrd@z Thu Jan 1 00:00:00 1970 Return-Path: Received: from mails.dpdk.org (mails.dpdk.org [217.70.189.124]) by inbox.dpdk.org (Postfix) with ESMTP id 1E05548991 for ; Tue, 21 Oct 2025 01:55:34 +0200 (CEST) Received: from mails.dpdk.org (localhost [127.0.0.1]) by mails.dpdk.org (Postfix) with ESMTP id D3253400D5; Tue, 21 Oct 2025 01:55:33 +0200 (CEST) Received: from mail-qv1-f100.google.com (mail-qv1-f100.google.com [209.85.219.100]) by mails.dpdk.org (Postfix) with ESMTP id 16771400D5 for ; Tue, 21 Oct 2025 01:55:33 +0200 (CEST) Received: by mail-qv1-f100.google.com with SMTP id 6a1803df08f44-87a092251eeso109166616d6.0 for ; Mon, 20 Oct 2025 16:55:33 -0700 (PDT) DKIM-Signature: v=1; a=rsa-sha256; c=relaxed/relaxed; d=iol.unh.edu; s=unh-iol; t=1761004532; x=1761609332; darn=dpdk.org; h=references:in-reply-to:cc:to:from:subject:message-id:date:from:to :cc:subject:date:message-id:reply-to; bh=eNQUCYnDJmAUcb/OLYu+BEJ5Kp5J5RXmObJY8Os0P3M=; b=fAScAOC8wD4GzqF19MRb3fWtPFqSKZ60Ov7So8asf33VZpzbO127Xn/tDCnF5/CwnQ 9AOliLEsqYPNzvsZnq4SDLpUWKnTCSR+HugMcRoZ7b47525KFJo02SCQ0QacNSo0XFZd xOojTCM8QnF1uFTgZwGpV3kq5nbrYuLHKQIbs= X-Google-DKIM-Signature: v=1; a=rsa-sha256; c=relaxed/relaxed; d=1e100.net; s=20230601; t=1761004532; x=1761609332; h=references:in-reply-to:cc:to:from:subject:message-id:date :x-gm-message-state:from:to:cc:subject:date:message-id:reply-to; bh=eNQUCYnDJmAUcb/OLYu+BEJ5Kp5J5RXmObJY8Os0P3M=; b=W/NGoHVKKfnpP2zNB0K7eZkBoUXz54H4iOg+DQepgUiRyhAFPpOBMUuZlHLfmrzdbY UVlALoaeTduuShBGXGzbOsf6aMQDIZfOj5TNwV+02kPqQRxPkIeY7eUZo1eF0BOsM9s1 sXyuu+Y3FQYR6tO1cGhqIPecHjUPpqB4BiekkyR+LUJ7C2xRQqmMNUxTPfaUyl5AoAua LORQIGc4OpKcTybxU/EgvyIGEOTRLBKD+R7+os8aQy2vJtNqw/hwQX+NKQUwTZD5kqFp lLRqfMhBO9zsJsx0LVHjvROAx2hQfffP7o/Qw12zaF12RsyFFJhtIGoJr/ds/c3xUxhp unfA== X-Gm-Message-State: AOJu0YzubpsfB74IERdyzLPNt/um9FXdvj2BzbfDIx7s81/5eXGGlZoB BVuQ62roBnnZDvhaUhLR1oTWwxWzbuMdvq0ylvKzdkdu8CHrwiGvNrFS4YrBD0MdAkGtZgmIixR LH1E8M1KOmKlKh/hyG2haN8n6WQ6XNHsTUwbJWQ4Td2Jn X-Gm-Gg: ASbGncuQCKJRDC+gz+RNzz9IVVS7G30p1dzTdFL7EUbVkNxBrKpGdj7QoNJXNzhJaWs qFWPc5qD2bWgXDfPAZDqUOBacfgkf33NrwcGo7PRX2MfxGB4y+B/zRcc6IYlnb4rJXa6faAKroD KPLiixuJT+cCiBAI6ky0ZG7aBXIHsC8nIIDwuJNfEBLYIENKG+vD+oTzh7iEyONNmm3si0vZ3Ui reqbNkWNDFSdfoiYA2L4iuOI/xLTpeZvB+XbAPlmYq11vbYucO24hmWL3NE2/SWZ32bSD1jYcmK o/DuVOGO6UEtyTuALGSW1gVEwBcAYXWRUZBGkujqRItd0otl9cMGaUv55MXq+g1CDrYlFjpVLph 06GihDDWAaQUDviyDenlsG/o90s+j7Yc= X-Google-Smtp-Source: AGHT+IGXzBMnUT+JaWVrJfYHtkNRCSOPtiifea9doSfl8KW8etC9f85T6d3Pg0tppqlA4E7iZs7fuR/nvX4O X-Received: by 2002:a05:6214:ac6:b0:87c:b77:5e7b with SMTP id 6a1803df08f44-87c202cde34mr189885766d6.26.1761004532033; Mon, 20 Oct 2025 16:55:32 -0700 (PDT) Received: from postal.iol.unh.edu (postal.iol.unh.edu. [132.177.123.84]) by smtp-relay.gmail.com with ESMTPS id 6a1803df08f44-87cf5200051sm11271266d6.15.2025.10.20.16.55.31 (version=TLS1_2 cipher=ECDHE-ECDSA-AES128-GCM-SHA256 bits=128/128); Mon, 20 Oct 2025 16:55:32 -0700 (PDT) X-Relaying-Domain: iol.unh.edu Date: Mon, 20 Oct 2025 16:55:32 -0700 (PDT) Message-ID: <68f6cbf4.050a0220.7705b.403bSMTPIN_ADDED_MISSING@mx.google.com> Received: from [172.21.0.4] (unknown [172.18.0.240]) by postal.iol.unh.edu (Postfix) with ESMTP id AF0FD60003EA; Mon, 20 Oct 2025 19:55:31 -0400 (EDT) Subject: |SUCCESS| pw157855 [PATCH] ethdev: revert reject conflicting TX offl From: dpdklab@iol.unh.edu To: Test Report Cc: dpdk-test-reports@iol.unh.edu, Stephen Hemminger In-Reply-To: <20251020123326.80591-1-mb@smartsharesystems.com> References: <20251020123326.80591-1-mb@smartsharesystems.com> Content-Type: text/plain X-BeenThere: test-report@dpdk.org X-Mailman-Version: 2.1.29 Precedence: list List-Id: automatic DPDK test reports List-Unsubscribe: , List-Archive: List-Post: List-Help: List-Subscribe: , Errors-To: test-report-bounces@dpdk.org Test-Label: iol-unit-arm64-testing Test-Status: SUCCESS http://dpdk.org/patch/157855 _Testing PASS_ Submitter: Morten Brorup Date: Monday, October 20 2025 12:33:26 DPDK git baseline: Repo:dpdk-next-net Branch: master CommitID:c3babb4bb7ce96122a966dad7b3da06a379d45f2 157855 --> testing pass Upstream job id: Generic-Unit-Test-DPDK#383625 Test environment and result as below: +------------------------------+----------------+---------------------------+------------------------------+--------------+ | Environment | dpdk_unit_test | cryptodev_sw_zuc_autotest | cryptodev_sw_snow3g_autotest | lpm_autotest | +==============================+================+===========================+==============================+==============+ | Ubuntu 22.04 | PASS | SKIPPED | SKIPPED | SKIPPED | +------------------------------+----------------+---------------------------+------------------------------+--------------+ | CentOS Stream 9 | PASS | SKIPPED | SKIPPED | SKIPPED | +------------------------------+----------------+---------------------------+------------------------------+--------------+ | Debian GNU/Linux 12 | PASS | SKIPPED | SKIPPED | SKIPPED | +------------------------------+----------------+---------------------------+------------------------------+--------------+ | CentOS Stream 10 | PASS | SKIPPED | SKIPPED | SKIPPED | +------------------------------+----------------+---------------------------+------------------------------+--------------+ | Fedora Linux 42 | PASS | SKIPPED | SKIPPED | SKIPPED | +------------------------------+----------------+---------------------------+------------------------------+--------------+ | Fedora Linux 40 | PASS | SKIPPED | SKIPPED | SKIPPED | +------------------------------+----------------+---------------------------+------------------------------+--------------+ | Ubuntu 20.04 | PASS | SKIPPED | SKIPPED | PASS | +------------------------------+----------------+---------------------------+------------------------------+--------------+ | Fedora Linux 41 | PASS | SKIPPED | SKIPPED | SKIPPED | +------------------------------+----------------+---------------------------+------------------------------+--------------+ | Red Hat Enterprise Linux 9.5 | PASS | SKIPPED | SKIPPED | SKIPPED | +------------------------------+----------------+---------------------------+------------------------------+--------------+ | Ubuntu 24.04 | PASS | SKIPPED | SKIPPED | SKIPPED | +------------------------------+----------------+---------------------------+------------------------------+--------------+ | Debian 12 (arm) | SKIPPED | PASS | PASS | SKIPPED | +------------------------------+----------------+---------------------------+------------------------------+--------------+ Ubuntu 22.04 Kernel: 5.15 Compiler: gcc gcc (Ubuntu 11.4.0-1ubuntu1~22.04.2) 11.4.0 CentOS Stream 9 Kernel: 5.4 Compiler: gcc gcc (GCC) 11.5.0 20240719 (Red Hat 11.5.0-11) Debian GNU/Linux 12 Kernel: 5.4 Compiler: gcc gcc (Debian 12.2.0-14+deb12u1) 12.2.0 CentOS Stream 10 Kernel: 5.4 Compiler: gcc gcc (GCC) 14.2.1 20250110 (Red Hat 14.2.1-8) Fedora Linux 42 Kernel: 5.4 Compiler: gcc gcc (GCC) 15.2.1 20250808 (Red Hat 15.2.1-1) Fedora Linux 40 Kernel: 5.4 Compiler: gcc gcc (GCC) 14.2.1 20240912 (Red Hat 14.2.1-3) Ubuntu 20.04 Kernel: 5.4 Compiler: gcc gcc (Ubuntu 9.4.0-1ubuntu1~20.04.2) 9.4.0 Fedora Linux 41 Kernel: 5.4 Compiler: clang gcc (GCC) 14.3.1 20250523 (Red Hat 14.3.1-1) Red Hat Enterprise Linux 9.5 Kernel: 5.4 Compiler: gcc gcc (GCC) 11.5.0 20240719 (Red Hat 11.5.0-2) Ubuntu 24.04 Kernel: 5.4 Compiler: gcc gcc (Ubuntu 13.3.0-6ubuntu2~24.04) 13.3.0 Debian 12 (arm) Kernel: Depends on container host Compiler: gcc (Debian 12.2.0-14) 12.2.0 To view detailed results, visit: https://lab.dpdk.org/results/dashboard/patchsets/34331/ UNH-IOL DPDK Community Lab To manage your email subscriptions, visit: https://lab.dpdk.org/results/dashboard/preferences/subscriptions/