From mboxrd@z Thu Jan 1 00:00:00 1970 Return-Path: Received: from mails.dpdk.org (mails.dpdk.org [217.70.189.124]) by inbox.dpdk.org (Postfix) with ESMTP id 0352148990 for ; Tue, 21 Oct 2025 04:01:14 +0200 (CEST) Received: from mails.dpdk.org (localhost [127.0.0.1]) by mails.dpdk.org (Postfix) with ESMTP id DB2F6400D5; Tue, 21 Oct 2025 04:01:13 +0200 (CEST) Received: from mail-oa1-f98.google.com (mail-oa1-f98.google.com [209.85.160.98]) by mails.dpdk.org (Postfix) with ESMTP id 1F9ED400D5 for ; Tue, 21 Oct 2025 04:01:13 +0200 (CEST) Received: by mail-oa1-f98.google.com with SMTP id 586e51a60fabf-3c917ea655bso3370255fac.1 for ; Mon, 20 Oct 2025 19:01:13 -0700 (PDT) DKIM-Signature: v=1; a=rsa-sha256; c=relaxed/relaxed; d=iol.unh.edu; s=unh-iol; t=1761012072; x=1761616872; darn=dpdk.org; h=references:in-reply-to:cc:to:from:subject:message-id:date:from:to :cc:subject:date:message-id:reply-to; bh=N6HLe5hXwiOBj9XFuH13nZ4CcMbHcKSGYmg6CRI7rs4=; b=eDkdyG/M8EGD5UJzaio8qo9vDTnCmIyT7b2iS6zvrL+lNBeNZBY/orgp/IxGXuFmLz 04qHeJ41qLmWJ/u8nF4upZVvEZGq64tT/5w8jJele2OAUKGT3hKbbVvZAteNLFu/Fcyp dyZMX4vuw6PEeasIf25TAFqCLIj/tORTdoT7U= X-Google-DKIM-Signature: v=1; a=rsa-sha256; c=relaxed/relaxed; d=1e100.net; s=20230601; t=1761012072; x=1761616872; h=references:in-reply-to:cc:to:from:subject:message-id:date :x-gm-message-state:from:to:cc:subject:date:message-id:reply-to; bh=N6HLe5hXwiOBj9XFuH13nZ4CcMbHcKSGYmg6CRI7rs4=; b=nlJ8iON0/smOOTyab6D5lkXOd4IJOK2e/0MV35LSDtMLuYBshrJOpAzn+pLMCiJOuv BOOoyYGP6OJZHM47g+jvaIDVnYc1LIQEUjuuoGmvP/imx6gv+AixAEMbidy7kZ5pYk7b reK3EdwcU4Nf0l+wobZ8mNxj5wieGRuNVeWVOynsocenIMdSxQSKSqb6h0PA3n+c8QMw W8/4bXG8RJIePu/SIYCZVbBoyRJj4E83VhxqzacNuSrkvfZFurspNU6OHHN98st2b+Uf LpvwfTvPmtHzRoylZRuWWlyC3zZwYKksZi6yr9J0IYOnfF9ZFhKhdgnEDWUr/kpgxmzb dA6g== X-Gm-Message-State: AOJu0Yy+dVIdJ8zZJOekA04k/4U9+K0mlzaiXuh2MdQMpG6Re1QOX5no VzFTFGF0O/8PGifzrKK2yId7s0Mt3aW8qYgzHjLrGxv2n48T5L7IfQYlEG0Cq264FbXIEj02VVF 7AByb/GZ3HBNOOfgN6gPmHZtcKQt4XbfMx0XGL4JaZWn/ X-Gm-Gg: ASbGncskIL4oQClWqSlRPGdS2SVPNQH8lnlFSbjjNzBMEZJpD3LhUPmNAyVqsX8YCZm XT/z/M+qjr8FSH/VAH8u/Cq7S3Q/xlfNOzmXMepiqfkreK6ijNsDF6zH6fxSeASRP4/j7YraYtG MD+cdH157rvb1XpEw/bf0D4XteR3cYEatUhAAyzMPuOv0F1bHr2BwvoqNxKgUqVejW0Fm43OfKc Erx1D7DzuUmsL42P4pUvMl5svDI+2m7Ng6nimPQTviG+oYRGZdGk1p8NR7Vx50iSBWUfbEcrvPB OnKwVYuQwUrLVVTnWKsTI3P+4diXqZgJ98d60v2dIgp0R4QHFGLOiKhnuxfJ+i5VwRtH67fIOd3 yWaN69wIkqrdbJukF6xrDu+AthrJyTgw= X-Google-Smtp-Source: AGHT+IEYDcaUwkZjhk9MxUqS/ZOcgN34/LB/zA5TA48XLel9zw+Wc6F/qVPuS7/qJZuOMb7fQkKyqhTsl7qa X-Received: by 2002:a05:6870:9707:b0:372:2656:6714 with SMTP id 586e51a60fabf-3c98cf3a217mr5643860fac.11.1761012072228; Mon, 20 Oct 2025 19:01:12 -0700 (PDT) Received: from postal.iol.unh.edu (postal.iol.unh.edu. [132.177.123.84]) by smtp-relay.gmail.com with ESMTPS id 586e51a60fabf-3c9aef8015fsm1133394fac.8.2025.10.20.19.01.12 (version=TLS1_2 cipher=ECDHE-ECDSA-AES128-GCM-SHA256 bits=128/128); Mon, 20 Oct 2025 19:01:12 -0700 (PDT) X-Relaying-Domain: iol.unh.edu Date: Mon, 20 Oct 2025 19:01:12 -0700 (PDT) Message-ID: <68f6e968.050a0220.d8287.4c83SMTPIN_ADDED_MISSING@mx.google.com> Received: from [172.21.0.3] (unknown [172.18.0.240]) by postal.iol.unh.edu (Postfix) with ESMTP id 5BEB56051830; Mon, 20 Oct 2025 22:01:11 -0400 (EDT) Subject: |SUCCESS| pw157856-157857 [PATCH] [v4,2/2] mailmap: sort mailmap From: dpdklab@iol.unh.edu To: Test Report Cc: dpdk-test-reports@iol.unh.edu In-Reply-To: <20251020140805.1361249-3-bruce.richardson@intel.com> References: <20251020140805.1361249-3-bruce.richardson@intel.com> Content-Type: text/plain X-BeenThere: test-report@dpdk.org X-Mailman-Version: 2.1.29 Precedence: list List-Id: automatic DPDK test reports List-Unsubscribe: , List-Archive: List-Post: List-Help: List-Subscribe: , Errors-To: test-report-bounces@dpdk.org Test-Label: iol-unit-arm64-testing Test-Status: SUCCESS http://dpdk.org/patch/157857 _Testing PASS_ Submitter: Bruce Richardson Date: Monday, October 20 2025 14:08:02 DPDK git baseline: Repo:dpdk Branch: master CommitID:3e19094cb697998972e7f89bdd3ab08ea457ae1f 157856-157857 --> testing pass Upstream job id: Generic-Unit-Test-DPDK#383664 Test environment and result as below: +------------------------------+------------------------------+---------------------------+--------------+----------------+ | Environment | cryptodev_sw_snow3g_autotest | cryptodev_sw_zuc_autotest | lpm_autotest | dpdk_unit_test | +==============================+==============================+===========================+==============+================+ | Debian 12 (arm) | PASS | PASS | SKIPPED | SKIPPED | +------------------------------+------------------------------+---------------------------+--------------+----------------+ | Ubuntu 20.04 | SKIPPED | SKIPPED | PASS | PASS | +------------------------------+------------------------------+---------------------------+--------------+----------------+ | CentOS Stream 9 | SKIPPED | SKIPPED | SKIPPED | PASS | +------------------------------+------------------------------+---------------------------+--------------+----------------+ | Ubuntu 22.04 | SKIPPED | SKIPPED | SKIPPED | PASS | +------------------------------+------------------------------+---------------------------+--------------+----------------+ | Fedora Linux 40 | SKIPPED | SKIPPED | SKIPPED | PASS | +------------------------------+------------------------------+---------------------------+--------------+----------------+ | Fedora Linux 41 | SKIPPED | SKIPPED | SKIPPED | PASS | +------------------------------+------------------------------+---------------------------+--------------+----------------+ | Debian GNU/Linux 12 | SKIPPED | SKIPPED | SKIPPED | PASS | +------------------------------+------------------------------+---------------------------+--------------+----------------+ | Fedora Linux 42 | SKIPPED | SKIPPED | SKIPPED | PASS | +------------------------------+------------------------------+---------------------------+--------------+----------------+ | Red Hat Enterprise Linux 9.5 | SKIPPED | SKIPPED | SKIPPED | PASS | +------------------------------+------------------------------+---------------------------+--------------+----------------+ | CentOS Stream 10 | SKIPPED | SKIPPED | SKIPPED | PASS | +------------------------------+------------------------------+---------------------------+--------------+----------------+ | Ubuntu 24.04 | SKIPPED | SKIPPED | SKIPPED | PASS | +------------------------------+------------------------------+---------------------------+--------------+----------------+ Debian 12 (arm) Kernel: Depends on container host Compiler: gcc (Debian 12.2.0-14) 12.2.0 Ubuntu 20.04 Kernel: 5.4 Compiler: gcc gcc (Ubuntu 9.4.0-1ubuntu1~20.04.2) 9.4.0 CentOS Stream 9 Kernel: 5.4 Compiler: gcc gcc (GCC) 11.5.0 20240719 (Red Hat 11.5.0-11) Ubuntu 22.04 Kernel: 5.15 Compiler: gcc gcc (Ubuntu 11.4.0-1ubuntu1~22.04.2) 11.4.0 Fedora Linux 40 Kernel: 5.4 Compiler: gcc gcc (GCC) 14.2.1 20240912 (Red Hat 14.2.1-3) Fedora Linux 41 Kernel: 5.4 Compiler: gcc gcc (GCC) 14.3.1 20250523 (Red Hat 14.3.1-1) Debian GNU/Linux 12 Kernel: 5.4 Compiler: gcc gcc (Debian 12.2.0-14+deb12u1) 12.2.0 Fedora Linux 42 Kernel: 5.4 Compiler: clang gcc (GCC) 15.2.1 20250808 (Red Hat 15.2.1-1) Red Hat Enterprise Linux 9.5 Kernel: 5.4 Compiler: gcc gcc (GCC) 11.5.0 20240719 (Red Hat 11.5.0-2) CentOS Stream 10 Kernel: 5.4 Compiler: gcc gcc (GCC) 14.2.1 20250110 (Red Hat 14.2.1-8) Ubuntu 24.04 Kernel: 5.4 Compiler: gcc gcc (Ubuntu 13.3.0-6ubuntu2~24.04) 13.3.0 To view detailed results, visit: https://lab.dpdk.org/results/dashboard/patchsets/34332/ UNH-IOL DPDK Community Lab To manage your email subscriptions, visit: https://lab.dpdk.org/results/dashboard/preferences/subscriptions/