From mboxrd@z Thu Jan 1 00:00:00 1970 Return-Path: Received: from mails.dpdk.org (mails.dpdk.org [217.70.189.124]) by inbox.dpdk.org (Postfix) with ESMTP id D23D748990 for ; Tue, 21 Oct 2025 04:21:56 +0200 (CEST) Received: from mails.dpdk.org (localhost [127.0.0.1]) by mails.dpdk.org (Postfix) with ESMTP id B67C8400D5; Tue, 21 Oct 2025 04:21:56 +0200 (CEST) Received: from mail-oa1-f99.google.com (mail-oa1-f99.google.com [209.85.160.99]) by mails.dpdk.org (Postfix) with ESMTP id E9EF8400D5 for ; Tue, 21 Oct 2025 04:21:55 +0200 (CEST) Received: by mail-oa1-f99.google.com with SMTP id 586e51a60fabf-3c9ac55a907so1940389fac.2 for ; Mon, 20 Oct 2025 19:21:55 -0700 (PDT) DKIM-Signature: v=1; a=rsa-sha256; c=relaxed/relaxed; d=iol.unh.edu; s=unh-iol; t=1761013315; x=1761618115; darn=dpdk.org; h=references:in-reply-to:cc:to:from:subject:message-id:date:from:to :cc:subject:date:message-id:reply-to; bh=HxEfCAeQqYyL7WxHcgnP/UoWAIfVZZXX/gYZI/eunjM=; b=VrJRefgPQMo9KQybzwxVXVl6OqokS0FBAQJS+RchkmF/CpI4WDnqZjSVaZ/TTLBKp1 TyzY20XRvO5TUcbdFyHK4zlQsiisH1P0Om/2S/irN5aWOzaHmgS9BZTYbdSjbHgYznrA /EPwtLXCMDTmnUEcdmKiM3c3GPtRPj04vEjJI= X-Google-DKIM-Signature: v=1; a=rsa-sha256; c=relaxed/relaxed; d=1e100.net; s=20230601; t=1761013315; x=1761618115; h=references:in-reply-to:cc:to:from:subject:message-id:date :x-gm-message-state:from:to:cc:subject:date:message-id:reply-to; bh=HxEfCAeQqYyL7WxHcgnP/UoWAIfVZZXX/gYZI/eunjM=; b=L5YBZL/j3j47URsCyfU/Ha1g+RU1erYK5jIDdBTiV86w+RA4kFJ/SAB4SUBey7dFqn 7DPesT8w87EB+P0jvzYJwdyGbKVD2Rv5StHrfD3p98KZs7WGhwCfgvreCpDlSj1r/405 /XPrfrtXIGvxg9i+1iHPvhhdwR53PawiOpjeFxyU/bOBv2t553aT8NsTCVZBFrh9sprw 6haiCxzEw60PfwKFGO4EH1+ADqgNW0KI5KQd+a2g+6DK3OjYLzejXk+pWVImSUr2Oq1h DH2Z3kJ8NvHRfLoMazxqEmJ3rpKGf4t117MWOB8I7E0dF8flgchasjfHc+pReQc761nb j9ww== X-Gm-Message-State: AOJu0YwXOp94LABBeX6tqD2mCMDrRFxr/pGIQEZ81sD5alEOi/PmgPb+ u6BTNT93haDdJdTCqnJWjHgMGpQmzk/GRivkZsoUVwKuusuV32Ds2GC7P8nnHwV7HVr5bkd7cx4 6///pva5W0T3msNx8/LFfO0xIVfw7KG4qNZZtDTQiXwsWx4UiW+iR4okkU9n5 X-Gm-Gg: ASbGncto8tYkTRB4ZTUzKO4ILp4Neg7Un2A+6MnBwx40rR1VP32XuOH9iYTotpFiUhh gNW84Yr2PW22b3MNL1YnkcLpLBKtc/VyC4YhsUk2lH+3TgMVUpDYmxv11vBX0xdioFKVzC3nwh1 8RpIePrzGl2Goj/mex74LbRbDEWnWYvj06IBMePZbqSxWBdp7BaajL8uolUl57GWG4B6eIfBg7M 3q56o0hpfGMVwR1Fhxhsq+eH73TwkkpGIjAcE0ikDSjozQ642JCUz/remND74V8ylvth81YhGao W3ttbL4ih8QnxxCp3ujUsQN7TFVyuzWx4L4G2gdHJg2D8sLljCQrfaj5qZ3Euxo4WJl531WQCCl Y2V/i/EIz X-Google-Smtp-Source: AGHT+IFrooP2jb41Q1Uizf9Av4bOQ+CSZ9n3431JM6V0sBA0+19lQ6umaQ5pjxgsXWAhgQuKgN2NilidXflz X-Received: by 2002:a05:6870:e12b:b0:319:c278:4a6 with SMTP id 586e51a60fabf-3c98d1743f2mr7340185fac.44.1761013315065; Mon, 20 Oct 2025 19:21:55 -0700 (PDT) Received: from postal.iol.unh.edu (postal.iol.unh.edu. [2606:4100:3880:1234::84]) by smtp-relay.gmail.com with ESMTPS id 586e51a60fabf-3c9aefbc28bsm1236418fac.9.2025.10.20.19.21.54 (version=TLS1_2 cipher=ECDHE-ECDSA-AES128-GCM-SHA256 bits=128/128); Mon, 20 Oct 2025 19:21:55 -0700 (PDT) X-Relaying-Domain: iol.unh.edu Date: Mon, 20 Oct 2025 19:21:55 -0700 (PDT) Message-ID: <68f6ee43.050a0220.1416e5.9ac2SMTPIN_ADDED_MISSING@mx.google.com> Received: from [172.21.0.2] (unknown [172.18.0.240]) by postal.iol.unh.edu (Postfix) with ESMTP id 85FCC60003EA; Mon, 20 Oct 2025 22:21:54 -0400 (EDT) Subject: |SUCCESS| pw157854 [PATCH] [v3,1/1] lib/eal/riscv: optimize rte_memc From: dpdklab@iol.unh.edu To: Test Report Cc: dpdk-test-reports@iol.unh.edu In-Reply-To: <20251020120832.1377782-2-chen.qiguo@zte.com.cn> References: <20251020120832.1377782-2-chen.qiguo@zte.com.cn> Content-Type: text/plain X-BeenThere: test-report@dpdk.org X-Mailman-Version: 2.1.29 Precedence: list List-Id: automatic DPDK test reports List-Unsubscribe: , List-Archive: List-Post: List-Help: List-Subscribe: , Errors-To: test-report-bounces@dpdk.org Test-Label: iol-compile-arm64-testing Test-Status: SUCCESS http://dpdk.org/patch/157854 _Testing PASS_ Submitter: Qiguo Chen Date: Monday, October 20 2025 12:08:32 DPDK git baseline: Repo:dpdk Branch: master CommitID:3e19094cb697998972e7f89bdd3ab08ea457ae1f 157854 --> testing pass Upstream job id: Generic-DPDK-Compile-Meson#436243 Test environment and result as below: +------------------------------+--------------------+ | Environment | dpdk_meson_compile | +==============================+====================+ | Ubuntu 20.04 | PASS | +------------------------------+--------------------+ | Red Hat Enterprise Linux 9.5 | PASS | +------------------------------+--------------------+ | Debian GNU/Linux 12 | PASS | +------------------------------+--------------------+ | Fedora Linux 42 | PASS | +------------------------------+--------------------+ | Ubuntu 22.04 | PASS | +------------------------------+--------------------+ | CentOS Stream 9 | PASS | +------------------------------+--------------------+ | CentOS Stream 10 | PASS | +------------------------------+--------------------+ | Ubuntu 24.04 | PASS | +------------------------------+--------------------+ Ubuntu 20.04 Kernel: 5.15 Compiler: aarch64-linux-gnu-gcc gcc (Ubuntu 9.4.0-1ubuntu1~20.04.2) 9.4.0 Red Hat Enterprise Linux 9.5 Kernel: 5.4 Compiler: gcc gcc (GCC) 11.5.0 20240719 (Red Hat 11.5.0-2) Debian GNU/Linux 12 Kernel: 5.4 Compiler: gcc gcc (Debian 12.2.0-14+deb12u1) 12.2.0 Fedora Linux 42 Kernel: 5.4 Compiler: gcc gcc (GCC) 15.2.1 20250808 (Red Hat 15.2.1-1) Ubuntu 22.04 Kernel: 5.4 Compiler: gcc gcc (Ubuntu 11.4.0-1ubuntu1~22.04) 11.4.0 CentOS Stream 9 Kernel: 5.4 Compiler: gcc gcc (GCC) 11.5.0 20240719 (Red Hat 11.5.0-11) CentOS Stream 10 Kernel: 5.4 Compiler: gcc gcc (GCC) 14.2.1 20250110 (Red Hat 14.2.1-8) Ubuntu 24.04 Kernel: 5.4 Compiler: gcc gcc (Ubuntu 13.3.0-6ubuntu2~24.04) 13.3.0 To view detailed results, visit: https://lab.dpdk.org/results/dashboard/patchsets/34330/ UNH-IOL DPDK Community Lab To manage your email subscriptions, visit: https://lab.dpdk.org/results/dashboard/preferences/subscriptions/