From mboxrd@z Thu Jan 1 00:00:00 1970 Return-Path: Received: from mails.dpdk.org (mails.dpdk.org [217.70.189.124]) by inbox.dpdk.org (Postfix) with ESMTP id 4CC8548990 for ; Tue, 21 Oct 2025 05:24:26 +0200 (CEST) Received: from mails.dpdk.org (localhost [127.0.0.1]) by mails.dpdk.org (Postfix) with ESMTP id 290EA400D5; Tue, 21 Oct 2025 05:24:26 +0200 (CEST) Received: from mail-pg1-f227.google.com (mail-pg1-f227.google.com [209.85.215.227]) by mails.dpdk.org (Postfix) with ESMTP id EAF1F400D5 for ; Tue, 21 Oct 2025 05:24:24 +0200 (CEST) Received: by mail-pg1-f227.google.com with SMTP id 41be03b00d2f7-b49c1c130c9so3192241a12.0 for ; Mon, 20 Oct 2025 20:24:24 -0700 (PDT) DKIM-Signature: v=1; a=rsa-sha256; c=relaxed/relaxed; d=iol.unh.edu; s=unh-iol; t=1761017064; x=1761621864; darn=dpdk.org; h=references:in-reply-to:cc:to:from:subject:message-id:date:from:to :cc:subject:date:message-id:reply-to; bh=lRpltXLXxpgUyk6eS4LO4L4XmGIYYIKsiQRmjKKrXIk=; b=Yw+MMpNuK4IbULcLMLQmjPwH+2T5H5gmjvTqtGe0RcRZa4PkxehD2Q1EeoYtZOJhtO mGdGxTtsbxyKCL7GwI+1T98/suQKM82SQTKPu4vmtzTFVHIaAqzXHM4r1UYjiBl9kCYL SFMWDrHEFaH5j6cLzKHoVNviTV44WqLhjAsWQ= X-Google-DKIM-Signature: v=1; a=rsa-sha256; c=relaxed/relaxed; d=1e100.net; s=20230601; t=1761017064; x=1761621864; h=references:in-reply-to:cc:to:from:subject:message-id:date :x-gm-message-state:from:to:cc:subject:date:message-id:reply-to; bh=lRpltXLXxpgUyk6eS4LO4L4XmGIYYIKsiQRmjKKrXIk=; b=L3EIBDyH247UwhhkpYzLxPfD+zqswIvxmkWFzaA07qT0TXwRLbkiQNljGxJupFMbWa uk3A1Eth4lxLmkUHPgT31OpN4tsKeufJ/lG5opWFUUAa7e/IaZmeytZinC6Eh8wJD76I w62247lGymvAQo2ezGX9Vhr4mkAGHhDbc9wz9QO4m8FShoeOZo0L+jC+4CjE4i5WlO0p Rvzs927D6obAwvIX1Awn7ufmjHYYoc9bJ6yzMb0sotKrEmI3rpr50eTeNMko4nHWXUwA rpu+Jg64bgFURMY37OtdLYYix4s4GaFNA551fmjEvE09Ms4QX6mAFM7k4bOJpHPQ5Hmm mR0g== X-Gm-Message-State: AOJu0YzghMPmG/HEyOlPTbd58Y59UaqrAYZ6J5HnFNuVc40GTAYI3Qce PsRyMdOgLw5JQ+TcWNg9eRNoO81JDgJZBW1xvYtnkYXhv/Ub9Wl4WEPyCNeml+aZwq6QeIzPeq0 Pu15BUux84PiK1UbnFGCECdJeWPF959BuNs02m4TCWCI/65cuRIjB23TSEenh X-Gm-Gg: ASbGncsoRQGOgGGJ8lkKAb9MZ0u3UnGif9T/TuHgtXObxB3ohDJl1dgAxBqD2c+DgNQ C5/QbuF9lH/eJ0YsKexArvMKDIZmlgu3WjEQrY+WBg4Y0jQq7EQJjPRl5BO7J4ZcwuNjRRzAxJ3 nP3aDw3kM5mq15w1z/Fp4UEBzANDRvz47RI9HxEPodMdgydLvrvDIxDQqutGdAOY5XadJZYrIOD cBmkG+3CaGaH2VyM7a8QgzGcaMXsiwrWmz9z5uxFBVBExCgQVNJKzUTrTtOh9R1VpgOOp5ojFhY dfbsD1VwQHXU+TykqAqwhx3G740aOwhNfDOneezJB9OCNcxo+diaMSPGDqwwjnO1BNQ/sDcKeLk pwWIZfyLY X-Google-Smtp-Source: AGHT+IGOjG5tpXmybzQUgiKAwld0pg3Whl2Vw0AO8swpjRdD6DIKj4fMJR97JQCNnWh0OEnJfgZhwo4IkhmF X-Received: by 2002:a17:903:35c6:b0:276:76e1:2e87 with SMTP id d9443c01a7336-290cb46c267mr194043345ad.44.1761017063971; Mon, 20 Oct 2025 20:24:23 -0700 (PDT) Received: from postal.iol.unh.edu (postal.iol.unh.edu. [2606:4100:3880:1234::84]) by smtp-relay.gmail.com with ESMTPS id d9443c01a7336-29246feeae8sm12132865ad.3.2025.10.20.20.24.23 (version=TLS1_2 cipher=ECDHE-ECDSA-AES128-GCM-SHA256 bits=128/128); Mon, 20 Oct 2025 20:24:23 -0700 (PDT) X-Relaying-Domain: iol.unh.edu Date: Mon, 20 Oct 2025 20:24:23 -0700 (PDT) Message-ID: <68f6fce7.170a0220.3191c2.7ac5SMTPIN_ADDED_MISSING@mx.google.com> Received: from [172.21.0.3] (unknown [172.18.0.240]) by postal.iol.unh.edu (Postfix) with ESMTP id 6742D60003EA; Mon, 20 Oct 2025 23:24:23 -0400 (EDT) Subject: |SUCCESS| pw157855 [PATCH] ethdev: revert reject conflicting TX offl From: dpdklab@iol.unh.edu To: Test Report Cc: dpdk-test-reports@iol.unh.edu, Stephen Hemminger In-Reply-To: <20251020123326.80591-1-mb@smartsharesystems.com> References: <20251020123326.80591-1-mb@smartsharesystems.com> Content-Type: text/plain X-BeenThere: test-report@dpdk.org X-Mailman-Version: 2.1.29 Precedence: list List-Id: automatic DPDK test reports List-Unsubscribe: , List-Archive: List-Post: List-Help: List-Subscribe: , Errors-To: test-report-bounces@dpdk.org Test-Label: iol-compile-arm64-testing Test-Status: SUCCESS http://dpdk.org/patch/157855 _Testing PASS_ Submitter: Morten Brorup Date: Monday, October 20 2025 12:33:26 DPDK git baseline: Repo:dpdk-next-net Branch: master CommitID:c3babb4bb7ce96122a966dad7b3da06a379d45f2 157855 --> testing pass Upstream job id: Generic-DPDK-Compile-Meson#436269 Test environment and result as below: +------------------------------+--------------------+ | Environment | dpdk_meson_compile | +==============================+====================+ | Red Hat Enterprise Linux 9.5 | PASS | +------------------------------+--------------------+ | Ubuntu 20.04 | PASS | +------------------------------+--------------------+ | Debian GNU/Linux 12 | PASS | +------------------------------+--------------------+ | Fedora Linux 42 | PASS | +------------------------------+--------------------+ | Ubuntu 22.04 | PASS | +------------------------------+--------------------+ | Ubuntu 24.04 | PASS | +------------------------------+--------------------+ | CentOS Stream 10 | PASS | +------------------------------+--------------------+ | CentOS Stream 9 | PASS | +------------------------------+--------------------+ Red Hat Enterprise Linux 9.5 Kernel: 5.4 Compiler: gcc gcc (GCC) 11.5.0 20240719 (Red Hat 11.5.0-2) Ubuntu 20.04 Kernel: 5.15 Compiler: aarch64-linux-gnu-gcc gcc (Ubuntu 9.4.0-1ubuntu1~20.04.2) 9.4.0 Debian GNU/Linux 12 Kernel: 5.4 Compiler: gcc gcc (Debian 12.2.0-14+deb12u1) 12.2.0 Fedora Linux 42 Kernel: 5.4 Compiler: gcc gcc (GCC) 15.2.1 20250808 (Red Hat 15.2.1-1) Ubuntu 22.04 Kernel: 5.4 Compiler: gcc gcc (Ubuntu 11.4.0-1ubuntu1~22.04) 11.4.0 Ubuntu 24.04 Kernel: 5.4 Compiler: gcc gcc (Ubuntu 13.3.0-6ubuntu2~24.04) 13.3.0 CentOS Stream 10 Kernel: 5.4 Compiler: gcc gcc (GCC) 14.2.1 20250110 (Red Hat 14.2.1-8) CentOS Stream 9 Kernel: 5.4 Compiler: gcc gcc (GCC) 11.5.0 20240719 (Red Hat 11.5.0-11) To view detailed results, visit: https://lab.dpdk.org/results/dashboard/patchsets/34331/ UNH-IOL DPDK Community Lab To manage your email subscriptions, visit: https://lab.dpdk.org/results/dashboard/preferences/subscriptions/