From mboxrd@z Thu Jan 1 00:00:00 1970 Return-Path: Received: from mails.dpdk.org (mails.dpdk.org [217.70.189.124]) by inbox.dpdk.org (Postfix) with ESMTP id 9F22948990 for ; Tue, 21 Oct 2025 05:28:31 +0200 (CEST) Received: from mails.dpdk.org (localhost [127.0.0.1]) by mails.dpdk.org (Postfix) with ESMTP id 7C141400D5; Tue, 21 Oct 2025 05:28:31 +0200 (CEST) Received: from mail-qv1-f98.google.com (mail-qv1-f98.google.com [209.85.219.98]) by mails.dpdk.org (Postfix) with ESMTP id 8FE46400D5 for ; Tue, 21 Oct 2025 05:28:29 +0200 (CEST) Received: by mail-qv1-f98.google.com with SMTP id 6a1803df08f44-78ed682e9d3so69817376d6.0 for ; Mon, 20 Oct 2025 20:28:29 -0700 (PDT) DKIM-Signature: v=1; a=rsa-sha256; c=relaxed/relaxed; d=iol.unh.edu; s=unh-iol; t=1761017309; x=1761622109; darn=dpdk.org; h=references:in-reply-to:cc:to:from:subject:message-id:date:from:to :cc:subject:date:message-id:reply-to; bh=v7BasEvtkRN3PaaMXQ/tUQUoDsxsYoCnKT8PXMHezoU=; b=WfpVVXup4ukBCljvcLAZ7H542MpeAD1T0KBETLuDBy8pIhdKpx2gfy/DQrsHGQBeaL aqNsIjH4FWV2JviZs0dyvlL7UEfgdZU+BtoFNGhfGA5XO71r20MKoYSEsQNUe+0ZZ3KP cT6MzR7536qeE8KPG93LeQe5TYupT12+NYGpM= X-Google-DKIM-Signature: v=1; a=rsa-sha256; c=relaxed/relaxed; d=1e100.net; s=20230601; t=1761017309; x=1761622109; h=references:in-reply-to:cc:to:from:subject:message-id:date :x-gm-message-state:from:to:cc:subject:date:message-id:reply-to; bh=v7BasEvtkRN3PaaMXQ/tUQUoDsxsYoCnKT8PXMHezoU=; b=woG79HzLc07CHziJIcfvZhOXtk2cDLRDcgvTDY8fXb1uAOYZKYRbPtFY+/8usVQXip zucbT1s8lqjM9AXzrDkLRfodNJ86a+nEne8oSsGYi1h9gjVH0I0QmsLJOQ7BV2ZnDgUE CsQG+FbP7HgBVrSml2nKjLY4NPsqplXtaRAJzWxzC2iob8lfV2EFQYptdnUx7en6tGzv Z2E3/2L4bSM0znNBwFT/4rdC8tQ/S5BWYnuuznni3iMRASVk668QjBOlcemMmLwI1doQ vYeeWMp5X3eVLOfQYCgp89lP9hQLhUVHWLGJsHvSJyK7u6h8iHkN4GVQ1AIKFWBz8/IS NJzw== X-Gm-Message-State: AOJu0YzlU0OpZd1xUQbN4pnqA/UreibltxwKsIAa9ftIXs4L9S6j0Vz3 7Kr/Bm9pGrdgBS1iYE8tHU1mjpyNOypIilKd9TzN6nip5/M498AOVujoVTWzlDrvW3XGzSbq+Ra dqCa5iDkpaGrY8X5ObRhCZtgAqdlZJSrFNMIUrnuRhfSLCK06k8dMhjGUkH0r X-Gm-Gg: ASbGncuobEa9nKqcFL2yOUBqbGucSPbbj62cLvragOcXMg5FcA9mNtNvmUfQnrXGRMg VZ/11/4nWOr8LNNwMOew8nE8mR2vt/vhj+hTErIg/1dbpqEs3mO9knDN0BhSEyZ2tVjAWgowuI1 pES26cYbNw5lN/E64gQSWaus+fNQd6I8AcXaKe5git2gLvUM1B/kwtQEAQDsR0FRgV4PCcwSiXH PxvgRcP7W3KfPlrnpRRla42FlcBeoE5LTuA8LAlbLpJ8g72/fjDMDccwhjt4RRMAZ4Tnc4l26pa TN0CBfFEH8p1jDb//TGkTtEOuOdjvS25ttxd9vn1QaBR0purppyinHAc8RNb+GIiEWkB3AVHw8F VY82xyQrz X-Google-Smtp-Source: AGHT+IGk/4lEnrA4l5UQSu8aLVSDlAnUGws+otq1WiQV5Gn0CmH7vjF4amxxijRmAnS7v2RXD5EdGGFL2tIG X-Received: by 2002:a05:6214:2a83:b0:87c:2805:9f9f with SMTP id 6a1803df08f44-87c2805a23emr135076896d6.57.1761017308880; Mon, 20 Oct 2025 20:28:28 -0700 (PDT) Received: from postal.iol.unh.edu (postal.iol.unh.edu. [2606:4100:3880:1234::84]) by smtp-relay.gmail.com with ESMTPS id 6a1803df08f44-87ce9f5c485sm12350596d6.1.2025.10.20.20.28.28 (version=TLS1_2 cipher=ECDHE-ECDSA-AES128-GCM-SHA256 bits=128/128); Mon, 20 Oct 2025 20:28:28 -0700 (PDT) X-Relaying-Domain: iol.unh.edu Date: Mon, 20 Oct 2025 20:28:28 -0700 (PDT) Message-ID: <68f6fddc.050a0220.24c12a.93ddSMTPIN_ADDED_MISSING@mx.google.com> Received: from [172.21.0.3] (unknown [172.18.0.240]) by postal.iol.unh.edu (Postfix) with ESMTP id 5EFA06051830; Mon, 20 Oct 2025 23:28:28 -0400 (EDT) Subject: |SUCCESS| pw157856-157857 [PATCH] [v4,2/2] mailmap: sort mailmap From: dpdklab@iol.unh.edu To: Test Report Cc: dpdk-test-reports@iol.unh.edu In-Reply-To: <20251020140805.1361249-3-bruce.richardson@intel.com> References: <20251020140805.1361249-3-bruce.richardson@intel.com> Content-Type: text/plain X-BeenThere: test-report@dpdk.org X-Mailman-Version: 2.1.29 Precedence: list List-Id: automatic DPDK test reports List-Unsubscribe: , List-Archive: List-Post: List-Help: List-Subscribe: , Errors-To: test-report-bounces@dpdk.org Test-Label: iol-compile-arm64-testing Test-Status: SUCCESS http://dpdk.org/patch/157857 _Testing PASS_ Submitter: Bruce Richardson Date: Monday, October 20 2025 14:08:02 DPDK git baseline: Repo:dpdk Branch: master CommitID:3e19094cb697998972e7f89bdd3ab08ea457ae1f 157856-157857 --> testing pass Upstream job id: Generic-DPDK-Compile-Meson#436302 Test environment and result as below: +------------------------------+--------------------+ | Environment | dpdk_meson_compile | +==============================+====================+ | Red Hat Enterprise Linux 9.5 | PASS | +------------------------------+--------------------+ | Ubuntu 20.04 | PASS | +------------------------------+--------------------+ | Debian GNU/Linux 12 | PASS | +------------------------------+--------------------+ | Fedora Linux 42 | PASS | +------------------------------+--------------------+ | Ubuntu 22.04 | PASS | +------------------------------+--------------------+ | Ubuntu 24.04 | PASS | +------------------------------+--------------------+ | CentOS Stream 9 | PASS | +------------------------------+--------------------+ | CentOS Stream 10 | PASS | +------------------------------+--------------------+ Red Hat Enterprise Linux 9.5 Kernel: 5.4 Compiler: gcc gcc (GCC) 11.5.0 20240719 (Red Hat 11.5.0-2) Ubuntu 20.04 Kernel: 5.15 Compiler: aarch64-linux-gnu-gcc gcc (Ubuntu 9.4.0-1ubuntu1~20.04.2) 9.4.0 Debian GNU/Linux 12 Kernel: 5.4 Compiler: gcc gcc (Debian 12.2.0-14+deb12u1) 12.2.0 Fedora Linux 42 Kernel: 5.4 Compiler: gcc gcc (GCC) 15.2.1 20250808 (Red Hat 15.2.1-1) Ubuntu 22.04 Kernel: 5.4 Compiler: gcc gcc (Ubuntu 11.4.0-1ubuntu1~22.04) 11.4.0 Ubuntu 24.04 Kernel: 5.4 Compiler: gcc gcc (Ubuntu 13.3.0-6ubuntu2~24.04) 13.3.0 CentOS Stream 9 Kernel: 5.4 Compiler: gcc gcc (GCC) 11.5.0 20240719 (Red Hat 11.5.0-11) CentOS Stream 10 Kernel: 5.4 Compiler: gcc gcc (GCC) 14.2.1 20250110 (Red Hat 14.2.1-8) To view detailed results, visit: https://lab.dpdk.org/results/dashboard/patchsets/34332/ UNH-IOL DPDK Community Lab To manage your email subscriptions, visit: https://lab.dpdk.org/results/dashboard/preferences/subscriptions/