From mboxrd@z Thu Jan 1 00:00:00 1970 Return-Path: Received: from mails.dpdk.org (mails.dpdk.org [217.70.189.124]) by inbox.dpdk.org (Postfix) with ESMTP id D56A948992 for ; Tue, 21 Oct 2025 07:26:04 +0200 (CEST) Received: from mails.dpdk.org (localhost [127.0.0.1]) by mails.dpdk.org (Postfix) with ESMTP id D0C80400D6; Tue, 21 Oct 2025 07:26:04 +0200 (CEST) Received: from mail-io1-f98.google.com (mail-io1-f98.google.com [209.85.166.98]) by mails.dpdk.org (Postfix) with ESMTP id D7E43400D6 for ; Tue, 21 Oct 2025 07:26:03 +0200 (CEST) Received: by mail-io1-f98.google.com with SMTP id ca18e2360f4ac-93e830d84d6so331496539f.3 for ; Mon, 20 Oct 2025 22:26:03 -0700 (PDT) DKIM-Signature: v=1; a=rsa-sha256; c=relaxed/relaxed; d=iol.unh.edu; s=unh-iol; t=1761024363; x=1761629163; darn=dpdk.org; h=cc:to:from:subject:message-id:date:from:to:cc:subject:date :message-id:reply-to; bh=BGyj6OkTLaYt2TiYkn4YyjJlresq9pf8E3fmoTpEIVs=; b=dqajaIdATdp0TIVAT2Rto2UNgSrYUQWUq817lQRFQteqzYUpthQKdxdS1H6yz/K6et NM+gCJjYGbfKRlKVEQodRgcWbtglzEWtXmgju3dQAy4BLqfBFVV+0Vs02GwPgkA49RGA LoWViOx+E0zvS122TDfUbKKmbl9h9m+WSCaNc= X-Google-DKIM-Signature: v=1; a=rsa-sha256; c=relaxed/relaxed; d=1e100.net; s=20230601; t=1761024363; x=1761629163; h=cc:to:from:subject:message-id:date:x-gm-message-state:from:to:cc :subject:date:message-id:reply-to; bh=BGyj6OkTLaYt2TiYkn4YyjJlresq9pf8E3fmoTpEIVs=; b=F3akqpklZSjvgWbk2YEiEMTPBw3UxfNO7mleM9mUmWXVBJoJXW9t4P1Pq6NQbKQMah 0RKnGndVPZNIvc9JMqVUqplbJzstrKR04VaaeFerafPB75CNWywT25cGs9YTliIMNUnj AhSOBwAS5dJ18jzuAcN8WW7kQRR4JT3optk1+U5MutvD9Hn8YwrFtBXSG+buu25it+G1 S5nwUkhGNgqq+ARggrvKdhIiKH/mzTP9X0Zgi/gc0JFhN08qwDM7t0Wa5ezkDcEH0sQ4 Z8IjqymXLle9kozNb1PN0XhIysC2HWAtDEDOn8uKb9jkgJ4LKWjjrxwnHbMQwNU+udL5 P3+Q== X-Gm-Message-State: AOJu0Yxofj+K8sZUq9Sj3uJEdkKdwBQu+J9UmHDw8Ao+6WOoKnRjYvRw OW0l+aTUPybjb688qJ8FLqv6qell8AmDL7TzIsrVpFWeBjnIoydNsgjIfYC9Em9EwDsrZaeSmZY 2EqQT05x90hc05/CoLOS5VbFMev0MPMaoXjlLz0rL/UAGJzGDpXh3 X-Gm-Gg: ASbGnctm2jo2G729A9yvZBiVeJONiMUoLQeSlqK8J+vTIf80hhuo2nalTaHUA3udnJ7 Um61BF6/Z4XvJHOy8zSe0o4YV4WkoGiamx2Jrv+xn35iYsaqf30qV/ZHFZtTeHMmpshKAt74kvc qO61zjp2X+dvD/pDvIkYKTq2reDrHTyHtr2hG4i53HkSWCpZKxJo0RGcvjYveeFdt8iUNgzNqua 8FOkjGoqAq7zz+h6R4kRJjGCVgyUmgA7hMk+NEsiksO+BX5fRmzv1cigxHondD31LpDdQGaEkM5 ruKVosJbIVJvMkr3lRgSN327FFzRe4mysR+3drYFOVVqM50ki5Mk7WnBxba1csKOVdMHYu1z8xZ 80P7QkXpX X-Google-Smtp-Source: AGHT+IFtUC4EoTPZZK9KWyoW/jWjdBwWptBMnn0UHqDAvcS9dwSdf64tEoJxPB9/dXISFzdEqGCR4gawaxj1 X-Received: by 2002:a05:6602:13c1:b0:940:d331:b02d with SMTP id ca18e2360f4ac-940d331b3efmr601822139f.5.1761024363253; Mon, 20 Oct 2025 22:26:03 -0700 (PDT) Received: from postal.iol.unh.edu (postal.iol.unh.edu. [2606:4100:3880:1234::84]) by smtp-relay.gmail.com with ESMTPS id ca18e2360f4ac-940276c80b8sm61362739f.8.2025.10.20.22.26.03 (version=TLS1_2 cipher=ECDHE-ECDSA-AES128-GCM-SHA256 bits=128/128); Mon, 20 Oct 2025 22:26:03 -0700 (PDT) X-Relaying-Domain: iol.unh.edu Date: Mon, 20 Oct 2025 22:26:03 -0700 (PDT) Message-ID: <68f7196b.050a0220.35108.38e2SMTPIN_ADDED_MISSING@mx.google.com> Received: from [172.21.0.7] (unknown [172.18.0.240]) by postal.iol.unh.edu (Postfix) with ESMTP id CBA3A6051835; Tue, 21 Oct 2025 01:26:02 -0400 (EDT) Subject: |SUCCESS| [GIT MASTER] 3b43ce3f4a54468e7ef65760c2fd7b4d6ee6d9fc From: dpdklab@iol.unh.edu To: Test Report Cc: dpdk-test-reports@iol.unh.edu, Xueming Li , Christian Ehrhardt , Kevin Traynor , Luca Boccassi Content-Type: text/plain X-BeenThere: test-report@dpdk.org X-Mailman-Version: 2.1.29 Precedence: list List-Id: automatic DPDK test reports List-Unsubscribe: , List-Archive: List-Post: List-Help: List-Subscribe: , Errors-To: test-report-bounces@dpdk.org _Testing PASS_ Branch: tags/v22.11 3b43ce3f4a54468e7ef65760c2fd7b4d6ee6d9fc --> testing pass Upstream job id: Generic-DPDK-Compile-Meson#436417 Test environment and result as below: +-------------------------------+--------------------+-------------------------+----------------------+ | Environment | dpdk_meson_compile | dpdk_llvm_clang_compile | dpdk_mingw64_compile | +===============================+====================+=========================+======================+ | Fedora Linux 42 | PASS | SKIPPED | SKIPPED | +-------------------------------+--------------------+-------------------------+----------------------+ | CentOS Stream 10 | PASS | SKIPPED | SKIPPED | +-------------------------------+--------------------+-------------------------+----------------------+ | Debian GNU/Linux 12 | PASS | SKIPPED | SKIPPED | +-------------------------------+--------------------+-------------------------+----------------------+ | CentOS Stream 9 | PASS | SKIPPED | SKIPPED | +-------------------------------+--------------------+-------------------------+----------------------+ | openSUSE Leap 15.6 | PASS | SKIPPED | SKIPPED | +-------------------------------+--------------------+-------------------------+----------------------+ | Ubuntu 20.04 | PASS | SKIPPED | SKIPPED | +-------------------------------+--------------------+-------------------------+----------------------+ | Red Hat Enterprise Linux 8.10 | PASS | SKIPPED | SKIPPED | +-------------------------------+--------------------+-------------------------+----------------------+ | Red Hat Enterprise Linux 9.5 | PASS | SKIPPED | SKIPPED | +-------------------------------+--------------------+-------------------------+----------------------+ | Ubuntu 22.04 | PASS | SKIPPED | SKIPPED | +-------------------------------+--------------------+-------------------------+----------------------+ | Ubuntu 24.04 | PASS | SKIPPED | SKIPPED | +-------------------------------+--------------------+-------------------------+----------------------+ | FreeBSD 14.2 | PASS | SKIPPED | SKIPPED | +-------------------------------+--------------------+-------------------------+----------------------+ | Windows Server 2022 | SKIPPED | PASS | PASS | +-------------------------------+--------------------+-------------------------+----------------------+ Fedora Linux 42 Kernel: 5.15 Compiler: clang gcc (GCC) 15.2.1 20250808 (Red Hat 15.2.1-1) CentOS Stream 10 Kernel: 5.15 Compiler: gcc gcc (GCC) 14.2.1 20250110 (Red Hat 14.2.1-8) Debian GNU/Linux 12 Kernel: 5.15 Compiler: gcc gcc (Debian 12.2.0-14+deb12u1) 12.2.0 CentOS Stream 9 Kernel: 5.15 Compiler: gcc gcc (GCC) 11.5.0 20240719 (Red Hat 11.5.0-11) openSUSE Leap 15.6 Kernel: 5.15 Compiler: gcc gcc (SUSE Linux) 7.5.0 Ubuntu 20.04 Kernel: 5.15 Compiler: gcc gcc (Ubuntu 9.4.0-1ubuntu1~20.04.2) 9.4.0 Red Hat Enterprise Linux 8.10 Kernel: 5.15 Compiler: gcc gcc (GCC) 8.5.0 20210514 (Red Hat 8.5.0-22) Red Hat Enterprise Linux 9.5 Kernel: 5.15 Compiler: gcc gcc (GCC) 11.5.0 20240719 (Red Hat 11.5.0-2) Ubuntu 22.04 Kernel: 5.15 Compiler: gcc gcc (Ubuntu 11.4.0-1ubuntu1~22.04) 11.4.0 Ubuntu 24.04 Kernel: 5.15 Compiler: gcc gcc (Ubuntu 13.3.0-6ubuntu2~24.04) 13.3.0 FreeBSD 14.2 Kernel: 14.2-RELEASE Compiler: clang 18.1.6 Windows Server 2022 Kernel: 10.0.20348.2031 Compiler: clang 15.0.7, gcc 14.1.0 (MinGW), and MSVC VS 19.39.33521 To view detailed results, visit: https://lab.dpdk.org/results/dashboard/tarballs/35289/ UNH-IOL DPDK Community Lab To manage your email subscriptions, visit: https://lab.dpdk.org/results/dashboard/preferences/subscriptions/