From mboxrd@z Thu Jan 1 00:00:00 1970 Return-Path: Received: from mails.dpdk.org (mails.dpdk.org [217.70.189.124]) by inbox.dpdk.org (Postfix) with ESMTP id 02D7748992 for ; Tue, 21 Oct 2025 07:26:28 +0200 (CEST) Received: from mails.dpdk.org (localhost [127.0.0.1]) by mails.dpdk.org (Postfix) with ESMTP id F21E9400D5; Tue, 21 Oct 2025 07:26:27 +0200 (CEST) Received: from mail-qv1-f99.google.com (mail-qv1-f99.google.com [209.85.219.99]) by mails.dpdk.org (Postfix) with ESMTP id 835B4402ED for ; Tue, 21 Oct 2025 07:26:09 +0200 (CEST) Received: by mail-qv1-f99.google.com with SMTP id 6a1803df08f44-7f7835f4478so56809966d6.1 for ; Mon, 20 Oct 2025 22:26:09 -0700 (PDT) DKIM-Signature: v=1; a=rsa-sha256; c=relaxed/relaxed; d=iol.unh.edu; s=unh-iol; t=1761024369; x=1761629169; darn=dpdk.org; h=cc:to:from:subject:message-id:date:from:to:cc:subject:date :message-id:reply-to; bh=khjm0CSVGogiLTKJTC7s7FuhsLu39wdq1HumlRm4Grw=; b=H1dkUgpZy0N3+ANnBGOT3wTDTzm3wJxz9Po2w0FeG2MAUkUGBXbipgoCcBgayDB0oS 6f1XW4/ixHZztvtEt5tW2swiQhbqSydHNNydM7ZuSX+12/MnYJba31trK2Mw2WZKzwFc BzrCXUIQ75F361Rg/xaHpH/MaGr1mUGybiIfc= X-Google-DKIM-Signature: v=1; a=rsa-sha256; c=relaxed/relaxed; d=1e100.net; s=20230601; t=1761024369; x=1761629169; h=cc:to:from:subject:message-id:date:x-gm-message-state:from:to:cc :subject:date:message-id:reply-to; bh=khjm0CSVGogiLTKJTC7s7FuhsLu39wdq1HumlRm4Grw=; b=I5A00T+OwKmCx4O0jxuGl4MYFS48IjhZ1SGW4TbhYplTpTNuFmVWeDO5VaGriCOweA jqga2PbXAKrGmQaJ9MkXnp5+v/apddtxA3FjrqWxsHFFc/m40kBIWvwEs0MZnTE9nVqd DV945Rvf40eDqvD49I3lD96lvDVGapWlPLQ6OgwxiwJuCliegKdD7xhYptmAXNt7tfZf vC+8N5JPf/sLUY8Y4dQSVJsyjkLIS6Zt5H34KLiUhwJkIIGPvEMQiOZnuvU6MAXkeYXU /9TQeOCprVkDiTkiXuqQkCG81YKPOUILYPC1X/MnrH8j1BRT8i9B8AK7qmkuPXxBbjEb iDgA== X-Gm-Message-State: AOJu0YyN2IsDNjD/6Pasczt524iL4aQOTNxlX0S9Z4sKHvaLkiGtCwR6 B6rv9Mzkf3wHd46sD8PxDq0ksv99UoqXoX+XlckSyCHnqobxyPNQEIzISxDZxXwNWBQDHv7ThfC Pa9E8uShusX1m+QffPzVGOB/yRuck8V+WSBuenqEXJjeoogxciqNU X-Gm-Gg: ASbGnct1dCIgjYeMiK+cBPyKLym3FTkuP9mZBPaFwjH94nc8AVFBB8yYw8tr1GYyZuM a9NiAGy4aLu8i/E3mSsCQX0p7HtRBx0RebS3RJlqvimE1mcpb0sLNOWuj1s9IDhgtPtmZrnLZtg eyhMeLQIF5OfFFDSA/z49NI0HAdbnjMp3NEpKXXqTtMptASjAjxJscP7sazcnGRLKYEpZJC9GBf AGH9m42Bc7H9QhUXX0yL14YzgMIhSd8QA5dClJM6Jk+sw/2p9Wlnue1O7kTpj1DGsS74PPFL0PX CjBRHZtu4w1T4TV/iyTLRdM74p9bTjrI56PVFRReN6zXrXotr2tXIw0LbpsrgyKoEtSwm9N+hkV fn4F5NTcg X-Google-Smtp-Source: AGHT+IGMoUjei8gK6gorirmEPz2lm394AerEne3DQvKfq/6qVHshMHknxROKGbaLZPtRAmXOeeI2e8REErQt X-Received: by 2002:a05:6214:4a8c:b0:87c:20f5:84ef with SMTP id 6a1803df08f44-87c20f586e2mr202768546d6.23.1761024368826; Mon, 20 Oct 2025 22:26:08 -0700 (PDT) Received: from postal.iol.unh.edu (postal.iol.unh.edu. [2606:4100:3880:1234::84]) by smtp-relay.gmail.com with ESMTPS id 6a1803df08f44-87cf51fd2fbsm11728306d6.14.2025.10.20.22.26.08 (version=TLS1_2 cipher=ECDHE-ECDSA-AES128-GCM-SHA256 bits=128/128); Mon, 20 Oct 2025 22:26:08 -0700 (PDT) X-Relaying-Domain: iol.unh.edu Date: Mon, 20 Oct 2025 22:26:08 -0700 (PDT) Message-ID: <68f71970.050a0220.2f6c97.5cd8SMTPIN_ADDED_MISSING@mx.google.com> Received: from [172.21.0.4] (unknown [172.18.0.240]) by postal.iol.unh.edu (Postfix) with ESMTP id 8C8A66051830; Tue, 21 Oct 2025 01:26:08 -0400 (EDT) Subject: |SUCCESS| [GIT MASTER] 3b43ce3f4a54468e7ef65760c2fd7b4d6ee6d9fc From: dpdklab@iol.unh.edu To: Test Report Cc: dpdk-test-reports@iol.unh.edu, Xueming Li , Christian Ehrhardt , Kevin Traynor , Luca Boccassi Content-Type: text/plain X-BeenThere: test-report@dpdk.org X-Mailman-Version: 2.1.29 Precedence: list List-Id: automatic DPDK test reports List-Unsubscribe: , List-Archive: List-Post: List-Help: List-Subscribe: , Errors-To: test-report-bounces@dpdk.org _Testing PASS_ Branch: tags/v22.11 3b43ce3f4a54468e7ef65760c2fd7b4d6ee6d9fc --> testing pass Upstream job id: Generic-DPDK-Compile-Meson#436416 Test environment and result as below: +-------------------------------+--------------------+-------------------------+----------------------+ | Environment | dpdk_meson_compile | dpdk_llvm_clang_compile | dpdk_mingw64_compile | +===============================+====================+=========================+======================+ | Fedora Linux 42 | PASS | SKIPPED | SKIPPED | +-------------------------------+--------------------+-------------------------+----------------------+ | CentOS Stream 10 | PASS | SKIPPED | SKIPPED | +-------------------------------+--------------------+-------------------------+----------------------+ | Debian GNU/Linux 12 | PASS | SKIPPED | SKIPPED | +-------------------------------+--------------------+-------------------------+----------------------+ | CentOS Stream 9 | PASS | SKIPPED | SKIPPED | +-------------------------------+--------------------+-------------------------+----------------------+ | openSUSE Leap 15.6 | PASS | SKIPPED | SKIPPED | +-------------------------------+--------------------+-------------------------+----------------------+ | Ubuntu 20.04 | PASS | SKIPPED | SKIPPED | +-------------------------------+--------------------+-------------------------+----------------------+ | Red Hat Enterprise Linux 8.10 | PASS | SKIPPED | SKIPPED | +-------------------------------+--------------------+-------------------------+----------------------+ | Red Hat Enterprise Linux 9.5 | PASS | SKIPPED | SKIPPED | +-------------------------------+--------------------+-------------------------+----------------------+ | Ubuntu 22.04 | PASS | SKIPPED | SKIPPED | +-------------------------------+--------------------+-------------------------+----------------------+ | Ubuntu 24.04 | PASS | SKIPPED | SKIPPED | +-------------------------------+--------------------+-------------------------+----------------------+ | FreeBSD 14.2 | PASS | SKIPPED | SKIPPED | +-------------------------------+--------------------+-------------------------+----------------------+ | Windows Server 2022 | SKIPPED | PASS | PASS | +-------------------------------+--------------------+-------------------------+----------------------+ Fedora Linux 42 Kernel: 5.15 Compiler: clang gcc (GCC) 15.2.1 20250808 (Red Hat 15.2.1-1) CentOS Stream 10 Kernel: 5.15 Compiler: gcc gcc (GCC) 14.2.1 20250110 (Red Hat 14.2.1-8) Debian GNU/Linux 12 Kernel: 5.15 Compiler: gcc gcc (Debian 12.2.0-14+deb12u1) 12.2.0 CentOS Stream 9 Kernel: 5.15 Compiler: gcc gcc (GCC) 11.5.0 20240719 (Red Hat 11.5.0-11) openSUSE Leap 15.6 Kernel: 5.15 Compiler: gcc gcc (SUSE Linux) 7.5.0 Ubuntu 20.04 Kernel: 5.15 Compiler: gcc gcc (Ubuntu 9.4.0-1ubuntu1~20.04.2) 9.4.0 Red Hat Enterprise Linux 8.10 Kernel: 5.15 Compiler: gcc gcc (GCC) 8.5.0 20210514 (Red Hat 8.5.0-22) Red Hat Enterprise Linux 9.5 Kernel: 5.15 Compiler: gcc gcc (GCC) 11.5.0 20240719 (Red Hat 11.5.0-2) Ubuntu 22.04 Kernel: 5.15 Compiler: gcc gcc (Ubuntu 11.4.0-1ubuntu1~22.04) 11.4.0 Ubuntu 24.04 Kernel: 5.15 Compiler: gcc gcc (Ubuntu 13.3.0-6ubuntu2~24.04) 13.3.0 FreeBSD 14.2 Kernel: 14.2-RELEASE Compiler: clang 18.1.6 Windows Server 2022 Kernel: 10.0.20348.2031 Compiler: clang 15.0.7, gcc 14.1.0 (MinGW), and MSVC VS 19.39.33521 To view detailed results, visit: https://lab.dpdk.org/results/dashboard/tarballs/35289/ UNH-IOL DPDK Community Lab To manage your email subscriptions, visit: https://lab.dpdk.org/results/dashboard/preferences/subscriptions/