From mboxrd@z Thu Jan 1 00:00:00 1970 Return-Path: Received: from mails.dpdk.org (mails.dpdk.org [217.70.189.124]) by inbox.dpdk.org (Postfix) with ESMTP id 1E18048992 for ; Tue, 21 Oct 2025 07:26:50 +0200 (CEST) Received: from mails.dpdk.org (localhost [127.0.0.1]) by mails.dpdk.org (Postfix) with ESMTP id 181DF400D5; Tue, 21 Oct 2025 07:26:50 +0200 (CEST) Received: from mail-pf1-f227.google.com (mail-pf1-f227.google.com [209.85.210.227]) by mails.dpdk.org (Postfix) with ESMTP id C3D42400D5 for ; Tue, 21 Oct 2025 07:26:28 +0200 (CEST) Received: by mail-pf1-f227.google.com with SMTP id d2e1a72fcca58-794e300e20dso4936177b3a.1 for ; Mon, 20 Oct 2025 22:26:28 -0700 (PDT) DKIM-Signature: v=1; a=rsa-sha256; c=relaxed/relaxed; d=iol.unh.edu; s=unh-iol; t=1761024388; x=1761629188; darn=dpdk.org; h=cc:to:from:subject:message-id:date:from:to:cc:subject:date :message-id:reply-to; bh=5RwJATXdwnO2zrp6PrLGWZm/BRBCaTTU3ncCm9Xvl8U=; b=XoKQwrJJ6f4cgpK7wBVAtHIsJT7/48U07CI6kPEhPnxneN3O+6N3P4KozLlp3ixY9Z z/33YOVHL3MByihYCP3PysGiIR5vQmwTWv9yRfvZoKntiy/ZdhWrM2Uy3uQ/JZe64Y35 Y2iEmxy3QwiXqIaZ6VcRXI/8GMAnqHkpjwDdI= X-Google-DKIM-Signature: v=1; a=rsa-sha256; c=relaxed/relaxed; d=1e100.net; s=20230601; t=1761024388; x=1761629188; h=cc:to:from:subject:message-id:date:x-gm-message-state:from:to:cc :subject:date:message-id:reply-to; bh=5RwJATXdwnO2zrp6PrLGWZm/BRBCaTTU3ncCm9Xvl8U=; b=ekV9njqbVAXJGCmbBCVT+wgNVdrGSh8iWhkR4UtUwrx4vYhjPKZaenfk0atIoFe95G EdfxxfBFaQKhzlBns4mKLVNGNDpW7nSTfhcte1iJa/v0rl+r1NOVWgjqNfDDXFmTnAfX W1lS9NLClUF6sMxPxl9B02IOGvfg3TG0XR2A4DAf46HikMWhLur6aCTrZbFr41q3mtdi hImy3NqspQ9OMFQCw8Uc+QPMY3tOFe7FDKzlvl8AqqEVozalLLNmDQlQ9QuuoCPjq4O6 Wmq01x+o2i6IB5rzlZdmkv6K9y7U0NywhKExeeZjpfLzfAO3Fjq+eQXyogHjLpTIwJSN PhHw== X-Gm-Message-State: AOJu0YwULVP/a46gA7p2PCwEw+214jttrcPrJSjwzHDkgaNJfHT2jsJi ewk1FHysWivaP9Yhkd50h6amps0ann40wClAoMi5MM9/XVkyYUSDlOozGQjzhgrfEkCvVG/opvh sbi59vWZZVUrCsO8CEJlJcKfWbAfV6HBhWbs4X9ZLAsHIdqhwbyRV X-Gm-Gg: ASbGncvLL5yPG2ArD+u2czUZDRSVC4IHzY0N6UP4x9ZHYodzpIChHfmv1/+4aRNY9Ij VYRkzmkVRXp4v/kuZpamAAyInLr6NbSF2wQ1ImRSODvy0B0QnuA5re/WaYtJ8Un3IjeVFCHGYNS ljXLB1+dmZctyNv0gT76N8u6opHUyNeqtgxF0JTZnHbpoMRnMO/KjhLI0ZOyE7HlDyBy0b3pdat uVP+oWQ+upCwevFhIHRARcBX6si3DKNC6D4X3Jvc2AOloUA+KNPsAAvrNRgLq+qJ38VjOqMZ9pY LsG99ilbZSjsOCLnznmJwV/sLtMnK70HzNpnDMzxzfsBSEVQwnuMKGiT0DrkL8VrLjtgTGvkxBP GKPlHeDXA X-Google-Smtp-Source: AGHT+IG8En7/FxRZrBQGi0eAyZN1gKF68cc9jWwdZxRXBdGPF2QnE1eLVy6RhhkltOZn3/1QWUe+HWY+11fm X-Received: by 2002:a05:6a21:32a3:b0:32d:95f2:1fe with SMTP id adf61e73a8af0-334a786492fmr20975050637.2.1761024387913; Mon, 20 Oct 2025 22:26:27 -0700 (PDT) Received: from postal.iol.unh.edu (postal.iol.unh.edu. [2606:4100:3880:1234::84]) by smtp-relay.gmail.com with ESMTPS id d9443c01a7336-29246feeae8sm12333475ad.3.2025.10.20.22.26.27 (version=TLS1_2 cipher=ECDHE-ECDSA-AES128-GCM-SHA256 bits=128/128); Mon, 20 Oct 2025 22:26:27 -0700 (PDT) X-Relaying-Domain: iol.unh.edu Date: Mon, 20 Oct 2025 22:26:27 -0700 (PDT) Message-ID: <68f71983.170a0220.3191c2.88a9SMTPIN_ADDED_MISSING@mx.google.com> Received: from [172.21.0.5] (unknown [172.18.0.240]) by postal.iol.unh.edu (Postfix) with ESMTP id 3384D6051830; Tue, 21 Oct 2025 01:26:27 -0400 (EDT) Subject: |SUCCESS| [GIT MASTER] 3b43ce3f4a54468e7ef65760c2fd7b4d6ee6d9fc From: dpdklab@iol.unh.edu To: Test Report Cc: dpdk-test-reports@iol.unh.edu, Xueming Li , Christian Ehrhardt , Kevin Traynor , Luca Boccassi Content-Type: text/plain X-BeenThere: test-report@dpdk.org X-Mailman-Version: 2.1.29 Precedence: list List-Id: automatic DPDK test reports List-Unsubscribe: , List-Archive: List-Post: List-Help: List-Subscribe: , Errors-To: test-report-bounces@dpdk.org _Testing PASS_ Branch: tags/v22.11 3b43ce3f4a54468e7ef65760c2fd7b4d6ee6d9fc --> testing pass Upstream job id: Generic-DPDK-Compile-Meson#436418 Test environment and result as below: +-------------------------------+--------------------+-------------------------+----------------------+ | Environment | dpdk_meson_compile | dpdk_llvm_clang_compile | dpdk_mingw64_compile | +===============================+====================+=========================+======================+ | Fedora Linux 42 | PASS | SKIPPED | SKIPPED | +-------------------------------+--------------------+-------------------------+----------------------+ | CentOS Stream 10 | PASS | SKIPPED | SKIPPED | +-------------------------------+--------------------+-------------------------+----------------------+ | Debian GNU/Linux 12 | PASS | SKIPPED | SKIPPED | +-------------------------------+--------------------+-------------------------+----------------------+ | CentOS Stream 9 | PASS | SKIPPED | SKIPPED | +-------------------------------+--------------------+-------------------------+----------------------+ | openSUSE Leap 15.6 | PASS | SKIPPED | SKIPPED | +-------------------------------+--------------------+-------------------------+----------------------+ | Ubuntu 20.04 | PASS | SKIPPED | SKIPPED | +-------------------------------+--------------------+-------------------------+----------------------+ | Red Hat Enterprise Linux 8.10 | PASS | SKIPPED | SKIPPED | +-------------------------------+--------------------+-------------------------+----------------------+ | Red Hat Enterprise Linux 9.5 | PASS | SKIPPED | SKIPPED | +-------------------------------+--------------------+-------------------------+----------------------+ | Ubuntu 22.04 | PASS | SKIPPED | SKIPPED | +-------------------------------+--------------------+-------------------------+----------------------+ | Ubuntu 24.04 | PASS | SKIPPED | SKIPPED | +-------------------------------+--------------------+-------------------------+----------------------+ | FreeBSD 14.2 | PASS | SKIPPED | SKIPPED | +-------------------------------+--------------------+-------------------------+----------------------+ | Windows Server 2022 | SKIPPED | PASS | PASS | +-------------------------------+--------------------+-------------------------+----------------------+ Fedora Linux 42 Kernel: 5.15 Compiler: clang gcc (GCC) 15.2.1 20250808 (Red Hat 15.2.1-1) CentOS Stream 10 Kernel: 5.15 Compiler: gcc gcc (GCC) 14.2.1 20250110 (Red Hat 14.2.1-8) Debian GNU/Linux 12 Kernel: 5.15 Compiler: gcc gcc (Debian 12.2.0-14+deb12u1) 12.2.0 CentOS Stream 9 Kernel: 5.15 Compiler: gcc gcc (GCC) 11.5.0 20240719 (Red Hat 11.5.0-11) openSUSE Leap 15.6 Kernel: 5.15 Compiler: gcc gcc (SUSE Linux) 7.5.0 Ubuntu 20.04 Kernel: 5.15 Compiler: gcc gcc (Ubuntu 9.4.0-1ubuntu1~20.04.2) 9.4.0 Red Hat Enterprise Linux 8.10 Kernel: 5.15 Compiler: gcc gcc (GCC) 8.5.0 20210514 (Red Hat 8.5.0-22) Red Hat Enterprise Linux 9.5 Kernel: 5.15 Compiler: gcc gcc (GCC) 11.5.0 20240719 (Red Hat 11.5.0-2) Ubuntu 22.04 Kernel: 5.15 Compiler: gcc gcc (Ubuntu 11.4.0-1ubuntu1~22.04) 11.4.0 Ubuntu 24.04 Kernel: 5.15 Compiler: gcc gcc (Ubuntu 13.3.0-6ubuntu2~24.04) 13.3.0 FreeBSD 14.2 Kernel: 14.2-RELEASE Compiler: clang 18.1.6 Windows Server 2022 Kernel: 10.0.20348.2031 Compiler: clang 15.0.7, gcc 14.1.0 (MinGW), and MSVC VS 19.39.33521 To view detailed results, visit: https://lab.dpdk.org/results/dashboard/tarballs/35289/ UNH-IOL DPDK Community Lab To manage your email subscriptions, visit: https://lab.dpdk.org/results/dashboard/preferences/subscriptions/