From mboxrd@z Thu Jan 1 00:00:00 1970 Return-Path: Received: from mails.dpdk.org (mails.dpdk.org [217.70.189.124]) by inbox.dpdk.org (Postfix) with ESMTP id 2D87E48997 for ; Tue, 21 Oct 2025 08:47:12 +0200 (CEST) Received: from mails.dpdk.org (localhost [127.0.0.1]) by mails.dpdk.org (Postfix) with ESMTP id 27F9E400D5; Tue, 21 Oct 2025 08:47:12 +0200 (CEST) Received: from mail-il1-f228.google.com (mail-il1-f228.google.com [209.85.166.228]) by mails.dpdk.org (Postfix) with ESMTP id BF318400D5 for ; Tue, 21 Oct 2025 08:47:10 +0200 (CEST) Received: by mail-il1-f228.google.com with SMTP id e9e14a558f8ab-430c151ca28so20297795ab.2 for ; Mon, 20 Oct 2025 23:47:10 -0700 (PDT) DKIM-Signature: v=1; a=rsa-sha256; c=relaxed/relaxed; d=iol.unh.edu; s=unh-iol; t=1761029230; x=1761634030; darn=dpdk.org; h=references:in-reply-to:cc:to:from:subject:message-id:date:from:to :cc:subject:date:message-id:reply-to; bh=wczlYKJxMYmnZkLRw7wEKbQg7s1SBVkD8uDwRCs9gP0=; b=GvUq7nWHgaJPP5FBc4pV2H9l6SNj4F3sJ6mYoXfWiEn+44RqcyBaiaK37jL+FqmWzy S+/HQw44ewHc//RavwFRieStiIQ9xxCN9qpRqH4R1dpwfz2uXg8XUOpfLnebJYO4Ndi1 MWgHDn1Aq/jVuYmVmq0kxTARnvrrSGbTdU1lA= X-Google-DKIM-Signature: v=1; a=rsa-sha256; c=relaxed/relaxed; d=1e100.net; s=20230601; t=1761029230; x=1761634030; h=references:in-reply-to:cc:to:from:subject:message-id:date :x-gm-message-state:from:to:cc:subject:date:message-id:reply-to; bh=wczlYKJxMYmnZkLRw7wEKbQg7s1SBVkD8uDwRCs9gP0=; b=oa20Ylj/u68BVaL8jAzOK9LdMBCuI8rEwsNRmHn+62wxj+Q59JAf3ZWuFqRSXNU3EC ndsyNEWNqDevrlOFeqUSl7Wi2+DypKy8mYsORd2k7hqUdWp0lTFf8fuYivrGrdZTsKVV Fm8dP1wmkRhYGk8JHFPg9U7D8Yphp4LrlzDTj5y9ReB/l8TA6yjl+VnDcRtVn089o/8V 90jXoXoF/ZKOxTS5XDXWrl1TR4qjGNBU1U9HSV1s9eyX7RNaS0yMDmo12/2ui1PuEcJs Cz/GHq0nv0P7GJGE26W8OFdgvVI+ml1X8/5XmGJyWSgHMSJdQ+t3ypAquJbMg+4tBQZy hARw== X-Gm-Message-State: AOJu0YyC4+qQYZv3h3Uue92Hh6SaaxkUk+MGl+A5rnMaDxELxBFZy8/a cRek6/RLAPoP1vh2cmaB0vipoZNuGnTHlZAUsPkC2fnLJaXH93PJKi1U42MbOzf2ujxKlgIMZvS MTTedZM0bYcshjjccaQjMNcMawZeCIraDa53DzBC4lFeS X-Gm-Gg: ASbGncthjjOZFdwwPEhP75gqckOQT2QSO+GG+ONtVjf/AkXznqbW5k904akvJIzIrZ7 bddlaUOl010dNQa1J24Gr1kXk5VuddfOxAX0rzJmG+zS+gAblQUynCNlcv7h+48kqN84mJP6mJS +L3nQVSPTAv0WAeC2OPNu5YKJylBQzQRcXQnVg2MGuZ40BVbzhDFwgjDqERnSp7q2ahqba1a65C vHnrUJCZjmLjUc85dbv35SXEZ0MOWrHM4VHm+5Xau4Oo8gfUK+MedAZfznCaaL7GTEDVZlkerBC 4c4poCNCgvsAEmRQ29LsM/GARuvFz4OVMGmKcUTZkjflVZy3Xxk/jMKosXxSPt/89XIhY1DMfWO gcHbL1JocQCNI3Jr4plfFnVOazAHfmQs= X-Google-Smtp-Source: AGHT+IHif6y6Aip1PSzEA/BRTgqExVRs405rU3AGY9BlTkybtzi/XXfcLN2STFWyP2YBOczzJW2SpNEZuhVc X-Received: by 2002:a05:6e02:441b:10b0:430:c6b3:b03f with SMTP id e9e14a558f8ab-430c6b3b240mr190797565ab.28.1761029230095; Mon, 20 Oct 2025 23:47:10 -0700 (PDT) Received: from postal.iol.unh.edu (postal.iol.unh.edu. [132.177.123.84]) by smtp-relay.gmail.com with ESMTPS id 8926c6da1cb9f-5a8a96272a1sm1150633173.13.2025.10.20.23.47.10 (version=TLS1_2 cipher=ECDHE-ECDSA-AES128-GCM-SHA256 bits=128/128); Mon, 20 Oct 2025 23:47:10 -0700 (PDT) X-Relaying-Domain: iol.unh.edu Date: Mon, 20 Oct 2025 23:47:10 -0700 (PDT) Message-ID: <68f72c6e.050a0220.8b037.56c2SMTPIN_ADDED_MISSING@mx.google.com> Received: from [172.21.0.4] (unknown [172.18.0.240]) by postal.iol.unh.edu (Postfix) with ESMTP id BE0F96051830; Tue, 21 Oct 2025 02:47:09 -0400 (EDT) Subject: |SUCCESS| pw157883 [PATCH] Revert "net/ice: count drop-all filter in From: dpdklab@iol.unh.edu To: Test Report Cc: dpdk-test-reports@iol.unh.edu, Bruce Richardson In-Reply-To: <20251020164230.3724539-1-jeffrey.b.shaw@intel.com> References: <20251020164230.3724539-1-jeffrey.b.shaw@intel.com> Content-Type: text/plain X-BeenThere: test-report@dpdk.org X-Mailman-Version: 2.1.29 Precedence: list List-Id: automatic DPDK test reports List-Unsubscribe: , List-Archive: List-Post: List-Help: List-Subscribe: , Errors-To: test-report-bounces@dpdk.org Test-Label: iol-compile-arm64-testing Test-Status: SUCCESS http://dpdk.org/patch/157883 _Testing PASS_ Submitter: Jeff Shaw Date: Monday, October 20 2025 16:42:29 DPDK git baseline: Repo:dpdk-next-net-intel Branch: master CommitID:6b997d6b9ffdbb4f8ecd14d1f217da69cdc783af 157883 --> testing pass Upstream job id: Generic-DPDK-Compile-Meson#436378 Test environment and result as below: +------------------------------+--------------------+ | Environment | dpdk_meson_compile | +==============================+====================+ | Red Hat Enterprise Linux 9.5 | PASS | +------------------------------+--------------------+ | Ubuntu 20.04 | PASS | +------------------------------+--------------------+ | Debian GNU/Linux 12 | PASS | +------------------------------+--------------------+ | Fedora Linux 42 | PASS | +------------------------------+--------------------+ | Ubuntu 22.04 | PASS | +------------------------------+--------------------+ | Ubuntu 24.04 | PASS | +------------------------------+--------------------+ | CentOS Stream 9 | PASS | +------------------------------+--------------------+ | CentOS Stream 10 | PASS | +------------------------------+--------------------+ Red Hat Enterprise Linux 9.5 Kernel: 5.4 Compiler: gcc gcc (GCC) 11.5.0 20240719 (Red Hat 11.5.0-2) Ubuntu 20.04 Kernel: 5.15 Compiler: aarch64-linux-gnu-gcc gcc (Ubuntu 9.4.0-1ubuntu1~20.04.2) 9.4.0 Debian GNU/Linux 12 Kernel: 5.4 Compiler: gcc gcc (Debian 12.2.0-14+deb12u1) 12.2.0 Fedora Linux 42 Kernel: 5.4 Compiler: gcc gcc (GCC) 15.2.1 20250808 (Red Hat 15.2.1-1) Ubuntu 22.04 Kernel: 5.4 Compiler: gcc gcc (Ubuntu 11.4.0-1ubuntu1~22.04) 11.4.0 Ubuntu 24.04 Kernel: 5.4 Compiler: gcc gcc (Ubuntu 13.3.0-6ubuntu2~24.04) 13.3.0 CentOS Stream 9 Kernel: 5.4 Compiler: gcc gcc (GCC) 11.5.0 20240719 (Red Hat 11.5.0-11) CentOS Stream 10 Kernel: 5.4 Compiler: gcc gcc (GCC) 14.2.1 20250110 (Red Hat 14.2.1-8) To view detailed results, visit: https://lab.dpdk.org/results/dashboard/patchsets/34336/ UNH-IOL DPDK Community Lab To manage your email subscriptions, visit: https://lab.dpdk.org/results/dashboard/preferences/subscriptions/