From mboxrd@z Thu Jan 1 00:00:00 1970 Return-Path: Received: from mails.dpdk.org (mails.dpdk.org [217.70.189.124]) by inbox.dpdk.org (Postfix) with ESMTP id 128EF48997 for ; Tue, 21 Oct 2025 08:54:42 +0200 (CEST) Received: from mails.dpdk.org (localhost [127.0.0.1]) by mails.dpdk.org (Postfix) with ESMTP id 0D783400D5; Tue, 21 Oct 2025 08:54:42 +0200 (CEST) Received: from mail-io1-f97.google.com (mail-io1-f97.google.com [209.85.166.97]) by mails.dpdk.org (Postfix) with ESMTP id 9AB0D400D5 for ; Tue, 21 Oct 2025 08:54:40 +0200 (CEST) Received: by mail-io1-f97.google.com with SMTP id ca18e2360f4ac-93e7e87c21bso374223739f.3 for ; Mon, 20 Oct 2025 23:54:40 -0700 (PDT) DKIM-Signature: v=1; a=rsa-sha256; c=relaxed/relaxed; d=iol.unh.edu; s=unh-iol; t=1761029680; x=1761634480; darn=dpdk.org; h=cc:to:from:subject:message-id:date:from:to:cc:subject:date :message-id:reply-to; bh=xZo1/Ftf+5pj0vtLv5h0VrvbBSKr5FQbDjG8FEMM5hI=; b=DN/r47+RLk3LqRe/9NTdr+5j3XBml14wII7DdMUBxrN2qAr5U3G2SjuuHt2+BVnjTJ YOvwdwLxgi36jnmpI9lf5JMy0PbF4GltPtYW02HNdzotk8yTllUPSmw9keuzhAYUNFAB Lm5oglgpGuj4se4GkugiXXRld1lHfIYVoYvlQ= X-Google-DKIM-Signature: v=1; a=rsa-sha256; c=relaxed/relaxed; d=1e100.net; s=20230601; t=1761029680; x=1761634480; h=cc:to:from:subject:message-id:date:x-gm-message-state:from:to:cc :subject:date:message-id:reply-to; bh=xZo1/Ftf+5pj0vtLv5h0VrvbBSKr5FQbDjG8FEMM5hI=; b=Dh9U7BRcahtdjcfXEq6QcTL10jrbAIimEBb7AqAFeIOmryrTEPxpvjKyCOxeVSe3Lj kQq2cd54X3AZhvDId7MNcqBaTEWrIMTRBvxqVyq7FAMc0ONUa+VnDefRiFUeTlgOcqnS cL70zQd849nMzu75NqhCJ+t5T1MzfNldHg24JRgm8KDwhK9Ua6ShfqFsRVOj4RyRkia5 wI0BFUmZxwV8LN6XzbVm0P3JM9spn7T+b/Zg5+6kSIxEEccAnW49MKzV0hGG32jY/GBN lbgwvdNPyMpW1SPqUxUZaa/ChqbPMes0CeIL3Kv2qiuzl6c53sQ6mteZ6prrL/eNRbBz QEHQ== X-Gm-Message-State: AOJu0Yy6D+vxApg5cVx+i7EX4Yo2fCxMza8TFMzvoXR/kfrfyCJQjV62 EAgaE6eNB/7QNW2MSWhZZb4gIbW28+6KGLmheS0/Bxc9meqNBWMcMs0ququcH0vzypW6ZHuiuLJ +uIAx0DZEnj3kxZdQtZhKdzOpY5Gwv578W6Qa X-Gm-Gg: ASbGncseQIL/damrCu5CvsMYZJFq+VG5dr5N5KahGuTGWBooqZ2JumjXT4ykxnHhhuW qh2XR8C4j7zxqe7sW0YRCJMu0io/Rwic4P8A0sDkZq+SL6JGsiOoEUIEsAje3Rc6/gVT0hzYGql no54g7m/vChnas7P9X5IeT1GYxIe79NsG97YaIMcpVA0Q6QJN5V1FNkFT5Pw6J5FMybINaCHL26 /gwuj1dUHm1ddMu+gNqrzEFy5pC74GYX/nqX0WZrc4579VMhZ/yBwlzwLUAjJFv/vS35amczjSV ZRGyf5sE3fZQrJLnt52LVy8d58TyIl7aQi2gp3qe+QtYbmw+A/N4SarmM6fBhu16e1VjYG0kyGn jFN8R1+lTqeFOp1Ar1YgnOuiols48txY= X-Google-Smtp-Source: AGHT+IFT4fqrb3ZV0ocSNEyU61gYC7W3H/ewOygFJ8R7FhzjqC3SLeWRPzEeMDlZ7BpQHnxUIrnvCVGTFP0N X-Received: by 2002:a05:6e02:491c:b0:430:c68c:b2b9 with SMTP id e9e14a558f8ab-430c68cb33emr201654355ab.22.1761029680015; Mon, 20 Oct 2025 23:54:40 -0700 (PDT) Received: from postal.iol.unh.edu (postal.iol.unh.edu. [132.177.123.84]) by smtp-relay.gmail.com with ESMTPS id e9e14a558f8ab-430d07b415dsm10658535ab.29.2025.10.20.23.54.39 (version=TLS1_2 cipher=ECDHE-ECDSA-AES128-GCM-SHA256 bits=128/128); Mon, 20 Oct 2025 23:54:40 -0700 (PDT) X-Relaying-Domain: iol.unh.edu Date: Mon, 20 Oct 2025 23:54:40 -0700 (PDT) Message-ID: <68f72e30.050a0220.367a34.3af3SMTPIN_ADDED_MISSING@mx.google.com> Received: from [172.21.0.4] (unknown [172.18.0.240]) by postal.iol.unh.edu (Postfix) with ESMTP id 979266051830; Tue, 21 Oct 2025 02:54:39 -0400 (EDT) Subject: |SUCCESS| [GIT MASTER] b287e404643aeab5bb5db084c142789df187844e From: dpdklab@iol.unh.edu To: Test Report Cc: dpdk-test-reports@iol.unh.edu, Xueming Li , Christian Ehrhardt , Kevin Traynor , Luca Boccassi Content-Type: text/plain X-BeenThere: test-report@dpdk.org X-Mailman-Version: 2.1.29 Precedence: list List-Id: automatic DPDK test reports List-Unsubscribe: , List-Archive: List-Post: List-Help: List-Subscribe: , Errors-To: test-report-bounces@dpdk.org _Testing PASS_ Branch: tags/v24.11 b287e404643aeab5bb5db084c142789df187844e --> testing pass Upstream job id: Generic-Unit-Test-DPDK#383826 Test environment and result as below: +-------------------------------+----------------+ | Environment | dpdk_unit_test | +===============================+================+ | CentOS Stream 9 | PASS | +-------------------------------+----------------+ | Fedora Linux 42 | PASS | +-------------------------------+----------------+ | CentOS Stream 10 | PASS | +-------------------------------+----------------+ | Fedora Linux 41 | PASS | +-------------------------------+----------------+ | Debian GNU/Linux 12 | PASS | +-------------------------------+----------------+ | Fedora Linux 40 | PASS | +-------------------------------+----------------+ | Red Hat Enterprise Linux 8.10 | PASS | +-------------------------------+----------------+ | Ubuntu 22.04 | PASS | +-------------------------------+----------------+ | Ubuntu 24.04 | PASS | +-------------------------------+----------------+ | Red Hat Enterprise Linux 9.5 | PASS | +-------------------------------+----------------+ | Ubuntu 20.04 | PASS | +-------------------------------+----------------+ | Windows Server 2022 | PASS | +-------------------------------+----------------+ CentOS Stream 9 Kernel: 5.15 Compiler: gcc gcc (GCC) 11.5.0 20240719 (Red Hat 11.5.0-11) Fedora Linux 42 Kernel: 5.15 Compiler: clang gcc (GCC) 15.2.1 20250808 (Red Hat 15.2.1-1) CentOS Stream 10 Kernel: 5.15 Compiler: gcc gcc (GCC) 14.2.1 20250110 (Red Hat 14.2.1-8) Fedora Linux 41 Kernel: 5.15 Compiler: clang gcc (GCC) 14.3.1 20250523 (Red Hat 14.3.1-1) Debian GNU/Linux 12 Kernel: 5.15 Compiler: gcc gcc (Debian 12.2.0-14+deb12u1) 12.2.0 Fedora Linux 40 Kernel: 5.15 Compiler: gcc gcc (GCC) 14.2.1 20240912 (Red Hat 14.2.1-3) Red Hat Enterprise Linux 8.10 Kernel: 5.15 Compiler: gcc gcc (GCC) 8.5.0 20210514 (Red Hat 8.5.0-22) Ubuntu 22.04 Kernel: 5.15 Compiler: gcc gcc (Ubuntu 11.4.0-1ubuntu1~22.04) 11.4.0 Ubuntu 24.04 Kernel: 5.15 Compiler: gcc gcc (Ubuntu 13.3.0-6ubuntu2~24.04) 13.3.0 Red Hat Enterprise Linux 9.5 Kernel: 5.15 Compiler: gcc gcc (GCC) 11.5.0 20240719 (Red Hat 11.5.0-2) Ubuntu 20.04 Kernel: 5.15 Compiler: gcc gcc (Ubuntu 9.4.0-1ubuntu1~20.04.2) 9.4.0 Windows Server 2022 Kernel: 10.0.20348.2031 Compiler: clang 15.0.7, gcc 14.1.0 (MinGW), and MSVC VS 19.39.33521 To view detailed results, visit: https://lab.dpdk.org/results/dashboard/tarballs/35291/ UNH-IOL DPDK Community Lab To manage your email subscriptions, visit: https://lab.dpdk.org/results/dashboard/preferences/subscriptions/