From mboxrd@z Thu Jan 1 00:00:00 1970 Return-Path: Received: from mails.dpdk.org (mails.dpdk.org [217.70.189.124]) by inbox.dpdk.org (Postfix) with ESMTP id 6831D48997 for ; Tue, 21 Oct 2025 09:25:51 +0200 (CEST) Received: from mails.dpdk.org (localhost [127.0.0.1]) by mails.dpdk.org (Postfix) with ESMTP id 57FE1400D5; Tue, 21 Oct 2025 09:25:51 +0200 (CEST) Received: from mail-qv1-f100.google.com (mail-qv1-f100.google.com [209.85.219.100]) by mails.dpdk.org (Postfix) with ESMTP id 9D33C400D5 for ; Tue, 21 Oct 2025 09:25:50 +0200 (CEST) Received: by mail-qv1-f100.google.com with SMTP id 6a1803df08f44-87c13813464so97560496d6.1 for ; Tue, 21 Oct 2025 00:25:50 -0700 (PDT) DKIM-Signature: v=1; a=rsa-sha256; c=relaxed/relaxed; d=iol.unh.edu; s=unh-iol; t=1761031550; x=1761636350; darn=dpdk.org; h=cc:to:from:subject:message-id:date:from:to:cc:subject:date :message-id:reply-to; bh=/EA4rZH7QEbSL1G5OuG51lldE6Px6nMkAJcv/Y3TufU=; b=GpZJLazUYNmNxJjr7Jp6pvpojwk2QrGI6yh+7u+WbG0Ag5M/sLvvN9uBxIBOBwAkIV FQoOQc7n9PHg1EgA0ES3MCiampQsv+xWb1VYeOtimgBZLXu/dh24J+xeq6ilSOPNGtLq +Wr8nr5E/8f4A/D15D55S5mvFBM1HPdDMyixw= X-Google-DKIM-Signature: v=1; a=rsa-sha256; c=relaxed/relaxed; d=1e100.net; s=20230601; t=1761031550; x=1761636350; h=cc:to:from:subject:message-id:date:x-gm-message-state:from:to:cc :subject:date:message-id:reply-to; bh=/EA4rZH7QEbSL1G5OuG51lldE6Px6nMkAJcv/Y3TufU=; b=gHG3mkAUffts01q66d8p6vJrj3P4FFGF5LKXz/Ua/BDY/+3FK++K7AtlYcDtgt3JRR vWZG6qKHhyYjrqlRkfAqu1bdkw07Wr2FZ4bzcj0vDq/GpSud3BgT0+tEcLIP0JVMqOO6 JIebmAkIlzFuWweJcSRBvMBJIfGkz8ta/rxvIOU+huPXrM7DEae2kG61mRllbiktGmBV FNAzaHAO/6rheXJPE6X+SwnqGR1/ACYCKstx27w8CjVMbxOgRzr5z1JEX9Sto4MctfkR BwN3rvvNwaXDiibvbah/4GXFL7A2Fg/JD0d+6Zv02jYlLcyTPAhqzRiTnqk2TwCFt8MV JeXw== X-Gm-Message-State: AOJu0YwnIF9afjD7smobt25DWoJixdeunqp1EKsfZdGvPnJWGmaXBfs5 OP1fWMyzAhORafbUKT8YS0ROw83RCphKZDNq9A6s0/n0QC3X8uyyBQZRRXrdSur1ImSf3eVTyoG ILc0ZKMUngARihZY6Z2FOFkZ/7kTSbChUqynggl7mx7sc X-Gm-Gg: ASbGncvyfpTqCIYz65UcQhobU30uKU+eGeNPJnjchf/j7+puPAyaAjX2yNoxgufQPgm R6PluoaucWPxBgl8rPVkfQkJLOecKr7Z/8GeQeRnP7noFF+55CgqTXKG8rBAuEfd9aqFKwUnQWA cfjEXZSd3RqG8hXVe6bo9vaLtxdd8flm4pN0ZDbKuMpahbnFcVHq2HDTOKLxFUbZ2pXo7bDDzwo aYTi/7GhleiqpETAjkeoQUOBWCJ9DUlcIlZhY6fEn2a2LQNdbnNt/zw8Y0u+tJBheNywc172LCb r6zHWMbfvDAKfYTHS0r9q2gvQfrer4cKKVjIz0i1M3ALNn/WcTh3xYIfVyFWZFhORBV7T4FSoeD hMV6VzaVnL2RwEz5iUON5ZuzEfQc1Pf8= X-Google-Smtp-Source: AGHT+IGN3CzUWQpryDsSXvEiIi/IaL0ELTzvamR40syvwaX1nSsVWlzsumocInABlAVlXkCooFX64C1wu0uw X-Received: by 2002:a05:6214:2a87:b0:87d:e5dd:38b3 with SMTP id 6a1803df08f44-87de5dd4212mr41302226d6.38.1761031549976; Tue, 21 Oct 2025 00:25:49 -0700 (PDT) Received: from postal.iol.unh.edu (postal.iol.unh.edu. [132.177.123.84]) by smtp-relay.gmail.com with ESMTPS id 6a1803df08f44-87ce9f5c47asm12484976d6.3.2025.10.21.00.25.49 (version=TLS1_2 cipher=ECDHE-ECDSA-AES128-GCM-SHA256 bits=128/128); Tue, 21 Oct 2025 00:25:49 -0700 (PDT) X-Relaying-Domain: iol.unh.edu Date: Tue, 21 Oct 2025 00:25:49 -0700 (PDT) Message-ID: <68f7357d.050a0220.1a2fd1.9491SMTPIN_ADDED_MISSING@mx.google.com> Received: from [172.21.0.3] (unknown [172.18.0.240]) by postal.iol.unh.edu (Postfix) with ESMTP id B0AF16051830; Tue, 21 Oct 2025 03:25:49 -0400 (EDT) Subject: |WARNING| [GIT MASTER] 456ae88e2512b541f4e3ba6eba1bfd40d925f2fb From: dpdklab@iol.unh.edu To: Test Report Cc: dpdk-test-reports@iol.unh.edu, Stephen Hemminger Content-Type: text/plain X-BeenThere: test-report@dpdk.org X-Mailman-Version: 2.1.29 Precedence: list List-Id: automatic DPDK test reports List-Unsubscribe: , List-Archive: List-Post: List-Help: List-Subscribe: , Errors-To: test-report-bounces@dpdk.org _Testing issues_ Branch: dpdk-next-net 456ae88e2512b541f4e3ba6eba1bfd40d925f2fb --> testing issues Upstream job id: Generic-DPDK-Compile-Meson#436479 Test environment and result as below: +-------------------------------+--------------------+-------------------+------------------+-------------------------+-------------------+----------------------+ | Environment | dpdk_meson_compile | dpdk_compile_spdk | dpdk_compile_ovs | dpdk_llvm_clang_compile | dpdk_msvc_compile | dpdk_mingw64_compile | +===============================+====================+===================+==================+=========================+===================+======================+ | CentOS Stream 9 | PASS | WARN | SKIPPED | SKIPPED | SKIPPED | SKIPPED | +-------------------------------+--------------------+-------------------+------------------+-------------------------+-------------------+----------------------+ | CentOS Stream 10 | PASS | SKIPPED | SKIPPED | SKIPPED | SKIPPED | SKIPPED | +-------------------------------+--------------------+-------------------+------------------+-------------------------+-------------------+----------------------+ | Debian GNU/Linux 12 | PASS | WARN | SKIPPED | SKIPPED | SKIPPED | SKIPPED | +-------------------------------+--------------------+-------------------+------------------+-------------------------+-------------------+----------------------+ | Fedora Linux 42 | PASS | WARN | PASS | SKIPPED | SKIPPED | SKIPPED | +-------------------------------+--------------------+-------------------+------------------+-------------------------+-------------------+----------------------+ | openSUSE Leap 15.6 | PASS | SKIPPED | SKIPPED | SKIPPED | SKIPPED | SKIPPED | +-------------------------------+--------------------+-------------------+------------------+-------------------------+-------------------+----------------------+ | Ubuntu 20.04 | PASS | SKIPPED | SKIPPED | SKIPPED | SKIPPED | SKIPPED | +-------------------------------+--------------------+-------------------+------------------+-------------------------+-------------------+----------------------+ | Red Hat Enterprise Linux 8.10 | PASS | SKIPPED | SKIPPED | SKIPPED | SKIPPED | SKIPPED | +-------------------------------+--------------------+-------------------+------------------+-------------------------+-------------------+----------------------+ | Red Hat Enterprise Linux 9.5 | PASS | SKIPPED | SKIPPED | SKIPPED | SKIPPED | SKIPPED | +-------------------------------+--------------------+-------------------+------------------+-------------------------+-------------------+----------------------+ | Ubuntu 22.04 | PASS | WARN | SKIPPED | SKIPPED | SKIPPED | SKIPPED | +-------------------------------+--------------------+-------------------+------------------+-------------------------+-------------------+----------------------+ | Ubuntu 24.04 | PASS | WARN | PASS | SKIPPED | SKIPPED | SKIPPED | +-------------------------------+--------------------+-------------------+------------------+-------------------------+-------------------+----------------------+ | Alpine Linux 3.22.0 | PASS | SKIPPED | SKIPPED | SKIPPED | SKIPPED | SKIPPED | +-------------------------------+--------------------+-------------------+------------------+-------------------------+-------------------+----------------------+ | FreeBSD 14.2 | PASS | SKIPPED | SKIPPED | SKIPPED | SKIPPED | SKIPPED | +-------------------------------+--------------------+-------------------+------------------+-------------------------+-------------------+----------------------+ | Windows Server 2022 | SKIPPED | SKIPPED | SKIPPED | PASS | PASS | PASS | +-------------------------------+--------------------+-------------------+------------------+-------------------------+-------------------+----------------------+ ==== 20 line log output for Ubuntu 24.04 (dpdk_compile_spdk): ==== --- Failed to get log output --- ==== End log output ==== CentOS Stream 9 Kernel: 5.15 Compiler: gcc gcc (GCC) 11.5.0 20240719 (Red Hat 11.5.0-11) CentOS Stream 10 Kernel: 5.15 Compiler: gcc gcc (GCC) 14.2.1 20250110 (Red Hat 14.2.1-8) Debian GNU/Linux 12 Kernel: 5.15 Compiler: gcc gcc (Debian 12.2.0-14+deb12u1) 12.2.0 Fedora Linux 42 Kernel: 5.15 Compiler: clang gcc (GCC) 15.2.1 20250808 (Red Hat 15.2.1-1) openSUSE Leap 15.6 Kernel: 5.15 Compiler: gcc gcc (SUSE Linux) 7.5.0 Ubuntu 20.04 Kernel: 4.19 Compiler: gcc gcc (Ubuntu 9.4.0-1ubuntu1~20.04.2) 9.4.0 Red Hat Enterprise Linux 8.10 Kernel: 5.15 Compiler: gcc gcc (GCC) 8.5.0 20210514 (Red Hat 8.5.0-22) Red Hat Enterprise Linux 9.5 Kernel: 5.15 Compiler: gcc gcc (GCC) 11.5.0 20240719 (Red Hat 11.5.0-2) Ubuntu 22.04 Kernel: 5.15 Compiler: gcc gcc (Ubuntu 11.4.0-1ubuntu1~22.04) 11.4.0 Ubuntu 24.04 Kernel: 5.15 Compiler: gcc gcc (Ubuntu 13.3.0-6ubuntu2~24.04) 13.3.0 Alpine Linux 3.22.0 Kernel: 5.15 Compiler: gcc gcc (Alpine 14.2.0) 14.2.0 FreeBSD 14.2 Kernel: 14.2-RELEASE Compiler: clang 18.1.6 Windows Server 2022 Kernel: 10.0.20348.2031 Compiler: clang 15.0.7, gcc 14.1.0 (MinGW), and MSVC VS 19.39.33521 To view detailed results, visit: https://lab.dpdk.org/results/dashboard/tarballs/35292/ UNH-IOL DPDK Community Lab To manage your email subscriptions, visit: https://lab.dpdk.org/results/dashboard/preferences/subscriptions/