From mboxrd@z Thu Jan 1 00:00:00 1970 Return-Path: Received: from mails.dpdk.org (mails.dpdk.org [217.70.189.124]) by inbox.dpdk.org (Postfix) with ESMTP id 06F4E48998 for ; Tue, 21 Oct 2025 12:18:54 +0200 (CEST) Received: from mails.dpdk.org (localhost [127.0.0.1]) by mails.dpdk.org (Postfix) with ESMTP id F1DB2400D5; Tue, 21 Oct 2025 12:18:53 +0200 (CEST) Received: from mail-yw1-f225.google.com (mail-yw1-f225.google.com [209.85.128.225]) by mails.dpdk.org (Postfix) with ESMTP id B170B400D5 for ; Tue, 21 Oct 2025 12:18:52 +0200 (CEST) Received: by mail-yw1-f225.google.com with SMTP id 00721157ae682-71d71bcab6fso52412527b3.0 for ; Tue, 21 Oct 2025 03:18:52 -0700 (PDT) DKIM-Signature: v=1; a=rsa-sha256; c=relaxed/relaxed; d=iol.unh.edu; s=unh-iol; t=1761041932; x=1761646732; darn=dpdk.org; h=references:in-reply-to:cc:to:from:subject:message-id:date:from:to :cc:subject:date:message-id:reply-to; bh=gb7E83DyZgZCyaeXfGDnfUKRvv2hRYrwvO79JFFm4HE=; b=XmLZi0JdxnhyVBvIfRyLjbQ2gEf9Cuqx5yRavyf6reioEpillxqP/fR4GdFuYLI2YJ Rz7XgZ6ejHuIWZfgCrmWvHBNpYehTH5yXQX5UfVW16mXfz/iVoVg7Zi/nO1vMKjB7Jl+ twMOLn21r7xr/s4tSmFjd3MGRgQUe8Dtuk9go= X-Google-DKIM-Signature: v=1; a=rsa-sha256; c=relaxed/relaxed; d=1e100.net; s=20230601; t=1761041932; x=1761646732; h=references:in-reply-to:cc:to:from:subject:message-id:date :x-gm-message-state:from:to:cc:subject:date:message-id:reply-to; bh=gb7E83DyZgZCyaeXfGDnfUKRvv2hRYrwvO79JFFm4HE=; b=depd0m8A+kvPWdve9Ir40dKUv4CuRVDdNYBquIEr3kwUAmz0323zsD+R8Brkn5i/ED DBFlKCStrH7Vv/IG9SVjOKuomm4ZNAI/wdbw2/cmFvDHJYRGO7kblLMlSb3VV8KMNdIq 52xYOwHdFD7lXyTXyAh/5hYzRHXpntn6qRADGvOqR6Q93Zg8UOb/fbpIEdu02iLQGvRX WgMxYxRHxrRkDQLlQqd9jjkiYbery3XHjn+HeUtrZPNv6vkqIgceuAMWIeXUfMXLEHP+ QE6uH9ZHru4G9jEXUgX4RQPU46u9ijxAnHjZaCBDLymWTISGmxgzmqMlaij/ycMyyCe6 7hyg== X-Gm-Message-State: AOJu0YzqyO468VsCnBQu5DwmnxqpOAgNDJq7XgdTN7LRBNoXGZPh6LK1 jfMm4VbwAaruhZve4TVCgZkFXcxGkO3WgqpGP2Rv0HtvaNlkJ2oQ7Wya3Woa2HsvePncuawdo/p qpZMIYPuxsJphWRVqiJ107UGf9FQUzCCOgNqVbHIAptTO X-Gm-Gg: ASbGnct7ErGKrq/oQmeG6cs8ZDQgZGim2WHIXtrOEYcFGmbj+KqiIjVtRJGQ9PnL8Yj x5Lc/oYGWgaLUC3tqBPgq1HxYGhzu42797ZKV8xUAPMnZZAZS0fDXAOklDwTrC5twBMinxe/WYk uE3DR4M/by7F9mnvIJeHtr7Rf1uXMGo93NRMwDXPBZw3a+YoAXoQo1vTg16cGk+LQYnhllGmEWD FA9MkAkOc5JRl5PH2AQzWnEAZMIZfkBVyvwm+9N+3dsPzJ1sWA8wUXcWFHQpF9zM6jhnDEYdsnJ xLZ3kvxHdVzX/8OX/KVaQH1k+olUXtsp00ruHd/ot1FuOLea5oljhqee61Q5+WtEhqffg6Dqwtl 3oHfSr37GHrc9nZKmjQSYT8hO2mjxgi0= X-Google-Smtp-Source: AGHT+IEHb2Z3BbLhZgpKZ32CLNkUeRCGRb0ivGShX6vrqdk56z69SkCe8/TbNcj2Br/bbyiZCZW6NxyxwmDw X-Received: by 2002:a05:690e:1553:10b0:63e:bea:b050 with SMTP id 956f58d0204a3-63e16179570mr11814818d50.12.1761041931801; Tue, 21 Oct 2025 03:18:51 -0700 (PDT) Received: from postal.iol.unh.edu (postal.iol.unh.edu. [132.177.123.84]) by smtp-relay.gmail.com with ESMTPS id 00721157ae682-784674e3665sm8081977b3.28.2025.10.21.03.18.51 (version=TLS1_2 cipher=ECDHE-ECDSA-AES128-GCM-SHA256 bits=128/128); Tue, 21 Oct 2025 03:18:51 -0700 (PDT) X-Relaying-Domain: iol.unh.edu Date: Tue, 21 Oct 2025 03:18:51 -0700 (PDT) Message-ID: <68f75e0b.050a0220.c7932.a9ccSMTPIN_ADDED_MISSING@mx.google.com> Received: from [172.21.0.2] (unknown [172.18.0.240]) by postal.iol.unh.edu (Postfix) with ESMTP id 6992960003E8; Tue, 21 Oct 2025 06:18:51 -0400 (EDT) Subject: |SUCCESS| pw157883 [PATCH] Revert "net/ice: count drop-all filter in From: dpdklab@iol.unh.edu To: Test Report Cc: dpdk-test-reports@iol.unh.edu, Bruce Richardson In-Reply-To: <20251020164230.3724539-1-jeffrey.b.shaw@intel.com> References: <20251020164230.3724539-1-jeffrey.b.shaw@intel.com> Content-Type: text/plain X-BeenThere: test-report@dpdk.org X-Mailman-Version: 2.1.29 Precedence: list List-Id: automatic DPDK test reports List-Unsubscribe: , List-Archive: List-Post: List-Help: List-Subscribe: , Errors-To: test-report-bounces@dpdk.org Test-Label: iol-unit-arm64-testing Test-Status: SUCCESS http://dpdk.org/patch/157883 _Testing PASS_ Submitter: Jeff Shaw Date: Monday, October 20 2025 16:42:29 DPDK git baseline: Repo:dpdk-next-net-intel Branch: master CommitID:6b997d6b9ffdbb4f8ecd14d1f217da69cdc783af 157883 --> testing pass Upstream job id: Generic-Unit-Test-DPDK#383748 Test environment and result as below: +------------------------------+----------------+--------------+---------------------------+------------------------------+ | Environment | dpdk_unit_test | lpm_autotest | cryptodev_sw_zuc_autotest | cryptodev_sw_snow3g_autotest | +==============================+================+==============+===========================+==============================+ | Debian GNU/Linux 12 | PASS | SKIPPED | SKIPPED | SKIPPED | +------------------------------+----------------+--------------+---------------------------+------------------------------+ | CentOS Stream 9 | PASS | SKIPPED | SKIPPED | SKIPPED | +------------------------------+----------------+--------------+---------------------------+------------------------------+ | CentOS Stream 10 | PASS | SKIPPED | SKIPPED | SKIPPED | +------------------------------+----------------+--------------+---------------------------+------------------------------+ | Fedora Linux 40 | PASS | SKIPPED | SKIPPED | SKIPPED | +------------------------------+----------------+--------------+---------------------------+------------------------------+ | Fedora Linux 42 | PASS | SKIPPED | SKIPPED | SKIPPED | +------------------------------+----------------+--------------+---------------------------+------------------------------+ | Fedora Linux 41 | PASS | SKIPPED | SKIPPED | SKIPPED | +------------------------------+----------------+--------------+---------------------------+------------------------------+ | Ubuntu 22.04 | PASS | SKIPPED | SKIPPED | SKIPPED | +------------------------------+----------------+--------------+---------------------------+------------------------------+ | Ubuntu 20.04 | PASS | PASS | SKIPPED | SKIPPED | +------------------------------+----------------+--------------+---------------------------+------------------------------+ | Red Hat Enterprise Linux 9.5 | PASS | SKIPPED | SKIPPED | SKIPPED | +------------------------------+----------------+--------------+---------------------------+------------------------------+ | Ubuntu 24.04 | PASS | SKIPPED | SKIPPED | SKIPPED | +------------------------------+----------------+--------------+---------------------------+------------------------------+ | Debian 12 (arm) | SKIPPED | SKIPPED | PASS | PASS | +------------------------------+----------------+--------------+---------------------------+------------------------------+ Debian GNU/Linux 12 Kernel: 5.4 Compiler: gcc gcc (Debian 12.2.0-14+deb12u1) 12.2.0 CentOS Stream 9 Kernel: 5.4 Compiler: gcc gcc (GCC) 11.5.0 20240719 (Red Hat 11.5.0-11) CentOS Stream 10 Kernel: 5.4 Compiler: gcc gcc (GCC) 14.2.1 20250110 (Red Hat 14.2.1-8) Fedora Linux 40 Kernel: 5.4 Compiler: gcc gcc (GCC) 14.2.1 20240912 (Red Hat 14.2.1-3) Fedora Linux 42 Kernel: 5.4 Compiler: gcc gcc (GCC) 15.2.1 20250808 (Red Hat 15.2.1-1) Fedora Linux 41 Kernel: 5.4 Compiler: clang gcc (GCC) 14.3.1 20250523 (Red Hat 14.3.1-1) Ubuntu 22.04 Kernel: 5.4 Compiler: gcc gcc (Ubuntu 11.4.0-1ubuntu1~22.04) 11.4.0 Ubuntu 20.04 Kernel: 5.4 Compiler: gcc gcc (Ubuntu 9.4.0-1ubuntu1~20.04.2) 9.4.0 Red Hat Enterprise Linux 9.5 Kernel: 5.4 Compiler: gcc gcc (GCC) 11.5.0 20240719 (Red Hat 11.5.0-2) Ubuntu 24.04 Kernel: 5.4 Compiler: gcc gcc (Ubuntu 13.3.0-6ubuntu2~24.04) 13.3.0 Debian 12 (arm) Kernel: Depends on container host Compiler: gcc (Debian 12.2.0-14) 12.2.0 To view detailed results, visit: https://lab.dpdk.org/results/dashboard/patchsets/34336/ UNH-IOL DPDK Community Lab To manage your email subscriptions, visit: https://lab.dpdk.org/results/dashboard/preferences/subscriptions/