From mboxrd@z Thu Jan 1 00:00:00 1970 Return-Path: Received: from mails.dpdk.org (mails.dpdk.org [217.70.189.124]) by inbox.dpdk.org (Postfix) with ESMTP id B38F848998 for ; Tue, 21 Oct 2025 12:24:42 +0200 (CEST) Received: from mails.dpdk.org (localhost [127.0.0.1]) by mails.dpdk.org (Postfix) with ESMTP id 82B25400D5; Tue, 21 Oct 2025 12:24:42 +0200 (CEST) Received: from mail-pl1-f226.google.com (mail-pl1-f226.google.com [209.85.214.226]) by mails.dpdk.org (Postfix) with ESMTP id 2F8AB400D5 for ; Tue, 21 Oct 2025 12:24:41 +0200 (CEST) Received: by mail-pl1-f226.google.com with SMTP id d9443c01a7336-29226bc4bafso36500405ad.0 for ; Tue, 21 Oct 2025 03:24:41 -0700 (PDT) DKIM-Signature: v=1; a=rsa-sha256; c=relaxed/relaxed; d=iol.unh.edu; s=unh-iol; t=1761042280; x=1761647080; darn=dpdk.org; h=cc:to:from:subject:message-id:date:from:to:cc:subject:date :message-id:reply-to; bh=mYnMNdhbLGVP/TCRbMqNOMBUAy43kQP4N0D/T9Noblc=; b=ZwlHyMou1AxoWqNuvRgFW3Ve7PclFyewjc17pF2ZWR5nMBXfWTUN+cISXN5KiQa27i WiVxnrulU7Z8ZBWVvMxV7cwX8PFrIEj8YZh+8XQ2lJoiC/jdmBnv+OoL534iTbs+yMbr /GQ1olWZvFLPFhEisUPhKPISlyAZ+jPqHEhls= X-Google-DKIM-Signature: v=1; a=rsa-sha256; c=relaxed/relaxed; d=1e100.net; s=20230601; t=1761042280; x=1761647080; h=cc:to:from:subject:message-id:date:x-gm-message-state:from:to:cc :subject:date:message-id:reply-to; bh=mYnMNdhbLGVP/TCRbMqNOMBUAy43kQP4N0D/T9Noblc=; b=JGTPP0iNhzLyBQXrL/H6M9hrVSi+3/cFHlnv8kCL11QVjDCWauTVdbvRklCMhzLHyc 2oOT8tyMR5YMZuFV84lwl/crBFko5zFxLrUKziyE0QoygEHeqpnnnkxZZy9Qj455PVHr bx4IeXhuhOdVwxPuIsYtpAN8Barj2/0YQ6+4n4+6PH2MObxL/ky3anbxSsglCgBbcDXu 4tw5kuJkMgcwQYWL9nLTXZtn0GRFGe9ii6QgoqeSGYU/KdGyamxJ8V2St9L3KwUpT3nc JUr/nFt3ggFW71P2+HUeP8fnKA7Sh8n/CJto71LRaHaQjGqi9RXzjhJ1D/gRdZTEtAcg QM+w== X-Gm-Message-State: AOJu0Yy66HjOSLOzY2P6fvk9Sd4OgiH+7DGV/M/RE/CLXbGczixDJVi/ 7rstkTLXE34kfQf3/NbnaOCEfqp+lNbBS96gjAjBTtRdrb3J/rSI4dDTnYRpOyMNq7lPXa5qa8l tIexjRohqBnIxrKl60pNhye5akU/9ktYODll87Bm6vG7y8rZP7+PO X-Gm-Gg: ASbGnctqjaWcXNNJgFr7UD+icjm9RuKV2fjzNqC/zrp/TWLa9K+aDSiqxpe/lSZ4/I4 uPbZu4BDbwUCQcet9gzrI+4NY8bLaEn9Pm+yG05CojLvSjrAgJNDO/QeT4AZSG1wkkp40Gln/eH 9NBS3c41zm2Yypa96JKK++GIoJyCRq2NtzH6qS68diNM35NQxjaEx3n4WVGsaCIY+kV3f3zCiKG cGBJqwbdFDWQeo6/UZzo2oJ1lBWzTc870+3bvVVqyZF5wLsu0fDrXtT46gyenJrtlGPcBskjrk8 LGpRM0QtpPw3OkXHkgaUIySfhNACmoXDe0MhnEn89jUA5ZFQ93zZi2DRXaXC3jqT2CZ1kNR5FkO U5JvFG2bJ X-Google-Smtp-Source: AGHT+IHG7JE8G0Fafhelxlpf+QOwKJ6laG5hCpy8TBao8MOM+Nn3/3MUUvePHQ/kFV7IC/38go0n7kJ6J63B X-Received: by 2002:a17:902:ef4d:b0:269:8f0c:4d86 with SMTP id d9443c01a7336-290cb66049dmr222843355ad.53.1761042280170; Tue, 21 Oct 2025 03:24:40 -0700 (PDT) Received: from postal.iol.unh.edu (postal.iol.unh.edu. [2606:4100:3880:1234::84]) by smtp-relay.gmail.com with ESMTPS id d9443c01a7336-29247017d59sm12206205ad.27.2025.10.21.03.24.40 (version=TLS1_2 cipher=ECDHE-ECDSA-AES128-GCM-SHA256 bits=128/128); Tue, 21 Oct 2025 03:24:40 -0700 (PDT) X-Relaying-Domain: iol.unh.edu Date: Tue, 21 Oct 2025 03:24:40 -0700 (PDT) Message-ID: <68f75f68.170a0220.21219.79c9SMTPIN_ADDED_MISSING@mx.google.com> Received: from [172.21.0.4] (unknown [172.18.0.240]) by postal.iol.unh.edu (Postfix) with ESMTP id 9FD176051830; Tue, 21 Oct 2025 06:24:39 -0400 (EDT) Subject: |SUCCESS| [GIT MASTER] b287e404643aeab5bb5db084c142789df187844e From: dpdklab@iol.unh.edu To: Test Report Cc: dpdk-test-reports@iol.unh.edu, Xueming Li , Christian Ehrhardt , Kevin Traynor , Luca Boccassi Content-Type: text/plain X-BeenThere: test-report@dpdk.org X-Mailman-Version: 2.1.29 Precedence: list List-Id: automatic DPDK test reports List-Unsubscribe: , List-Archive: List-Post: List-Help: List-Subscribe: , Errors-To: test-report-bounces@dpdk.org _Testing PASS_ Branch: tags/v24.11 b287e404643aeab5bb5db084c142789df187844e --> testing pass Upstream job id: Generic-DPDK-Compile-Meson#436440 Test environment and result as below: +------------------------------+--------------------+ | Environment | dpdk_meson_compile | +==============================+====================+ | Ubuntu 20.04 | PASS | +------------------------------+--------------------+ | Red Hat Enterprise Linux 9.5 | PASS | +------------------------------+--------------------+ | Debian GNU/Linux 12 | PASS | +------------------------------+--------------------+ | Fedora Linux 42 | PASS | +------------------------------+--------------------+ | Ubuntu 24.04 | PASS | +------------------------------+--------------------+ | Ubuntu 22.04 | PASS | +------------------------------+--------------------+ | CentOS Stream 9 | PASS | +------------------------------+--------------------+ | CentOS Stream 10 | PASS | +------------------------------+--------------------+ Ubuntu 20.04 Kernel: 5.15 Compiler: aarch64-linux-gnu-gcc gcc (Ubuntu 9.4.0-1ubuntu1~20.04.2) 9.4.0 Red Hat Enterprise Linux 9.5 Kernel: 5.4 Compiler: gcc gcc (GCC) 11.5.0 20240719 (Red Hat 11.5.0-2) Debian GNU/Linux 12 Kernel: 5.4 Compiler: gcc gcc (Debian 12.2.0-14+deb12u1) 12.2.0 Fedora Linux 42 Kernel: 5.4 Compiler: gcc gcc (GCC) 15.2.1 20250808 (Red Hat 15.2.1-1) Ubuntu 24.04 Kernel: 5.4 Compiler: gcc gcc (Ubuntu 13.3.0-6ubuntu2~24.04) 13.3.0 Ubuntu 22.04 Kernel: 5.4 Compiler: gcc gcc (Ubuntu 11.4.0-1ubuntu1~22.04) 11.4.0 CentOS Stream 9 Kernel: 5.4 Compiler: gcc gcc (GCC) 11.5.0 20240719 (Red Hat 11.5.0-11) CentOS Stream 10 Kernel: 5.4 Compiler: gcc gcc (GCC) 14.2.1 20250110 (Red Hat 14.2.1-8) To view detailed results, visit: https://lab.dpdk.org/results/dashboard/tarballs/35291/ UNH-IOL DPDK Community Lab To manage your email subscriptions, visit: https://lab.dpdk.org/results/dashboard/preferences/subscriptions/