From mboxrd@z Thu Jan 1 00:00:00 1970 Return-Path: Received: from mails.dpdk.org (mails.dpdk.org [217.70.189.124]) by inbox.dpdk.org (Postfix) with ESMTP id 9B68148998 for ; Tue, 21 Oct 2025 12:25:02 +0200 (CEST) Received: from mails.dpdk.org (localhost [127.0.0.1]) by mails.dpdk.org (Postfix) with ESMTP id 95F3F400D5; Tue, 21 Oct 2025 12:25:02 +0200 (CEST) Received: from mail-pj1-f97.google.com (mail-pj1-f97.google.com [209.85.216.97]) by mails.dpdk.org (Postfix) with ESMTP id 38BDB400D5 for ; Tue, 21 Oct 2025 12:25:01 +0200 (CEST) Received: by mail-pj1-f97.google.com with SMTP id 98e67ed59e1d1-339e71ccf48so7341395a91.3 for ; Tue, 21 Oct 2025 03:25:01 -0700 (PDT) DKIM-Signature: v=1; a=rsa-sha256; c=relaxed/relaxed; d=iol.unh.edu; s=unh-iol; t=1761042300; x=1761647100; darn=dpdk.org; h=cc:to:from:subject:message-id:date:from:to:cc:subject:date :message-id:reply-to; bh=bIfCh2SwQ3prIY71tNbsZyEOZG5PT5F7WYauUv4Vovg=; b=X9MiHIyaFwwmbsqUwKwTBOQIc/6QPgL4SSoDfSJw1WZazohjB2GTXUl33nszQVDzqf V5PwOt1sCOiUpyemhz+kDXlwMijM/uWA/47bCLZndzmlAIPO5HxiHQ8Mss4mMes6zg6K ZK/WnDT2eXbD7cc52hN+Rmb4DjUrhhwNs686E= X-Google-DKIM-Signature: v=1; a=rsa-sha256; c=relaxed/relaxed; d=1e100.net; s=20230601; t=1761042300; x=1761647100; h=cc:to:from:subject:message-id:date:x-gm-message-state:from:to:cc :subject:date:message-id:reply-to; bh=bIfCh2SwQ3prIY71tNbsZyEOZG5PT5F7WYauUv4Vovg=; b=pLgQGc4R2Tc0CH4ePMWwBoqSN1+0kdVIwfI6eByegFv1U3euSRjCaj/9J7T4U9OEan AumEpjkHRNN/0JJyJrxIKelVbFPFKLaSQOROKKXfSLobOVwK66W5JouWNZ5/UQAGfG5p fZXEttAWUCVJu1LJMcL6PCidhoKGO/uu/SgrktOpPjuFD0D//VzYjswMNzh+6Rktxn0o XJk/Q+yN/omTLxA2YeSSTQkjp1E9EkMNCHZzodX4LDpXdm0t1efkPa8DD5ZHj7ZT2rek jOHak95Y16UaXo9EofZN6AtqcDXCRrXwSGG87vBOHc9NWcz8kB+MQD+2hV4W9hStm7Rp P0XA== X-Gm-Message-State: AOJu0YyYWzZazHYv3AzZiLEIV3Wa2IHZxfV2d3fxKDZ1kX1V4CU+meAi 9Goz0ZHgzUxC75MNJcsW7oxWOCLNjcyKED2fgWXmXmt6idGQB+uTVjLgZmIwuhh5MoDn2PJYc8+ NpTKMHSvsMFQ46703ZR/DUCmB8nSk/63R35Rp6MHGSqlf9CtN2nA7 X-Gm-Gg: ASbGnctwgUoLYzC4HwOV7yew+rnx7ojvqIulN2xan3ndaYUU+q373YS6lkFCZod5GgM jTyTWYnQUqkK8WiFo0qQOW3wzsL+Nu+ECDoMX/sJs1fanKvpQzvHmhjQ/LKlwfTtagQyh6qN5Ls l8cnS3iu83G/RBIhYlaVr1cywM7230qQqApGQed0xlIljkkjUZr6B79lGgE3qQaQsCb/3OTdpEA GS6ZYli6929QomdpCugThdJytkXXvZpnHxAHHGZEHE8I0amgIvjfYUDCYAcBJVYB+f1rJeytQEP jw+PG8mbNSsJZ8O3g3qxX10tF8ilHIu3NhZnyCgIlFUPYFJy5HJz4fq+XAvDT/Lf2Xs/Rb6t/ui doOpRlppe X-Google-Smtp-Source: AGHT+IGz3QOCIRwL3ivc3NO9+wASS7Llq5afY2XctGao6+aPHg0ET+0joFfq+g5M3VakiV5VXTFUJi1jthyw X-Received: by 2002:a17:90b:35cc:b0:32e:43ae:e7e9 with SMTP id 98e67ed59e1d1-33bcf8ec899mr23211082a91.17.1761042300392; Tue, 21 Oct 2025 03:25:00 -0700 (PDT) Received: from postal.iol.unh.edu (postal.iol.unh.edu. [2606:4100:3880:1234::84]) by smtp-relay.gmail.com with ESMTPS id 98e67ed59e1d1-33d5de1f2fasm1194535a91.3.2025.10.21.03.25.00 (version=TLS1_2 cipher=ECDHE-ECDSA-AES128-GCM-SHA256 bits=128/128); Tue, 21 Oct 2025 03:25:00 -0700 (PDT) X-Relaying-Domain: iol.unh.edu Date: Tue, 21 Oct 2025 03:25:00 -0700 (PDT) Message-ID: <68f75f7c.170a0220.36aaf7.8ed4SMTPIN_ADDED_MISSING@mx.google.com> Received: from [172.21.0.3] (unknown [172.18.0.240]) by postal.iol.unh.edu (Postfix) with ESMTP id A92CA6051830; Tue, 21 Oct 2025 06:24:59 -0400 (EDT) Subject: |SUCCESS| [GIT MASTER] b287e404643aeab5bb5db084c142789df187844e From: dpdklab@iol.unh.edu To: Test Report Cc: dpdk-test-reports@iol.unh.edu, Xueming Li , Christian Ehrhardt , Kevin Traynor , Luca Boccassi Content-Type: text/plain X-BeenThere: test-report@dpdk.org X-Mailman-Version: 2.1.29 Precedence: list List-Id: automatic DPDK test reports List-Unsubscribe: , List-Archive: List-Post: List-Help: List-Subscribe: , Errors-To: test-report-bounces@dpdk.org _Testing PASS_ Branch: tags/v24.11 b287e404643aeab5bb5db084c142789df187844e --> testing pass Upstream job id: Generic-DPDK-Compile-Meson#436438 Test environment and result as below: +------------------------------+--------------------+ | Environment | dpdk_meson_compile | +==============================+====================+ | Ubuntu 20.04 | PASS | +------------------------------+--------------------+ | Red Hat Enterprise Linux 9.5 | PASS | +------------------------------+--------------------+ | Debian GNU/Linux 12 | PASS | +------------------------------+--------------------+ | Fedora Linux 42 | PASS | +------------------------------+--------------------+ | Ubuntu 24.04 | PASS | +------------------------------+--------------------+ | Ubuntu 22.04 | PASS | +------------------------------+--------------------+ | CentOS Stream 9 | PASS | +------------------------------+--------------------+ | CentOS Stream 10 | PASS | +------------------------------+--------------------+ Ubuntu 20.04 Kernel: 5.15 Compiler: aarch64-linux-gnu-gcc gcc (Ubuntu 9.4.0-1ubuntu1~20.04.2) 9.4.0 Red Hat Enterprise Linux 9.5 Kernel: 5.4 Compiler: gcc gcc (GCC) 11.5.0 20240719 (Red Hat 11.5.0-2) Debian GNU/Linux 12 Kernel: 5.4 Compiler: gcc gcc (Debian 12.2.0-14+deb12u1) 12.2.0 Fedora Linux 42 Kernel: 5.4 Compiler: gcc gcc (GCC) 15.2.1 20250808 (Red Hat 15.2.1-1) Ubuntu 24.04 Kernel: 5.4 Compiler: gcc gcc (Ubuntu 13.3.0-6ubuntu2~24.04) 13.3.0 Ubuntu 22.04 Kernel: 5.4 Compiler: gcc gcc (Ubuntu 11.4.0-1ubuntu1~22.04) 11.4.0 CentOS Stream 9 Kernel: 5.4 Compiler: gcc gcc (GCC) 11.5.0 20240719 (Red Hat 11.5.0-11) CentOS Stream 10 Kernel: 5.4 Compiler: gcc gcc (GCC) 14.2.1 20250110 (Red Hat 14.2.1-8) To view detailed results, visit: https://lab.dpdk.org/results/dashboard/tarballs/35291/ UNH-IOL DPDK Community Lab To manage your email subscriptions, visit: https://lab.dpdk.org/results/dashboard/preferences/subscriptions/