From mboxrd@z Thu Jan 1 00:00:00 1970 Return-Path: Received: from mails.dpdk.org (mails.dpdk.org [217.70.189.124]) by inbox.dpdk.org (Postfix) with ESMTP id 62C9A48950 for ; Tue, 21 Oct 2025 13:02:45 +0200 (CEST) Received: from mails.dpdk.org (localhost [127.0.0.1]) by mails.dpdk.org (Postfix) with ESMTP id 5DE92400D5; Tue, 21 Oct 2025 13:02:45 +0200 (CEST) Received: from mail-pf1-f227.google.com (mail-pf1-f227.google.com [209.85.210.227]) by mails.dpdk.org (Postfix) with ESMTP id 602F5400D5 for ; Tue, 21 Oct 2025 13:02:44 +0200 (CEST) Received: by mail-pf1-f227.google.com with SMTP id d2e1a72fcca58-793021f348fso4828031b3a.1 for ; Tue, 21 Oct 2025 04:02:44 -0700 (PDT) DKIM-Signature: v=1; a=rsa-sha256; c=relaxed/relaxed; d=iol.unh.edu; s=unh-iol; t=1761044563; x=1761649363; darn=dpdk.org; h=cc:to:from:subject:message-id:date:from:to:cc:subject:date :message-id:reply-to; bh=voXoih9votAePnkFIvthJamZHHKw86b5gCoVS3Dmzzk=; b=iktigQGVkFmenlCGyvEi0txtG9HVuD1Rr7gg7oALsxiyYIS/D6qzZXfdj0RuWMoEiX 8afqV+E6khGVZPP0Psqd5wl4U1HtUYUPawFZooJiWtSA70YsFIpkjMyx71GlcOqkPelG yb/kOT1tLHlVofgsECpOuMjGeCejtblpqLmGg= X-Google-DKIM-Signature: v=1; a=rsa-sha256; c=relaxed/relaxed; d=1e100.net; s=20230601; t=1761044563; x=1761649363; h=cc:to:from:subject:message-id:date:x-gm-message-state:from:to:cc :subject:date:message-id:reply-to; bh=voXoih9votAePnkFIvthJamZHHKw86b5gCoVS3Dmzzk=; b=Vxj+hYtBMp+YqNa/fQCE0D7mc+4ZCjlyb5Cj/D/caOsBgJ9R8QDOqR91UZugoBjv0k D+a9zS2XOnEKxcBIyS/oQtw+7kOY7tnIiS/xa7aHyTpah95WkF+TvjeH1lCv3ukLX/Ay 2Onu1fvP7tsKgDXvhsUzLLmbzMng173+gvHQ+WQCDgV7Tb2DFeoCA9mkRO3ArUR7Vuzo axPFsiRIeMc/ph95aBgRGpwGFGpE29q0xcBOvLWjOa4OGDnVXDJTx7NICs3as9ozPbkZ +cDxap1ihMP0AcdnAylvC1Pp/Zd0u76Cu45P7LDXq9zykNPl5j0y+4OaAkxjs4TzoCs+ xSSQ== X-Gm-Message-State: AOJu0YyxGWdyBUGU43M3vCI5BCC+sEF1WvflZEczUBt+b5Xs2zXElu1W azmm5nVpeanxa3Uq9KpH+chqiewAAqU1bYkIdR+BIYeE16stn7/vaIDXMceePJq5aHmPzcpJh4v pEsddpkMuFOZv9fgtHok6rAIZBE/b5v6pNOu0 X-Gm-Gg: ASbGnct3vpSyIRNeY+QiIGYEwlFdl+eYCuqc1avy7oFngQibTbtJRvwYHSg4Op1bMtF y5NaN8W4ZRAO5jSSZWRCUDqiRF8KNBF1aWPg02OEFSK6Gd+OeTu8cMMFarBGJjMKjQclXIfVDoO xqkIWWTYZlnMAVKv58wKhIKX9r5ItqVgcdgBBZ2zZQ1Pzunousxz0ML3S28tBnHUoYoNRspuiNN fP9hjlTzUzBNnlD6VcdwczWbQ+LMiNOO+/mGlM0GQQCHfbsx+TX5IHoZlWr4CoDfL/UKo4ZUC6C k8oUG1+YrHAC784IdPP5grr2in7/qWBAcnihN0jdqXRtR9w2ovLH/d2VMFUN9tqvq9Hp6OPYz9l rvop5eolthW16qI01QaWKUeNP3dI+UEM= X-Google-Smtp-Source: AGHT+IGX9xqO7S+yAxbAnVQwtxwAkB4BmBwec5sFCwJGoC9ae/qbO1D7avYjK5X9ka2Jawy/NOzHMquJ0WB5 X-Received: by 2002:a05:6a20:6a0e:b0:334:9b5d:3876 with SMTP id adf61e73a8af0-334a8514f17mr22223821637.4.1761044563481; Tue, 21 Oct 2025 04:02:43 -0700 (PDT) Received: from postal.iol.unh.edu (postal.iol.unh.edu. [132.177.123.84]) by smtp-relay.gmail.com with ESMTPS id 98e67ed59e1d1-33d5deb2a5asm1207417a91.7.2025.10.21.04.02.43 (version=TLS1_2 cipher=ECDHE-ECDSA-AES128-GCM-SHA256 bits=128/128); Tue, 21 Oct 2025 04:02:43 -0700 (PDT) X-Relaying-Domain: iol.unh.edu Date: Tue, 21 Oct 2025 04:02:43 -0700 (PDT) Message-ID: <68f76853.170a0220.1d2d7f.8bfeSMTPIN_ADDED_MISSING@mx.google.com> Received: from [172.21.0.3] (unknown [172.18.0.240]) by postal.iol.unh.edu (Postfix) with ESMTP id 00F866051830; Tue, 21 Oct 2025 07:02:43 -0400 (EDT) Subject: |SUCCESS| [GIT MASTER] 3b43ce3f4a54468e7ef65760c2fd7b4d6ee6d9fc From: dpdklab@iol.unh.edu To: Test Report Cc: dpdk-test-reports@iol.unh.edu, Xueming Li , Christian Ehrhardt , Kevin Traynor , Luca Boccassi Content-Type: text/plain X-BeenThere: test-report@dpdk.org X-Mailman-Version: 2.1.29 Precedence: list List-Id: automatic DPDK test reports List-Unsubscribe: , List-Archive: List-Post: List-Help: List-Subscribe: , Errors-To: test-report-bounces@dpdk.org _Testing PASS_ Branch: tags/v22.11 3b43ce3f4a54468e7ef65760c2fd7b4d6ee6d9fc --> testing pass Upstream job id: Generic-Unit-Test-DPDK#383801 Test environment and result as below: +-----------------+---------------------------+------------------------------+--------------+----------------+ | Environment | cryptodev_sw_zuc_autotest | cryptodev_sw_snow3g_autotest | lpm_autotest | dpdk_unit_test | +=================+===========================+==============================+==============+================+ | Debian 12 (arm) | PASS | PASS | SKIPPED | SKIPPED | +-----------------+---------------------------+------------------------------+--------------+----------------+ | Ubuntu 20.04 | SKIPPED | SKIPPED | PASS | SKIPPED | +-----------------+---------------------------+------------------------------+--------------+----------------+ | Ubuntu 22.04 | SKIPPED | SKIPPED | SKIPPED | PASS | +-----------------+---------------------------+------------------------------+--------------+----------------+ Debian 12 (arm) Kernel: Depends on container host Compiler: gcc (Debian 12.2.0-14) 12.2.0 Ubuntu 20.04 Kernel: 5.4 Compiler: gcc gcc (Ubuntu 9.4.0-1ubuntu1~20.04.2) 9.4.0 Ubuntu 22.04 Kernel: 5.15 Compiler: gcc gcc (Ubuntu 11.4.0-1ubuntu1~22.04.2) 11.4.0 To view detailed results, visit: https://lab.dpdk.org/results/dashboard/tarballs/35289/ UNH-IOL DPDK Community Lab To manage your email subscriptions, visit: https://lab.dpdk.org/results/dashboard/preferences/subscriptions/