From mboxrd@z Thu Jan 1 00:00:00 1970 Return-Path: Received: from mails.dpdk.org (mails.dpdk.org [217.70.189.124]) by inbox.dpdk.org (Postfix) with ESMTP id B9D0C48998 for ; Tue, 21 Oct 2025 13:05:29 +0200 (CEST) Received: from mails.dpdk.org (localhost [127.0.0.1]) by mails.dpdk.org (Postfix) with ESMTP id 97357400D5; Tue, 21 Oct 2025 13:05:29 +0200 (CEST) Received: from mail-il1-f228.google.com (mail-il1-f228.google.com [209.85.166.228]) by mails.dpdk.org (Postfix) with ESMTP id 6C7FF400D5 for ; Tue, 21 Oct 2025 13:05:28 +0200 (CEST) Received: by mail-il1-f228.google.com with SMTP id e9e14a558f8ab-430ccd45f19so39213945ab.1 for ; Tue, 21 Oct 2025 04:05:28 -0700 (PDT) DKIM-Signature: v=1; a=rsa-sha256; c=relaxed/relaxed; d=iol.unh.edu; s=unh-iol; t=1761044727; x=1761649527; darn=dpdk.org; h=cc:to:from:subject:message-id:date:from:to:cc:subject:date :message-id:reply-to; bh=GqR2V7P85L5LogItsAQ3f5cEpFtgeerOroXu0g9eQBs=; b=VckrOYOfoVh5Sacl5M+gvvREPhwJp3jOmKhpJxzmpMRI/7S6ZNdyMvg1Tm9oIEIS9i wcmt+u/YCHDD6DcwsNVx/FaIvSiboBxT6MQ6XPTC2t8rRU4p1eeUl5VZBxebD09tQwUh jBDa6KSejhpwnwt3KyME7O4UCmT3Tvpviip+o= X-Google-DKIM-Signature: v=1; a=rsa-sha256; c=relaxed/relaxed; d=1e100.net; s=20230601; t=1761044727; x=1761649527; h=cc:to:from:subject:message-id:date:x-gm-message-state:from:to:cc :subject:date:message-id:reply-to; bh=GqR2V7P85L5LogItsAQ3f5cEpFtgeerOroXu0g9eQBs=; b=BXgqAC0UBmpONBmKFjTanGPuHTmmXIunstH0Gs8pUdlD+nED85w2A4bdFMvGe39ut+ ED1Xq6ChhJH1C34daQmvdJaDFL5Hn0IYAnU9sKfI6e5osKcYDMOEu/aFptOtTBozdwXf jLIOi6dGIvbyv47NZbIo5yDdINl3WGaJK2ioTAOferaYAqxG72090gMHmEH5Pa33jtW1 dlM+dZw+BYUV/+RBDzOSbIEMkmKoF95e71ml3Zi60mz9OPjXlhM6UaFasqBnc9NxU7vk cxK0VWChxN2r97jVElXt9KbUqWnQwVNX4RIrtooh0+XLDIUcX/P2PA0SLPLEKVQlMfpJ Nh9g== X-Gm-Message-State: AOJu0YySgR0ouPhe588kXCtEcyXyBse5qB1KCuVXOlJfdQ8OreJYLMsH d9O+l/MRJDxmz11SMn6bBPFFZT8xWrpuoy0x0++o47PnyVJIhPhJOp36UQZHnOUf4PjkPXfLSDV RaLRVMExI87gau6DbfTbg1LMXA0WypT1hpokX X-Gm-Gg: ASbGncvyPTHbPq9YnV8U9mJ6Adh2NatL9QFPVS/+olIcPf2oqNG1ewpHxbl0n1K26MJ uvw6JVzEZhKKu5qtZGS1jtFDHhDGM1GwdnWHCThwTs3+MLiS75t1Q4ityXBpCQBUa16Dj/qJjne 9OCrt8PF8hl06egZTbMPNNXgqy1hwlOPtZHLVIWCdUDpMUJQVdiEEY/MdrfOcb1xpJ9iBWUo3l/ 8kbCJeNzjV5Cy4aU1jk5HSi5TmBpsJDqF7b/9ZCDMGInxXph/gUwYN5sPHi5pPShBtMix7xXLNB cpF2wsRyRdeQQcoyyAhFSIyhMLpkFd/OIkaSjEv9ymQ3HNnQcCAsK/6r8e/no2V3r22eKZfeOl1 hf38lO32/AJoLAJSh25OSx8eBdMCwY/w= X-Google-Smtp-Source: AGHT+IEXxdiDHniwsWj2y2RAj9wpQ0H0+EKTVIZddxsruI2U4rs6uzoFuEqe7rsK0wR96YFxkBsQADJno+wr X-Received: by 2002:a05:6e02:480a:b0:430:d7e0:fd1e with SMTP id e9e14a558f8ab-430d7e0fe67mr120777505ab.32.1761044727497; Tue, 21 Oct 2025 04:05:27 -0700 (PDT) Received: from postal.iol.unh.edu (postal.iol.unh.edu. [132.177.123.84]) by smtp-relay.gmail.com with ESMTPS id 8926c6da1cb9f-5a8a95feddbsm1255189173.7.2025.10.21.04.05.27 (version=TLS1_2 cipher=ECDHE-ECDSA-AES128-GCM-SHA256 bits=128/128); Tue, 21 Oct 2025 04:05:27 -0700 (PDT) X-Relaying-Domain: iol.unh.edu Date: Tue, 21 Oct 2025 04:05:27 -0700 (PDT) Message-ID: <68f768f7.050a0220.1578a1.a2acSMTPIN_ADDED_MISSING@mx.google.com> Received: from [172.21.0.3] (unknown [172.18.0.240]) by postal.iol.unh.edu (Postfix) with ESMTP id 15B236051830; Tue, 21 Oct 2025 07:05:27 -0400 (EDT) Subject: |SUCCESS| [GIT MASTER] 3b43ce3f4a54468e7ef65760c2fd7b4d6ee6d9fc From: dpdklab@iol.unh.edu To: Test Report Cc: dpdk-test-reports@iol.unh.edu, Xueming Li , Christian Ehrhardt , Kevin Traynor , Luca Boccassi Content-Type: text/plain X-BeenThere: test-report@dpdk.org X-Mailman-Version: 2.1.29 Precedence: list List-Id: automatic DPDK test reports List-Unsubscribe: , List-Archive: List-Post: List-Help: List-Subscribe: , Errors-To: test-report-bounces@dpdk.org _Testing PASS_ Branch: tags/v22.11 3b43ce3f4a54468e7ef65760c2fd7b4d6ee6d9fc --> testing pass Upstream job id: Generic-DPDK-Compile-Meson#436430 Test environment and result as below: +------------------------------+--------------------+ | Environment | dpdk_meson_compile | +==============================+====================+ | Ubuntu 20.04 | PASS | +------------------------------+--------------------+ | Fedora Linux 42 | PASS | +------------------------------+--------------------+ | Red Hat Enterprise Linux 9.5 | PASS | +------------------------------+--------------------+ | Debian GNU/Linux 12 | PASS | +------------------------------+--------------------+ | Ubuntu 22.04 | PASS | +------------------------------+--------------------+ | CentOS Stream 10 | PASS | +------------------------------+--------------------+ | CentOS Stream 9 | PASS | +------------------------------+--------------------+ | Ubuntu 24.04 | PASS | +------------------------------+--------------------+ Ubuntu 20.04 Kernel: 5.15 Compiler: aarch64-linux-gnu-gcc gcc (Ubuntu 9.4.0-1ubuntu1~20.04.2) 9.4.0 Fedora Linux 42 Kernel: 5.4 Compiler: gcc gcc (GCC) 15.2.1 20250808 (Red Hat 15.2.1-1) Red Hat Enterprise Linux 9.5 Kernel: 5.4 Compiler: gcc gcc (GCC) 11.5.0 20240719 (Red Hat 11.5.0-2) Debian GNU/Linux 12 Kernel: 5.4 Compiler: gcc gcc (Debian 12.2.0-14+deb12u1) 12.2.0 Ubuntu 22.04 Kernel: 5.4 Compiler: gcc gcc (Ubuntu 11.4.0-1ubuntu1~22.04) 11.4.0 CentOS Stream 10 Kernel: 5.4 Compiler: gcc gcc (GCC) 14.2.1 20250110 (Red Hat 14.2.1-8) CentOS Stream 9 Kernel: 5.4 Compiler: gcc gcc (GCC) 11.5.0 20240719 (Red Hat 11.5.0-11) Ubuntu 24.04 Kernel: 5.4 Compiler: gcc gcc (Ubuntu 13.3.0-6ubuntu2~24.04) 13.3.0 To view detailed results, visit: https://lab.dpdk.org/results/dashboard/tarballs/35289/ UNH-IOL DPDK Community Lab To manage your email subscriptions, visit: https://lab.dpdk.org/results/dashboard/preferences/subscriptions/