From mboxrd@z Thu Jan 1 00:00:00 1970 Return-Path: Received: from mails.dpdk.org (mails.dpdk.org [217.70.189.124]) by inbox.dpdk.org (Postfix) with ESMTP id 531EE48998 for ; Tue, 21 Oct 2025 13:11:45 +0200 (CEST) Received: from mails.dpdk.org (localhost [127.0.0.1]) by mails.dpdk.org (Postfix) with ESMTP id 2A59D400D5; Tue, 21 Oct 2025 13:11:45 +0200 (CEST) Received: from mail-io1-f97.google.com (mail-io1-f97.google.com [209.85.166.97]) by mails.dpdk.org (Postfix) with ESMTP id 0F0E4400D5 for ; Tue, 21 Oct 2025 13:11:44 +0200 (CEST) Received: by mail-io1-f97.google.com with SMTP id ca18e2360f4ac-93e7d3648a8so173734439f.2 for ; Tue, 21 Oct 2025 04:11:43 -0700 (PDT) DKIM-Signature: v=1; a=rsa-sha256; c=relaxed/relaxed; d=iol.unh.edu; s=unh-iol; t=1761045103; x=1761649903; darn=dpdk.org; h=references:in-reply-to:cc:to:from:subject:message-id:date:from:to :cc:subject:date:message-id:reply-to; bh=JUT8sBpDeiGms9urTJUgsOPtYSOAH9R54gFj5aMYvrw=; b=UbjDT+pPzPKCabq94CjUP/Qua3N7LNnrZ6+xR321jWnsjgeQ47JzSmM8aJfvsBo0yC /o7fN4xay1RA3rjzHEhvcfQi7j+Yw/IJLzh9k+FrKySM/BV5iA/4KKqyjMBJjV7ubZ+o OyTPSByS0/F8zJ9LoKTm2vuC8UJpw9Bce8V+c= X-Google-DKIM-Signature: v=1; a=rsa-sha256; c=relaxed/relaxed; d=1e100.net; s=20230601; t=1761045103; x=1761649903; h=references:in-reply-to:cc:to:from:subject:message-id:date :x-gm-message-state:from:to:cc:subject:date:message-id:reply-to; bh=JUT8sBpDeiGms9urTJUgsOPtYSOAH9R54gFj5aMYvrw=; b=jCyCv0alxoFENBwmNStcRD+h2M5RIwtNKriVJpWy675tQksKTx9txNxgbup9PT73ia 2htQa0kujJqlTorXkUrMu9DcFwcU3D9AdLNTAk0dE88CSzFD9hLRLM3Pwa0+IID9XOU8 LYF2DxnqqmzK5TgWZNc5kIV3PM0WFl3zFd9jGD03ZwUvm2CZ0M0juRrkme+zFqAE8fIu RWgTX/Z7JTfO0UzwSohaXVQJS8HRS0LyqY+ZZetmvhv+ypKgqefej2YKxwrwxk8YF7CN XFfFhA0CnsccVyclzwR0kwS26dT2Ninnc9XNhvPlfTGkHTm86dhMRPbNIvfjPcEh04Cv lsNQ== X-Gm-Message-State: AOJu0YyhKFFVxWN9nxE0ISyztB54GlUWVN/O+TIDtC63xsEPWZKtuH7N Qy57BWyUFs5ggjFH5/L3UOzVHN6nUdtsnH+QYOrQl4jw3EzLWl5QneyoZbuzmn9dEqbQYOsfxaq tibxWGhRnzaylQ1oNA8c05Nl5XWBBD/JifXWBwNThBG6w X-Gm-Gg: ASbGnctqLiTC0XZqDXA/Bf/DCXzjnaKKI9xdOrlv3n+ZRE6tuc+oQISU1/8skKlzsqR FfwztjsMYD0qhWPEgDdLzgKzXIN6izUUdGRPZ/TeNb6n3ejUeyNEMYTe+rOoZHnsRD6WDOcaFMZ dCbpjA/4CL3CABXOmGWhq98iGQkThZz9M1ARB1v62OIsNNcL/YzjfWZGIDHjZHI9MfhyRUaxXxK /tehjar9faPSO0pQYFGKeTE3CgN+1jfG3PBcGzO6wpzJWXSaTMr9XR6kB/6bMMvPvUiJ4H0cW9B 1kGLlhql+esEMBUOhPpGV4OvCLyUtzlzBvz2DXK9O0CZvnNK99AQYBxv1CxRQC8jRi5rjZVPLjq FsqkLs+ZJl6q0xM+03SkVQ5a9ztIjG4o= X-Google-Smtp-Source: AGHT+IH2YcNzOPeDK8DcwG4JiH4/E5os52UMWQeshqsYXK/cD/gElAqnrlDb4bP7H1kj+OXC9l3aBZNCptug X-Received: by 2002:a05:6602:6c06:b0:91a:695a:cb61 with SMTP id ca18e2360f4ac-93e76425dfdmr633681039f.13.1761045103168; Tue, 21 Oct 2025 04:11:43 -0700 (PDT) Received: from postal.iol.unh.edu (postal.iol.unh.edu. [132.177.123.84]) by smtp-relay.gmail.com with ESMTPS id 8926c6da1cb9f-5a8b7cd8c37sm881299173.21.2025.10.21.04.11.43 (version=TLS1_2 cipher=ECDHE-ECDSA-AES128-GCM-SHA256 bits=128/128); Tue, 21 Oct 2025 04:11:43 -0700 (PDT) X-Relaying-Domain: iol.unh.edu Date: Tue, 21 Oct 2025 04:11:43 -0700 (PDT) Message-ID: <68f76a6f.050a0220.2d8907.d54eSMTPIN_ADDED_MISSING@mx.google.com> Received: from [172.21.0.2] (unknown [172.18.0.240]) by postal.iol.unh.edu (Postfix) with ESMTP id D49876051830; Tue, 21 Oct 2025 07:11:42 -0400 (EDT) Subject: |SUCCESS| pw157906 [PATCH] [v1,1/1] vfio: fix custom containers in m From: dpdklab@iol.unh.edu To: Test Report Cc: dpdk-test-reports@iol.unh.edu In-Reply-To: References: Content-Type: text/plain X-BeenThere: test-report@dpdk.org X-Mailman-Version: 2.1.29 Precedence: list List-Id: automatic DPDK test reports List-Unsubscribe: , List-Archive: List-Post: List-Help: List-Subscribe: , Errors-To: test-report-bounces@dpdk.org Test-Label: iol-unit-amd64-testing Test-Status: SUCCESS http://dpdk.org/patch/157906 _Testing PASS_ Submitter: Anatoly Burakov Date: Tuesday, October 21 2025 10:09:56 DPDK git baseline: Repo:dpdk Branch: master CommitID:820ca7361bb7fa40e96e53515d8392ea40a35265 157906 --> testing pass Upstream job id: Generic-VM-Unit-Test-DPDK#31964 Test environment and result as below: +-------------------------------+----------------+ | Environment | dpdk_unit_test | +===============================+================+ | CentOS Stream 9 | PASS | +-------------------------------+----------------+ | CentOS Stream 10 | PASS | +-------------------------------+----------------+ | Debian GNU/Linux 12 | PASS | +-------------------------------+----------------+ | Fedora Linux 40 | PASS | +-------------------------------+----------------+ | Fedora Linux 42 | PASS | +-------------------------------+----------------+ | Fedora Linux 41 | PASS | +-------------------------------+----------------+ | Red Hat Enterprise Linux 9.5 | PASS | +-------------------------------+----------------+ | Windows Server 2022 | PASS | +-------------------------------+----------------+ | Ubuntu 24.04 | PASS | +-------------------------------+----------------+ | Red Hat Enterprise Linux 8.10 | PASS | +-------------------------------+----------------+ | Ubuntu 20.04 | PASS | +-------------------------------+----------------+ | Ubuntu 22.04 | PASS | +-------------------------------+----------------+ CentOS Stream 9 Kernel: 5.15 Compiler: gcc gcc (GCC) 11.5.0 20240719 (Red Hat 11.5.0-11) CentOS Stream 10 Kernel: 5.15 Compiler: gcc gcc (GCC) 14.2.1 20250110 (Red Hat 14.2.1-8) Debian GNU/Linux 12 Kernel: 5.15 Compiler: gcc gcc (Debian 12.2.0-14+deb12u1) 12.2.0 Fedora Linux 40 Kernel: 5.15 Compiler: gcc gcc (GCC) 14.2.1 20240912 (Red Hat 14.2.1-3) Fedora Linux 42 Kernel: 5.15 Compiler: gcc gcc (GCC) 15.2.1 20250808 (Red Hat 15.2.1-1) Fedora Linux 41 Kernel: 5.15 Compiler: gcc gcc (GCC) 14.3.1 20250523 (Red Hat 14.3.1-1) Red Hat Enterprise Linux 9.5 Kernel: 5.15 Compiler: gcc gcc (GCC) 11.5.0 20240719 (Red Hat 11.5.0-2) Windows Server 2022 Kernel: 10.0.20348.2031 Compiler: clang 15.0.7, gcc 14.1.0 (MinGW), and MSVC VS 19.39.33521 Ubuntu 24.04 Kernel: 5.15 Compiler: gcc gcc (Ubuntu 13.3.0-6ubuntu2~24.04) 13.3.0 Red Hat Enterprise Linux 8.10 Kernel: 5.15 Compiler: gcc gcc (GCC) 8.5.0 20210514 (Red Hat 8.5.0-22) Ubuntu 20.04 Kernel: 5.15 Compiler: gcc gcc (Ubuntu 9.4.0-1ubuntu1~20.04.2) 9.4.0 Ubuntu 22.04 Kernel: 5.15 Compiler: gcc gcc (Ubuntu 11.4.0-1ubuntu1~22.04) 11.4.0 To view detailed results, visit: https://lab.dpdk.org/results/dashboard/patchsets/34338/ UNH-IOL DPDK Community Lab To manage your email subscriptions, visit: https://lab.dpdk.org/results/dashboard/preferences/subscriptions/