From mboxrd@z Thu Jan 1 00:00:00 1970 Return-Path: Received: from mails.dpdk.org (mails.dpdk.org [217.70.189.124]) by inbox.dpdk.org (Postfix) with ESMTP id 9C0C448998 for ; Tue, 21 Oct 2025 13:16:09 +0200 (CEST) Received: from mails.dpdk.org (localhost [127.0.0.1]) by mails.dpdk.org (Postfix) with ESMTP id 96C65400D5; Tue, 21 Oct 2025 13:16:09 +0200 (CEST) Received: from mail-pj1-f99.google.com (mail-pj1-f99.google.com [209.85.216.99]) by mails.dpdk.org (Postfix) with ESMTP id 59BF3400D5 for ; Tue, 21 Oct 2025 13:16:08 +0200 (CEST) Received: by mail-pj1-f99.google.com with SMTP id 98e67ed59e1d1-33ba38ed94eso5961838a91.1 for ; Tue, 21 Oct 2025 04:16:08 -0700 (PDT) DKIM-Signature: v=1; a=rsa-sha256; c=relaxed/relaxed; d=iol.unh.edu; s=unh-iol; t=1761045367; x=1761650167; darn=dpdk.org; h=references:in-reply-to:cc:to:from:subject:message-id:date:from:to :cc:subject:date:message-id:reply-to; bh=aQXHYAxaHI7z/IcCKjgJPyZlXFbyTcMa6V6wqcurlos=; b=PvRJXQtLr4DbdKcYxzWD+rGs+VdFRMSB/Yf4Iedpufb8mkmGnqYJPyvJGdIheVDA6u wTwMmjC3gstfJehzrve9xd+ekPfUoUvpR8PKJeQnaRncqUzbWm1bAfiTG+xqTugO9+bV C9m84ZXBEzkAtHhyTTU15vqp4zvrHCuJDvWfg= X-Google-DKIM-Signature: v=1; a=rsa-sha256; c=relaxed/relaxed; d=1e100.net; s=20230601; t=1761045367; x=1761650167; h=references:in-reply-to:cc:to:from:subject:message-id:date :x-gm-message-state:from:to:cc:subject:date:message-id:reply-to; bh=aQXHYAxaHI7z/IcCKjgJPyZlXFbyTcMa6V6wqcurlos=; b=cl+uZrEma8oIsxv6VlZFXGTtU7ZiQTqpUG0FXw3/mlyQtwgLXHO/eog78anSCfpqmv ltzp/cnXsQ0PCa8pEStas1BDbC8dbBKmdUcQxu0fYLnVpI8YnWxu9B98HYA/bISgxSL2 X+Bphz79Zu0Q9lXuLeGW8sPWTEKVAcB5Hto7/McDIgrDHSFpm4CEceZRg0qeqV8sPbmp GBEWUu6cDMAx2CX+ifFcK6SXbAnuZFqO/f0F61dIzfZAqYhzcfzvfovvOSgACcckvNto Wbk1xQmfzRI9oi+NR/ZKh355edNwG0ajJJyRlURqM2WN1Jb/xUJiuDK9UPi4DdaU++Pb yErQ== X-Gm-Message-State: AOJu0YyaGofeABeQVBGZAgFqwjAhBkFJCSY7exoM6bOlGl957cxZ8OhA rr+G7tYIEA/dglMhCIJOVZwhdHVzS1DCnJVJE9khlojgcn9TZqGqyVdJ595rVlfE+tVOas2aOF0 aP3m2maY6TUc+Xc+5cUCSUpvtMu9bJjAGwHTSwTmNDAdX X-Gm-Gg: ASbGncu8pXTzT8UOTJl0WRuqMfzA9WT98XzmEMhjrM/B8AKX7yN38FqDYJdaja4vupL kcI5gDgm+d7GBXNir5ClhYVb+5bz06yeFnyZvl4DGAnnxj6NkpND/PfOeRihXxxw/2hv5OA9saj C1blBAV0RLdzjAJsxpKlyW6izSmMciJUimEaFM2gQRb00fag04XWV5x2Dsx4l19ds1VxRaqO9pW a5AgIzeOkGs/3tE1vBb9NBevNGvAXZ9+oEZDGEArU1Mofp5tWpq0dG+cfTmFJRB9q9W6bkDqssb 6LDlaGNwnkH7LwX6pAdupWBiGpA61uZleklXXbKDoQHNfPasEuZ9YcqTUvzdqmV8tbELNLC9wIK Xm8aUoUHFvLREwRFk35K59rZOVTGDTVE= X-Google-Smtp-Source: AGHT+IGfZFohpCWrKlQInA6d5BpTfoEcbKq9zvqTrP3jtLo57+MKvn5cZf+2OndcVdPfutr071MPJbhw9n5L X-Received: by 2002:a17:90a:ec8b:b0:330:6d5e:f174 with SMTP id 98e67ed59e1d1-33bcf8ec602mr21611349a91.20.1761045367495; Tue, 21 Oct 2025 04:16:07 -0700 (PDT) Received: from postal.iol.unh.edu (postal.iol.unh.edu. [132.177.123.84]) by smtp-relay.gmail.com with ESMTPS id 98e67ed59e1d1-33d5ddff926sm1169813a91.1.2025.10.21.04.16.07 (version=TLS1_2 cipher=ECDHE-ECDSA-AES128-GCM-SHA256 bits=128/128); Tue, 21 Oct 2025 04:16:07 -0700 (PDT) X-Relaying-Domain: iol.unh.edu Date: Tue, 21 Oct 2025 04:16:07 -0700 (PDT) Message-ID: <68f76b77.170a0220.2676ea.7480SMTPIN_ADDED_MISSING@mx.google.com> Received: from [172.21.0.2] (unknown [172.18.0.240]) by postal.iol.unh.edu (Postfix) with ESMTP id C46246051830; Tue, 21 Oct 2025 07:16:06 -0400 (EDT) Subject: |SUCCESS| pw157906 [PATCH] [v1,1/1] vfio: fix custom containers in m From: dpdklab@iol.unh.edu To: Test Report Cc: dpdk-test-reports@iol.unh.edu In-Reply-To: References: Content-Type: text/plain X-BeenThere: test-report@dpdk.org X-Mailman-Version: 2.1.29 Precedence: list List-Id: automatic DPDK test reports List-Unsubscribe: , List-Archive: List-Post: List-Help: List-Subscribe: , Errors-To: test-report-bounces@dpdk.org Test-Label: iol-unit-amd64-testing Test-Status: SUCCESS http://dpdk.org/patch/157906 _Testing PASS_ Submitter: Anatoly Burakov Date: Tuesday, October 21 2025 10:09:56 DPDK git baseline: Repo:dpdk Branch: master CommitID:820ca7361bb7fa40e96e53515d8392ea40a35265 157906 --> testing pass Upstream job id: Generic-VM-Unit-Test-DPDK#31965 Test environment and result as below: +-------------------------------+----------------+ | Environment | dpdk_unit_test | +===============================+================+ | CentOS Stream 9 | PASS | +-------------------------------+----------------+ | CentOS Stream 10 | PASS | +-------------------------------+----------------+ | Debian GNU/Linux 12 | PASS | +-------------------------------+----------------+ | Fedora Linux 40 | PASS | +-------------------------------+----------------+ | Fedora Linux 42 | PASS | +-------------------------------+----------------+ | Fedora Linux 41 | PASS | +-------------------------------+----------------+ | Red Hat Enterprise Linux 9.5 | PASS | +-------------------------------+----------------+ | Windows Server 2022 | PASS | +-------------------------------+----------------+ | Ubuntu 24.04 | PASS | +-------------------------------+----------------+ | Red Hat Enterprise Linux 8.10 | PASS | +-------------------------------+----------------+ | Ubuntu 20.04 | PASS | +-------------------------------+----------------+ | Ubuntu 22.04 | PASS | +-------------------------------+----------------+ CentOS Stream 9 Kernel: 5.15 Compiler: gcc gcc (GCC) 11.5.0 20240719 (Red Hat 11.5.0-11) CentOS Stream 10 Kernel: 5.15 Compiler: gcc gcc (GCC) 14.2.1 20250110 (Red Hat 14.2.1-8) Debian GNU/Linux 12 Kernel: 5.15 Compiler: gcc gcc (Debian 12.2.0-14+deb12u1) 12.2.0 Fedora Linux 40 Kernel: 5.15 Compiler: gcc gcc (GCC) 14.2.1 20240912 (Red Hat 14.2.1-3) Fedora Linux 42 Kernel: 5.15 Compiler: gcc gcc (GCC) 15.2.1 20250808 (Red Hat 15.2.1-1) Fedora Linux 41 Kernel: 5.15 Compiler: gcc gcc (GCC) 14.3.1 20250523 (Red Hat 14.3.1-1) Red Hat Enterprise Linux 9.5 Kernel: 5.15 Compiler: gcc gcc (GCC) 11.5.0 20240719 (Red Hat 11.5.0-2) Windows Server 2022 Kernel: 10.0.20348.2031 Compiler: clang 15.0.7, gcc 14.1.0 (MinGW), and MSVC VS 19.39.33521 Ubuntu 24.04 Kernel: 5.15 Compiler: gcc gcc (Ubuntu 13.3.0-6ubuntu2~24.04) 13.3.0 Red Hat Enterprise Linux 8.10 Kernel: 5.15 Compiler: gcc gcc (GCC) 8.5.0 20210514 (Red Hat 8.5.0-22) Ubuntu 20.04 Kernel: 5.15 Compiler: gcc gcc (Ubuntu 9.4.0-1ubuntu1~20.04.2) 9.4.0 Ubuntu 22.04 Kernel: 5.15 Compiler: gcc gcc (Ubuntu 11.4.0-1ubuntu1~22.04) 11.4.0 To view detailed results, visit: https://lab.dpdk.org/results/dashboard/patchsets/34338/ UNH-IOL DPDK Community Lab To manage your email subscriptions, visit: https://lab.dpdk.org/results/dashboard/preferences/subscriptions/