From mboxrd@z Thu Jan 1 00:00:00 1970 Return-Path: Received: from mails.dpdk.org (mails.dpdk.org [217.70.189.124]) by inbox.dpdk.org (Postfix) with ESMTP id 0D60648998 for ; Tue, 21 Oct 2025 13:18:59 +0200 (CEST) Received: from mails.dpdk.org (localhost [127.0.0.1]) by mails.dpdk.org (Postfix) with ESMTP id DEE03400D5; Tue, 21 Oct 2025 13:18:58 +0200 (CEST) Received: from mail-il1-f227.google.com (mail-il1-f227.google.com [209.85.166.227]) by mails.dpdk.org (Postfix) with ESMTP id C800C400D5 for ; Tue, 21 Oct 2025 13:18:57 +0200 (CEST) Received: by mail-il1-f227.google.com with SMTP id e9e14a558f8ab-430c6eef4b9so19867255ab.0 for ; Tue, 21 Oct 2025 04:18:57 -0700 (PDT) DKIM-Signature: v=1; a=rsa-sha256; c=relaxed/relaxed; d=iol.unh.edu; s=unh-iol; t=1761045537; x=1761650337; darn=dpdk.org; h=references:in-reply-to:cc:to:from:subject:message-id:date:from:to :cc:subject:date:message-id:reply-to; bh=JPrtbnUfHYtCtUtK/hYB7f7OwZawWkL858GvcfDTnNM=; b=CUHINj8i+gy/gjUJdWQVCA2swBoqPStoaQqLKE8YG/VQHsFjEd+SIiebV1kne1PgGk PfXdNGZ64Qruhu/u6ghXsT04TD3Gx9SCp9KrQzoO6sSCHyRSA4BLKL/SwG6dNg/n/F8B UpjQ+pFGfnWuW34QSoKscjCzaBKfO/OLGqxrw= X-Google-DKIM-Signature: v=1; a=rsa-sha256; c=relaxed/relaxed; d=1e100.net; s=20230601; t=1761045537; x=1761650337; h=references:in-reply-to:cc:to:from:subject:message-id:date :x-gm-message-state:from:to:cc:subject:date:message-id:reply-to; bh=JPrtbnUfHYtCtUtK/hYB7f7OwZawWkL858GvcfDTnNM=; b=JhxnWvFXMuXwvfJ9tpkutgv/9PHbmIQInztgYQuFVeEUUE71v17jvrdYgfFZqih/TD jOauvWe4MnIGgurdBF1GeqPwNtdxq7eqPCZ8vQz3WG5H/pY4lBANywI8hQKC7mk0QYQh 8rv8Xrbbyq9NIthuh6mLdoQC8lGoN1LNAIM3hmbiHGHJqVk6g8pnHS6+1FCRjZYfp0i1 PEF53ul9Ntq5QOBGXsIrLVATFXYICADSALaiufuSBNeIJcXGKYSmF4LYhtwCgyO62Vtp garxAP0IQ1q2BV3uliaUdJudK/YvIkhxsIMnLsgY6243mc6dvm3N1MpzozGbpUh2QFFy 3o5w== X-Gm-Message-State: AOJu0Yzjy16LpApkP5ctkhybYY/aZY10z4VtciuUEUU7o2hp5MChFW7U +mZRr8RBsBZwC/VWQFj56SG6WU2dUM6rq0OQV8kZjfe2jZFkfZbJgGJBryhRal74rEByfWIw0Rb Ltw+RKVrTiSjv7Gzj0g+qQCGCgCXtTggu1Yp0LWVpjjX+ X-Gm-Gg: ASbGncvLqxn/Or3uIAfGaZfat009jwtQe83MsubyKILBcBLrrjNQzCfoPKhlCT3e+mA e23GmQ+siQXYuVw2uAKvolZadLyOWBzGiOtQ51842lStvBWtm3ogpRuXYvuT81GbS2cHt4jocxh 34dDc0xNow6uYeCqzZQYGEv99+9moqWyVQmCTWRUXzSwZ6mWwB/+EDKhxzfFCp0gmvfrhYb9v9H BnG7wh5IPfXzjHTPTP2l8iKmx3yWZqluKc7AmFjDj2VlgGBOscaeeu+eKaJElfEiO8acDcmY5fL e9Vx4zJD94UpPC43OhH89p0ffkeneion0FvtQl5LNk52mFDzaVtwo2AvFioOnU0ZogxclCnvolo TqXAHsqvmtc9ptVdBCdESFpRFysuhMfI= X-Google-Smtp-Source: AGHT+IEMZJjmFG302ofu86bxug28Q1b3UI+V4Qd42gtfiyqncMHB6SrIoZeM9c6trsxk2KVt69QaPBycUo+7 X-Received: by 2002:a92:cda3:0:b0:42d:8b1c:5710 with SMTP id e9e14a558f8ab-430c514b13dmr249170915ab.0.1761045537112; Tue, 21 Oct 2025 04:18:57 -0700 (PDT) Received: from postal.iol.unh.edu (postal.iol.unh.edu. [132.177.123.84]) by smtp-relay.gmail.com with ESMTPS id 8926c6da1cb9f-5a8a9745a62sm1225240173.20.2025.10.21.04.18.57 (version=TLS1_2 cipher=ECDHE-ECDSA-AES128-GCM-SHA256 bits=128/128); Tue, 21 Oct 2025 04:18:57 -0700 (PDT) X-Relaying-Domain: iol.unh.edu Date: Tue, 21 Oct 2025 04:18:57 -0700 (PDT) Message-ID: <68f76c21.050a0220.83784.8b96SMTPIN_ADDED_MISSING@mx.google.com> Received: from [172.21.0.2] (unknown [172.18.0.240]) by postal.iol.unh.edu (Postfix) with ESMTP id AB47C6051830; Tue, 21 Oct 2025 07:18:56 -0400 (EDT) Subject: |WARNING| pw157906 [PATCH] [v1,1/1] vfio: fix custom containers in m From: dpdklab@iol.unh.edu To: Test Report Cc: dpdk-test-reports@iol.unh.edu In-Reply-To: References: Content-Type: text/plain X-BeenThere: test-report@dpdk.org X-Mailman-Version: 2.1.29 Precedence: list List-Id: automatic DPDK test reports List-Unsubscribe: , List-Archive: List-Post: List-Help: List-Subscribe: , Errors-To: test-report-bounces@dpdk.org Test-Label: iol-compile-amd64-testing Test-Status: WARNING http://dpdk.org/patch/157906 _Testing issues_ Submitter: Anatoly Burakov Date: Tuesday, October 21 2025 10:09:56 DPDK git baseline: Repo:dpdk Branch: master CommitID:820ca7361bb7fa40e96e53515d8392ea40a35265 157906 --> testing issues Upstream job id: Generic-DPDK-Compile-Meson#436530 Test environment and result as below: +-------------------------------+--------------------+-------------------------+-------------------+-------------------+------------------+----------------------+ | Environment | dpdk_meson_compile | dpdk_llvm_clang_compile | dpdk_msvc_compile | dpdk_compile_spdk | dpdk_compile_ovs | dpdk_mingw64_compile | +===============================+====================+=========================+===================+===================+==================+======================+ | Ubuntu 20.04 | PASS | SKIPPED | SKIPPED | SKIPPED | SKIPPED | SKIPPED | +-------------------------------+--------------------+-------------------------+-------------------+-------------------+------------------+----------------------+ | CentOS Stream 9 | PASS | SKIPPED | SKIPPED | WARN | SKIPPED | SKIPPED | +-------------------------------+--------------------+-------------------------+-------------------+-------------------+------------------+----------------------+ | FreeBSD 14.2 | PASS | SKIPPED | SKIPPED | SKIPPED | SKIPPED | SKIPPED | +-------------------------------+--------------------+-------------------------+-------------------+-------------------+------------------+----------------------+ | CentOS Stream 10 | PASS | SKIPPED | SKIPPED | SKIPPED | SKIPPED | SKIPPED | +-------------------------------+--------------------+-------------------------+-------------------+-------------------+------------------+----------------------+ | Debian GNU/Linux 12 | PASS | SKIPPED | SKIPPED | WARN | SKIPPED | SKIPPED | +-------------------------------+--------------------+-------------------------+-------------------+-------------------+------------------+----------------------+ | Fedora Linux 42 | PASS | SKIPPED | SKIPPED | WARN | PASS | SKIPPED | +-------------------------------+--------------------+-------------------------+-------------------+-------------------+------------------+----------------------+ | Red Hat Enterprise Linux 8.10 | PASS | SKIPPED | SKIPPED | SKIPPED | SKIPPED | SKIPPED | +-------------------------------+--------------------+-------------------------+-------------------+-------------------+------------------+----------------------+ | openSUSE Leap 15.6 | PASS | SKIPPED | SKIPPED | SKIPPED | SKIPPED | SKIPPED | +-------------------------------+--------------------+-------------------------+-------------------+-------------------+------------------+----------------------+ | Red Hat Enterprise Linux 9.5 | PASS | SKIPPED | SKIPPED | SKIPPED | SKIPPED | SKIPPED | +-------------------------------+--------------------+-------------------------+-------------------+-------------------+------------------+----------------------+ | Ubuntu 24.04 | PASS | SKIPPED | SKIPPED | WARN | PASS | SKIPPED | +-------------------------------+--------------------+-------------------------+-------------------+-------------------+------------------+----------------------+ | Ubuntu 22.04 | PASS | SKIPPED | SKIPPED | WARN | SKIPPED | SKIPPED | +-------------------------------+--------------------+-------------------------+-------------------+-------------------+------------------+----------------------+ | Alpine Linux 3.22.0 | PASS | SKIPPED | SKIPPED | SKIPPED | SKIPPED | SKIPPED | +-------------------------------+--------------------+-------------------------+-------------------+-------------------+------------------+----------------------+ | Windows Server 2022 | SKIPPED | PASS | PASS | SKIPPED | SKIPPED | PASS | +-------------------------------+--------------------+-------------------------+-------------------+-------------------+------------------+----------------------+ ==== 20 line log output for Ubuntu 22.04 (dpdk_compile_spdk): ==== --- Failed to get log output --- ==== End log output ==== Ubuntu 20.04 Kernel: 4.19 Compiler: gcc gcc (Ubuntu 9.4.0-1ubuntu1~20.04.2) 9.4.0 CentOS Stream 9 Kernel: 5.15 Compiler: gcc gcc (GCC) 11.5.0 20240719 (Red Hat 11.5.0-11) FreeBSD 14.2 Kernel: 14.2-RELEASE Compiler: clang 18.1.6 CentOS Stream 10 Kernel: 5.15 Compiler: gcc gcc (GCC) 14.2.1 20250110 (Red Hat 14.2.1-8) Debian GNU/Linux 12 Kernel: 5.15 Compiler: gcc gcc (Debian 12.2.0-14+deb12u1) 12.2.0 Fedora Linux 42 Kernel: 5.15 Compiler: clang gcc (GCC) 15.2.1 20250808 (Red Hat 15.2.1-1) Red Hat Enterprise Linux 8.10 Kernel: 5.15 Compiler: gcc gcc (GCC) 8.5.0 20210514 (Red Hat 8.5.0-22) openSUSE Leap 15.6 Kernel: 5.15 Compiler: gcc gcc (SUSE Linux) 7.5.0 Red Hat Enterprise Linux 9.5 Kernel: 5.15 Compiler: gcc gcc (GCC) 11.5.0 20240719 (Red Hat 11.5.0-2) Ubuntu 24.04 Kernel: 5.15 Compiler: gcc gcc (Ubuntu 13.3.0-6ubuntu2~24.04) 13.3.0 Ubuntu 22.04 Kernel: 5.15 Compiler: gcc gcc (Ubuntu 11.4.0-1ubuntu1~22.04) 11.4.0 Alpine Linux 3.22.0 Kernel: 5.15 Compiler: gcc gcc (Alpine 14.2.0) 14.2.0 Windows Server 2022 Kernel: 10.0.20348.2031 Compiler: clang 15.0.7, gcc 14.1.0 (MinGW), and MSVC VS 19.39.33521 To view detailed results, visit: https://lab.dpdk.org/results/dashboard/patchsets/34338/ UNH-IOL DPDK Community Lab To manage your email subscriptions, visit: https://lab.dpdk.org/results/dashboard/preferences/subscriptions/