From mboxrd@z Thu Jan 1 00:00:00 1970 Return-Path: Received: from mails.dpdk.org (mails.dpdk.org [217.70.189.124]) by inbox.dpdk.org (Postfix) with ESMTP id 5F28C48950 for ; Tue, 21 Oct 2025 14:41:23 +0200 (CEST) Received: from mails.dpdk.org (localhost [127.0.0.1]) by mails.dpdk.org (Postfix) with ESMTP id 45774400D5; Tue, 21 Oct 2025 14:41:23 +0200 (CEST) Received: from mail-pl1-f227.google.com (mail-pl1-f227.google.com [209.85.214.227]) by mails.dpdk.org (Postfix) with ESMTP id BADEF400D5 for ; Tue, 21 Oct 2025 14:41:21 +0200 (CEST) Received: by mail-pl1-f227.google.com with SMTP id d9443c01a7336-28e7cd6dbc0so69426805ad.0 for ; Tue, 21 Oct 2025 05:41:21 -0700 (PDT) DKIM-Signature: v=1; a=rsa-sha256; c=relaxed/relaxed; d=iol.unh.edu; s=unh-iol; t=1761050481; x=1761655281; darn=dpdk.org; h=cc:to:from:subject:message-id:date:from:to:cc:subject:date :message-id:reply-to; bh=xFkrOltrW5f7VPvAO+oWAtHmwfjdhHbAZBlt3oxiTow=; b=TlrZsM6pko4uy4X9DQFd8+OmjKPlrEXVgI3EXg4nu9+Su+1g1yT2LMH5cruWHqUxJM 1KifQa6fWjIvAMYnLayJkXKIEgw9liP3+ggZrVLUnbzWBsygoozlqBFSKbsUN2ShdR4m vUiY4IUMdxnnOpydhNTZq5IDpJgfrSy0JaRS8= X-Google-DKIM-Signature: v=1; a=rsa-sha256; c=relaxed/relaxed; d=1e100.net; s=20230601; t=1761050481; x=1761655281; h=cc:to:from:subject:message-id:date:x-gm-message-state:from:to:cc :subject:date:message-id:reply-to; bh=xFkrOltrW5f7VPvAO+oWAtHmwfjdhHbAZBlt3oxiTow=; b=Nn0kX5LlBsha40DmNw1paK4zNTjTD+dOFXXWWbVs/WcEFLtxj0JkIGNosaeRlzsRZz uoRJnmzCdnAAGA18S2kQJPOsZU7uoksDmj8/bDKTwObFzxfBIjMTPeQOffYAHOfOVzm/ ZbjOJOJdm48/r6F6zhm6SPUsg1uXMwx7qvMbKi+R4vhTT0i7NXdAnF6jbQNIugQsHweG CNGJmREnNsYYEoJ21fjeGjcCwnvtyzG4y7oEuUDBKP513ZjwLK0LNS33nvER0zbloUy+ +6XNw++EFa2Jq7r/KMF9B3mDgAYZbTG2Blt1cvVsAp0SHsS8FddeNt/6OczdK/nKmV/1 gAEA== X-Gm-Message-State: AOJu0YzdGh3dlWjWSPhA8k1ITar9P6CGAtkZFf36FwB6iQDhixnPiU/Q UAAtbuE71GN/dyzS+E5bhF4R4lypE2M7+mZsWXuzR7BPAuJsc4uPe+jWmg8VvYMPQGdIMCif8xO pt2onoXkSG1yodINZKbIiAqqUVqdeP0VuV2Ak X-Gm-Gg: ASbGnctEiXRr0bA3uxU4R1OJ0fPhfH4Zyf0Ml2+jlC6gaRVVbWyDZI6eWdPNGP9m9Tx RcPDXLc2nrI4qcpP4PxD//MrjLr3LffoHAD95wb09fnJ7AQQ+n/Gyl6UR/VxDmlZlA9BxL2d/m/ 4jhPI8P3xUHOIFa1fUG3XaWFJjhba8UEi2Jdhy9vGbbb20Bnfyp3zusCb8+mescRgJ7QCt6D1Hm fVHczvOwd7+qvitgNnBiokqzSa/dRLcldBANO/UFMI8/5hth5QwCZc4f+/O8ZHrPTPuqx9EW9zq V9En0coBGiC1Vrp9xV+IPMBH6QXBJ3TJW3m102WFVyXvZ6ZluPoFGSP0Am5jNgOMJO9vqL4RHF/ C9mdQxjan9PJMtRZGZ/uzkEWFYnaSU5w= X-Google-Smtp-Source: AGHT+IFUuRlfJLL1WCAeeAzOzJV7CqJKt9aQWDKL/r+LtDBw5s+K9hNQ0X59zgg6/aEca6C3QE5j72DSlQDp X-Received: by 2002:a17:902:f70f:b0:290:2a14:2eab with SMTP id d9443c01a7336-290c9cf8f2fmr197249275ad.11.1761050480688; Tue, 21 Oct 2025 05:41:20 -0700 (PDT) Received: from postal.iol.unh.edu (postal.iol.unh.edu. [132.177.123.84]) by smtp-relay.gmail.com with ESMTPS id d9443c01a7336-29247207dfbsm12610745ad.68.2025.10.21.05.41.20 (version=TLS1_2 cipher=ECDHE-ECDSA-AES128-GCM-SHA256 bits=128/128); Tue, 21 Oct 2025 05:41:20 -0700 (PDT) X-Relaying-Domain: iol.unh.edu Date: Tue, 21 Oct 2025 05:41:20 -0700 (PDT) Message-ID: <68f77f70.170a0220.231681.b250SMTPIN_ADDED_MISSING@mx.google.com> Received: from [172.21.0.2] (unknown [172.18.0.240]) by postal.iol.unh.edu (Postfix) with ESMTP id DC2FE6051830; Tue, 21 Oct 2025 08:41:19 -0400 (EDT) Subject: |SUCCESS| [GIT MASTER] b287e404643aeab5bb5db084c142789df187844e From: dpdklab@iol.unh.edu To: Test Report Cc: dpdk-test-reports@iol.unh.edu, Xueming Li , Christian Ehrhardt , Kevin Traynor , Luca Boccassi Content-Type: text/plain X-BeenThere: test-report@dpdk.org X-Mailman-Version: 2.1.29 Precedence: list List-Id: automatic DPDK test reports List-Unsubscribe: , List-Archive: List-Post: List-Help: List-Subscribe: , Errors-To: test-report-bounces@dpdk.org _Testing PASS_ Branch: tags/v24.11 b287e404643aeab5bb5db084c142789df187844e --> testing pass Upstream job id: Generic-Unit-Test-DPDK#383827 Test environment and result as below: +------------------------------+----------------+--------------+------------------------------+---------------------------+ | Environment | dpdk_unit_test | lpm_autotest | cryptodev_sw_snow3g_autotest | cryptodev_sw_zuc_autotest | +==============================+================+==============+==============================+===========================+ | CentOS Stream 9 | PASS | SKIPPED | SKIPPED | SKIPPED | +------------------------------+----------------+--------------+------------------------------+---------------------------+ | Fedora Linux 42 | PASS | SKIPPED | SKIPPED | SKIPPED | +------------------------------+----------------+--------------+------------------------------+---------------------------+ | CentOS Stream 10 | PASS | SKIPPED | SKIPPED | SKIPPED | +------------------------------+----------------+--------------+------------------------------+---------------------------+ | Fedora Linux 40 | PASS | SKIPPED | SKIPPED | SKIPPED | +------------------------------+----------------+--------------+------------------------------+---------------------------+ | Fedora Linux 41 | PASS | SKIPPED | SKIPPED | SKIPPED | +------------------------------+----------------+--------------+------------------------------+---------------------------+ | Ubuntu 22.04 | PASS | SKIPPED | SKIPPED | SKIPPED | +------------------------------+----------------+--------------+------------------------------+---------------------------+ | Red Hat Enterprise Linux 9.5 | PASS | SKIPPED | SKIPPED | SKIPPED | +------------------------------+----------------+--------------+------------------------------+---------------------------+ | Ubuntu 20.04 | PASS | PASS | SKIPPED | SKIPPED | +------------------------------+----------------+--------------+------------------------------+---------------------------+ | Debian GNU/Linux 12 | PASS | SKIPPED | SKIPPED | SKIPPED | +------------------------------+----------------+--------------+------------------------------+---------------------------+ | Ubuntu 24.04 | PASS | SKIPPED | SKIPPED | SKIPPED | +------------------------------+----------------+--------------+------------------------------+---------------------------+ | Debian 12 (arm) | SKIPPED | SKIPPED | PASS | PASS | +------------------------------+----------------+--------------+------------------------------+---------------------------+ CentOS Stream 9 Kernel: 5.4 Compiler: gcc gcc (GCC) 11.5.0 20240719 (Red Hat 11.5.0-11) Fedora Linux 42 Kernel: 5.4 Compiler: clang gcc (GCC) 15.2.1 20250808 (Red Hat 15.2.1-1) CentOS Stream 10 Kernel: 5.4 Compiler: gcc gcc (GCC) 14.2.1 20250110 (Red Hat 14.2.1-8) Fedora Linux 40 Kernel: 5.4 Compiler: gcc gcc (GCC) 14.2.1 20240912 (Red Hat 14.2.1-3) Fedora Linux 41 Kernel: 5.4 Compiler: clang gcc (GCC) 14.3.1 20250523 (Red Hat 14.3.1-1) Ubuntu 22.04 Kernel: 5.4 Compiler: gcc gcc (Ubuntu 11.4.0-1ubuntu1~22.04) 11.4.0 Red Hat Enterprise Linux 9.5 Kernel: 5.4 Compiler: gcc gcc (GCC) 11.5.0 20240719 (Red Hat 11.5.0-2) Ubuntu 20.04 Kernel: 5.4 Compiler: gcc gcc (Ubuntu 9.4.0-1ubuntu1~20.04.2) 9.4.0 Debian GNU/Linux 12 Kernel: 5.4 Compiler: gcc gcc (Debian 12.2.0-14+deb12u1) 12.2.0 Ubuntu 24.04 Kernel: 5.4 Compiler: gcc gcc (Ubuntu 13.3.0-6ubuntu2~24.04) 13.3.0 Debian 12 (arm) Kernel: Depends on container host Compiler: gcc (Debian 12.2.0-14) 12.2.0 To view detailed results, visit: https://lab.dpdk.org/results/dashboard/tarballs/35291/ UNH-IOL DPDK Community Lab To manage your email subscriptions, visit: https://lab.dpdk.org/results/dashboard/preferences/subscriptions/