From mboxrd@z Thu Jan 1 00:00:00 1970 Return-Path: Received: from mails.dpdk.org (mails.dpdk.org [217.70.189.124]) by inbox.dpdk.org (Postfix) with ESMTP id 41C6E48950 for ; Tue, 21 Oct 2025 15:54:56 +0200 (CEST) Received: from mails.dpdk.org (localhost [127.0.0.1]) by mails.dpdk.org (Postfix) with ESMTP id 15F17400D5; Tue, 21 Oct 2025 15:54:56 +0200 (CEST) Received: from mail-yw1-f227.google.com (mail-yw1-f227.google.com [209.85.128.227]) by mails.dpdk.org (Postfix) with ESMTP id D0041400D5 for ; Tue, 21 Oct 2025 15:54:54 +0200 (CEST) Received: by mail-yw1-f227.google.com with SMTP id 00721157ae682-784826b75a4so36661337b3.0 for ; Tue, 21 Oct 2025 06:54:54 -0700 (PDT) DKIM-Signature: v=1; a=rsa-sha256; c=relaxed/relaxed; d=iol.unh.edu; s=unh-iol; t=1761054894; x=1761659694; darn=dpdk.org; h=references:in-reply-to:cc:to:from:subject:message-id:date:from:to :cc:subject:date:message-id:reply-to; bh=AcGXhb6NppCdIe1y/s92uuzvJmVFRAccuIgw0xPrMF4=; b=aPgCp1vbFwU/aI+UwBzbD2Y+PH2JziQPeiQwSsD7psrJiVsBgWp0oW4oNo0JThujfl H8DUAv2Ld3388vLb5OINJDEpKEhipJlQd8k2p6/iLRPY0EnegWJ9x0PSSzwn26mCckjV XVl6addZ5aHyFsQWR/DIsyTVHCn4v00HKw320= X-Google-DKIM-Signature: v=1; a=rsa-sha256; c=relaxed/relaxed; d=1e100.net; s=20230601; t=1761054894; x=1761659694; h=references:in-reply-to:cc:to:from:subject:message-id:date :x-gm-message-state:from:to:cc:subject:date:message-id:reply-to; bh=AcGXhb6NppCdIe1y/s92uuzvJmVFRAccuIgw0xPrMF4=; b=Yy58dFdMLTmaorfxrIQA2CHRJpOeu8pU66zpAexKc2I9Bz00VnNXRO+94yUYtyJLud GPwg8NxRh5q5uIIWzZcrJ5mDKdzOJW++ZT7yZ1NQ0CqCYTl2LN2k2TBCPJquQhlNnIMV AqQuugUvLpjSvdOaMKg9mNjbLRGrSPifMZTcXiBwXusRpBqsDnwntk5/vBJ1nhp7U7Xb 1WbG07WxFojxcja9tLwwGUHbyPwCw5Xmf+AMrvHdTo2yIsL48tEZwlDUctRmjyLMmlDl HqTyGJNDae6Q3gd0qbmuP03Iiu136ChTTQbB9VViLK0lKmwboa2+1Iat+XHX4ZpWuO5V 8tvQ== X-Gm-Message-State: AOJu0YyLx85BiZ8tyY0mNLdoDVN3mb0D05RIsFUFJgCgKb4xtw5GlYWh d5khi41FC2CNoGqmkHNDXO771c8NWzItZtNM7dEZyONfL3VmxbkgldLpiKMg2cLLKzbZMUeWfhA jEUBcNWQauA8sbAueezvivG6fqge0N7OfPbBaOQF+DdMh X-Gm-Gg: ASbGnctkt4T09hcsIIkc//GcjEvo1XCqRqQIw7p4pqxMrjBPyh/kGrIYkBHtZxt+Ty/ RsW+MuRUKEn4SPzPIwd1n+yhy3J/5FLBuweOIawIOfIyXXQkB/vOz0SuKG1/w2qD+pilrr54XBL +FKoWz/VgvWJcfLzs446ikcyezxpCaeSZVL9Fqxf6r2Zj/BkXkjoFnblKHWJ0FDou69NKJ+APT5 7ZF7wMwthAcLZBHzuz8dOfOurIXuIbaXzl7Or8OeeoJ7X1qaaFnPqbxOEWBqWmYiJfuiHHhnqVU uXFo167NY4Y1zV7+4PWdY0eIfKae7yMIIpfnpU+42aMRqCAQapYD4Gvg/WfdMo5ETCkwUeyJGyd bAXXDSuCfUZ2LBysfO7STU2fv+m0ZguQ= X-Google-Smtp-Source: AGHT+IE9MzNYCthqDYsXGvGsZdGCncTZul1PcOI1+AawB3fjykLCiVY4mXmlKnPsxLVPLvHrVksNGQkJyfMN X-Received: by 2002:a53:acd8:0:10b0:63c:f04a:99a3 with SMTP id 956f58d0204a3-63e160e9821mr12111591d50.14.1761054894128; Tue, 21 Oct 2025 06:54:54 -0700 (PDT) Received: from postal.iol.unh.edu (postal.iol.unh.edu. [132.177.123.84]) by smtp-relay.gmail.com with ESMTPS id 00721157ae682-7846a6aeb0esm8078057b3.36.2025.10.21.06.54.54 (version=TLS1_2 cipher=ECDHE-ECDSA-AES128-GCM-SHA256 bits=128/128); Tue, 21 Oct 2025 06:54:54 -0700 (PDT) X-Relaying-Domain: iol.unh.edu Date: Tue, 21 Oct 2025 06:54:54 -0700 (PDT) Message-ID: <68f790ae.050a0220.19efc5.ae7dSMTPIN_ADDED_MISSING@mx.google.com> Received: from [172.21.0.4] (unknown [172.18.0.240]) by postal.iol.unh.edu (Postfix) with ESMTP id A9BDD6051830; Tue, 21 Oct 2025 09:54:53 -0400 (EDT) Subject: |SUCCESS| pw157906 [PATCH] [v1,1/1] vfio: fix custom containers in m From: dpdklab@iol.unh.edu To: Test Report Cc: dpdk-test-reports@iol.unh.edu In-Reply-To: References: Content-Type: text/plain X-BeenThere: test-report@dpdk.org X-Mailman-Version: 2.1.29 Precedence: list List-Id: automatic DPDK test reports List-Unsubscribe: , List-Archive: List-Post: List-Help: List-Subscribe: , Errors-To: test-report-bounces@dpdk.org Test-Label: iol-compile-arm64-testing Test-Status: SUCCESS http://dpdk.org/patch/157906 _Testing PASS_ Submitter: Anatoly Burakov Date: Tuesday, October 21 2025 10:09:56 DPDK git baseline: Repo:dpdk Branch: master CommitID:820ca7361bb7fa40e96e53515d8392ea40a35265 157906 --> testing pass Upstream job id: Generic-DPDK-Compile-Meson#436518 Test environment and result as below: +------------------------------+--------------------+ | Environment | dpdk_meson_compile | +==============================+====================+ | Ubuntu 20.04 | PASS | +------------------------------+--------------------+ | Red Hat Enterprise Linux 9.5 | PASS | +------------------------------+--------------------+ | Fedora Linux 42 | PASS | +------------------------------+--------------------+ | Debian GNU/Linux 12 | PASS | +------------------------------+--------------------+ | Ubuntu 22.04 | PASS | +------------------------------+--------------------+ | Ubuntu 24.04 | PASS | +------------------------------+--------------------+ | CentOS Stream 9 | PASS | +------------------------------+--------------------+ | CentOS Stream 10 | PASS | +------------------------------+--------------------+ Ubuntu 20.04 Kernel: 5.15 Compiler: aarch64-linux-gnu-gcc gcc (Ubuntu 9.4.0-1ubuntu1~20.04.2) 9.4.0 Red Hat Enterprise Linux 9.5 Kernel: 5.4 Compiler: gcc gcc (GCC) 11.5.0 20240719 (Red Hat 11.5.0-2) Fedora Linux 42 Kernel: 5.4 Compiler: gcc gcc (GCC) 15.2.1 20250808 (Red Hat 15.2.1-1) Debian GNU/Linux 12 Kernel: 5.4 Compiler: gcc gcc (Debian 12.2.0-14+deb12u1) 12.2.0 Ubuntu 22.04 Kernel: 5.4 Compiler: gcc gcc (Ubuntu 11.4.0-1ubuntu1~22.04) 11.4.0 Ubuntu 24.04 Kernel: 5.4 Compiler: gcc gcc (Ubuntu 13.3.0-6ubuntu2~24.04) 13.3.0 CentOS Stream 9 Kernel: 5.4 Compiler: gcc gcc (GCC) 11.5.0 20240719 (Red Hat 11.5.0-11) CentOS Stream 10 Kernel: 5.4 Compiler: gcc gcc (GCC) 14.2.1 20250110 (Red Hat 14.2.1-8) To view detailed results, visit: https://lab.dpdk.org/results/dashboard/patchsets/34338/ UNH-IOL DPDK Community Lab To manage your email subscriptions, visit: https://lab.dpdk.org/results/dashboard/preferences/subscriptions/