From mboxrd@z Thu Jan 1 00:00:00 1970 Return-Path: Received: from mails.dpdk.org (mails.dpdk.org [217.70.189.124]) by inbox.dpdk.org (Postfix) with ESMTP id 2CE4D48999 for ; Tue, 21 Oct 2025 18:00:20 +0200 (CEST) Received: from mails.dpdk.org (localhost [127.0.0.1]) by mails.dpdk.org (Postfix) with ESMTP id 270F7402A1; Tue, 21 Oct 2025 18:00:20 +0200 (CEST) Received: from mail-io1-f97.google.com (mail-io1-f97.google.com [209.85.166.97]) by mails.dpdk.org (Postfix) with ESMTP id 8279E402A1 for ; Tue, 21 Oct 2025 18:00:19 +0200 (CEST) Received: by mail-io1-f97.google.com with SMTP id ca18e2360f4ac-93e7ff97d9fso424529239f.1 for ; Tue, 21 Oct 2025 09:00:19 -0700 (PDT) DKIM-Signature: v=1; a=rsa-sha256; c=relaxed/relaxed; d=iol.unh.edu; s=unh-iol; t=1761062419; x=1761667219; darn=dpdk.org; h=references:in-reply-to:cc:to:from:subject:message-id:date:from:to :cc:subject:date:message-id:reply-to; bh=a2XwepaIX5vP22H5EY6vmqOovdhhaMmb6qF/6hcmfwM=; b=RLo/7T99xr1PY9AJDIQmnHeSwuK0wIkGh64aIB3xeh7mcJECTsATtMHWjVAvEdL8cg uNClIN1VvrxS+KQJqeuFC9qzyHembOFNrDrgzKkvOJRummtbm+BVS1TfacLMMAlLFnL/ peSNl9Kg4+9R9m34Mp3WvgPRdQfnNVFxGETes= X-Google-DKIM-Signature: v=1; a=rsa-sha256; c=relaxed/relaxed; d=1e100.net; s=20230601; t=1761062419; x=1761667219; h=references:in-reply-to:cc:to:from:subject:message-id:date :x-gm-message-state:from:to:cc:subject:date:message-id:reply-to; bh=a2XwepaIX5vP22H5EY6vmqOovdhhaMmb6qF/6hcmfwM=; b=o4si0Hx9ZoeWqHiuSaGN6nUEIjGL7vJQbdDz/4vFgp8coKDN5rYYCHYq/3tlqOK0ip LYwPkGYSwBmYSIN7VJaIZlfxRkkufohW0KjeWp2zKhr9kGduT2ft2xpdYSXFQ3u+ByZa xQaWQvMe073nQquAhsy0kfSTDUYZDrEhDaXlbpWR2OJUZ1UfuckEatjUGh5ROlKbO9ct Wex5p1P5OdRYKsIN+lGHnultLWU6nydjPwGF+5+nygCIBvXY4goplWOvo38oRgW1yIqJ u4Jox1CujJcW3H7KWX7Oavuyy71qKmTefBZkZdcLcr+CyuLaBAdc6wjx+laS6tXwJ9xf HA3A== X-Gm-Message-State: AOJu0YyRSeXByDgmtvpLH6fFksCwR78NcO0WebzBat6PaL1JDEQGLoDT LIyLe1xTP5Gh/CyOwASi0kN0/E+MfTU4oc51ge6qgeYNt2oQYxwTZB/OXBA6jkXXCvXWrRs1iBt NlFTlhijktJ3hBSkHkkG+yHUYwrb9c1smoq2WK5HovM1NoJFG1UYseriyGXdU X-Gm-Gg: ASbGncuXI0aHIkW0/7XkTzA5L8ruJ4TXGfgkmmm4uG/GKnSoMtZpJ5cZGWR6a3uyi9C Q+wNA70nRN4WFb4scDz+OmUkfdsMPlSRybrGiGEhYidELxJvUgRczP/7kO6KgHcALVp5ex7I9yf s9WCuNkwS4NB4uNIN+5/NJSIW9EmqddfQtYfH8gOoe0aDhfAxdCUb/HkewdUncOo+r4kI4zjaXp V4k4mbh6q0P1TyWas+/qI+O+18D150CJ++UF08kyvEdZLYEJr9OyT/nsUax2h3F9sFsgoRHwx/x CWXEYCB9Fg8cbOJpRBh3qpeBRKCNhupGBxmlQ3JgD2ZvX8eoh156+m1j6BZdy1X+ImnRFgVdy0K /qyrG4Pio X-Google-Smtp-Source: AGHT+IHcKSalrX3tPU6LSf2syMabURE2WYVu64VtMcZ7c22gxx55dupbSsRPclmiZRnuzbLNDMNfvczI1FOJ X-Received: by 2002:a05:6e02:1544:b0:430:d67c:46b8 with SMTP id e9e14a558f8ab-430d67c4e5cmr146985145ab.26.1761062417560; Tue, 21 Oct 2025 09:00:17 -0700 (PDT) Received: from postal.iol.unh.edu (postal.iol.unh.edu. [2606:4100:3880:1234::84]) by smtp-relay.gmail.com with ESMTPS id 8926c6da1cb9f-5a8a977081bsm1146411173.33.2025.10.21.09.00.17 (version=TLS1_2 cipher=ECDHE-ECDSA-AES128-GCM-SHA256 bits=128/128); Tue, 21 Oct 2025 09:00:17 -0700 (PDT) X-Relaying-Domain: iol.unh.edu Date: Tue, 21 Oct 2025 09:00:17 -0700 (PDT) Message-ID: <68f7ae11.050a0220.259304.5adeSMTPIN_ADDED_MISSING@mx.google.com> Received: from [172.21.0.4] (unknown [172.18.0.240]) by postal.iol.unh.edu (Postfix) with ESMTP id 275BD604D420; Tue, 21 Oct 2025 12:00:17 -0400 (EDT) Subject: |SUCCESS| pw157908-157910 [PATCH] [v8,3/3] dts: update tx_offload te From: dpdklab@iol.unh.edu To: Test Report Cc: dpdk-test-reports@iol.unh.edu In-Reply-To: <20251021144528.39748-4-abailey@iol.unh.edu> References: <20251021144528.39748-4-abailey@iol.unh.edu> Content-Type: text/plain X-BeenThere: test-report@dpdk.org X-Mailman-Version: 2.1.29 Precedence: list List-Id: automatic DPDK test reports List-Unsubscribe: , List-Archive: List-Post: List-Help: List-Subscribe: , Errors-To: test-report-bounces@dpdk.org Test-Label: iol-unit-amd64-testing Test-Status: SUCCESS http://dpdk.org/patch/157910 _Testing PASS_ Submitter: Andrew Bailey Date: Tuesday, October 21 2025 14:45:28 DPDK git baseline: Repo:dpdk-next-dts Branch: master CommitID:c1abcee5a9656fb4890b733e6051aa604c60f146 157908-157910 --> testing pass Upstream job id: Generic-Unit-Test-DPDK#383971 Test environment and result as below: +-------------------------------+----------------+ | Environment | dpdk_unit_test | +===============================+================+ | CentOS Stream 9 | PASS | +-------------------------------+----------------+ | CentOS Stream 10 | PASS | +-------------------------------+----------------+ | Debian GNU/Linux 12 | PASS | +-------------------------------+----------------+ | Fedora Linux 40 | PASS | +-------------------------------+----------------+ | Fedora Linux 41 | PASS | +-------------------------------+----------------+ | Red Hat Enterprise Linux 8.10 | PASS | +-------------------------------+----------------+ | Fedora Linux 42 | PASS | +-------------------------------+----------------+ | Ubuntu 24.04 | PASS | +-------------------------------+----------------+ | Ubuntu 22.04 | PASS | +-------------------------------+----------------+ | Red Hat Enterprise Linux 9.5 | PASS | +-------------------------------+----------------+ | Ubuntu 20.04 | PASS | +-------------------------------+----------------+ | Windows Server 2022 | PASS | +-------------------------------+----------------+ CentOS Stream 9 Kernel: 5.15 Compiler: gcc gcc (GCC) 11.5.0 20240719 (Red Hat 11.5.0-11) CentOS Stream 10 Kernel: 5.15 Compiler: gcc gcc (GCC) 14.2.1 20250110 (Red Hat 14.2.1-8) Debian GNU/Linux 12 Kernel: 5.15 Compiler: gcc gcc (Debian 12.2.0-14+deb12u1) 12.2.0 Fedora Linux 40 Kernel: 5.15 Compiler: gcc gcc (GCC) 14.2.1 20240912 (Red Hat 14.2.1-3) Fedora Linux 41 Kernel: 5.15 Compiler: clang gcc (GCC) 14.3.1 20250523 (Red Hat 14.3.1-1) Red Hat Enterprise Linux 8.10 Kernel: 5.15 Compiler: gcc gcc (GCC) 8.5.0 20210514 (Red Hat 8.5.0-22) Fedora Linux 42 Kernel: 5.15 Compiler: clang gcc (GCC) 15.2.1 20250808 (Red Hat 15.2.1-1) Ubuntu 24.04 Kernel: 5.15 Compiler: gcc gcc (Ubuntu 13.3.0-6ubuntu2~24.04) 13.3.0 Ubuntu 22.04 Kernel: 5.15 Compiler: gcc gcc (Ubuntu 11.4.0-1ubuntu1~22.04) 11.4.0 Red Hat Enterprise Linux 9.5 Kernel: 5.15 Compiler: gcc gcc (GCC) 11.5.0 20240719 (Red Hat 11.5.0-2) Ubuntu 20.04 Kernel: 5.15 Compiler: gcc gcc (Ubuntu 9.4.0-1ubuntu1~20.04.2) 9.4.0 Windows Server 2022 Kernel: 10.0.20348.2031 Compiler: clang 15.0.7, gcc 14.1.0 (MinGW), and MSVC VS 19.39.33521 To view detailed results, visit: https://lab.dpdk.org/results/dashboard/patchsets/34340/ UNH-IOL DPDK Community Lab To manage your email subscriptions, visit: https://lab.dpdk.org/results/dashboard/preferences/subscriptions/