From mboxrd@z Thu Jan 1 00:00:00 1970 Return-Path: Received: from mails.dpdk.org (mails.dpdk.org [217.70.189.124]) by inbox.dpdk.org (Postfix) with ESMTP id AF7CA48999 for ; Tue, 21 Oct 2025 18:06:02 +0200 (CEST) Received: from mails.dpdk.org (localhost [127.0.0.1]) by mails.dpdk.org (Postfix) with ESMTP id AACFC402A1; Tue, 21 Oct 2025 18:06:02 +0200 (CEST) Received: from mail-vk1-f225.google.com (mail-vk1-f225.google.com [209.85.221.225]) by mails.dpdk.org (Postfix) with ESMTP id 44946402A1 for ; Tue, 21 Oct 2025 18:06:02 +0200 (CEST) Received: by mail-vk1-f225.google.com with SMTP id 71dfb90a1353d-54a79cadd1fso4198201e0c.3 for ; Tue, 21 Oct 2025 09:06:02 -0700 (PDT) DKIM-Signature: v=1; a=rsa-sha256; c=relaxed/relaxed; d=iol.unh.edu; s=unh-iol; t=1761062761; x=1761667561; darn=dpdk.org; h=references:in-reply-to:cc:to:from:subject:message-id:date:from:to :cc:subject:date:message-id:reply-to; bh=z6/VF0hkCrGD/lyxUIP5pruPlOovsbIzWa7CG0DjMZM=; b=aGqsxM2p1+r1aU16T2v9gUHO/Pf3GTUp8hId6n6yV4wm69K2k55RAj0bxbYd95Wt9j 2iRlDi9um7RRQBkexrHt6pcV4zClVYCbjsrs4oCf46O5syMxM/eFi+JDlFHtq0w8D9GK IouMUZVSKjDw9BAqIJ0B0OqEx16Fc4l6gbwoI= X-Google-DKIM-Signature: v=1; a=rsa-sha256; c=relaxed/relaxed; d=1e100.net; s=20230601; t=1761062761; x=1761667561; h=references:in-reply-to:cc:to:from:subject:message-id:date :x-gm-message-state:from:to:cc:subject:date:message-id:reply-to; bh=z6/VF0hkCrGD/lyxUIP5pruPlOovsbIzWa7CG0DjMZM=; b=r14GsL5CbzkqKRYihGLemIZMhpdpA7JlimI78tff0RIvAwF/nM+HW+BjWnk79449EM atd6xfPYZ8gPWdRZnhXvCOlQoe4/37+C6kVEcWno1AhIRZ/kT3xYOoGO1fYdDItolGwM pCysX9fcDg2WyupERDkXWjwu+3jiCDdQQ3ES7x0dCjrck8B2az7yMSa1BMX5HysnzbXC GfGm738ptkrFOn6PPw6JGE98OHlt9o8yazpn+tLqP6wI9T91E+NNmhGyLOp6OrutGy1X Nfej5p4xAONx9KoSHpVvaEn1Rl04dqBsGBSdG+p5yGquwo46zsluHPjkjEedK8YEGaqO riLQ== X-Gm-Message-State: AOJu0YxDlzcYTNEyd9PqwTceoe0JplT2H7kn31s2zCufTdTL8LpjtjJy BpLe59MxZbdXGJzGM1wlf4hBNTtvno2LqSPPOOHL2jaDyIKxxFeKIK17muGqP0yLXYZIq3kp/mO f7MhU1KTsJkPRL4m2Nv2QFXoEZxqSG51fZAIa4MJP3k0r X-Gm-Gg: ASbGncvjsBhB5TTJ3SWI29m8blF6r1aABDZyvT9mVoh55Jxx4072kNsGe3NNHor6UAT 7tWwgYTPZ3t/eCpmG2Td/+4ZtDYzMmLrhqiWLNtNDap6BLOoJHVEiBkZgx5W/EhxDQ+JsBj8bzj JzzaEG3/kT0z8dl1534+0XNdPG0Bf4AeVBmJus9N7gwXKVkO9VyjvtDQDOPnCLTt6RC0uRzjnZh RJgMxNlUVaz4pTfPvGZJMIhTcSf2xxmlYopAK+Vn8G6CPj8lTuwHPk0CcHO63lqcIPSL42GnqO/ LcS6FqrwZQEK7aajY4C6lW0IMlW2Q7B8uBxpz3c9XeSZwFoGL7cyiuGD0tjQZ0mqD6MF7fAl3+3 Ng9jeux+dWSFnpY+XpaMsXfeUA/xbMpo= X-Google-Smtp-Source: AGHT+IHcGd/IqDHIc8O9CdDry+7qBXxEv/QbW5mHK0LQz2E62rTZODkVgMk1EZ5Fymqk4CHiz5yP2tGwMIgG X-Received: by 2002:a05:6122:3183:b0:544:a84d:d3ac with SMTP id 71dfb90a1353d-5564ee611a8mr6097866e0c.5.1761062761628; Tue, 21 Oct 2025 09:06:01 -0700 (PDT) Received: from postal.iol.unh.edu (postal.iol.unh.edu. [132.177.123.84]) by smtp-relay.gmail.com with ESMTPS id 71dfb90a1353d-556620659a0sm1491575e0c.6.2025.10.21.09.06.01 (version=TLS1_2 cipher=ECDHE-ECDSA-AES128-GCM-SHA256 bits=128/128); Tue, 21 Oct 2025 09:06:01 -0700 (PDT) X-Relaying-Domain: iol.unh.edu Date: Tue, 21 Oct 2025 09:06:01 -0700 (PDT) Message-ID: <68f7af69.050a0220.13dc56.46d3SMTPIN_ADDED_MISSING@mx.google.com> Received: from [172.21.0.2] (unknown [172.18.0.240]) by postal.iol.unh.edu (Postfix) with ESMTP id 4FEAB604D420; Tue, 21 Oct 2025 12:06:01 -0400 (EDT) Subject: |WARNING| pw157908-157910 [PATCH] [v8,3/3] dts: update tx_offload te From: dpdklab@iol.unh.edu To: Test Report Cc: dpdk-test-reports@iol.unh.edu In-Reply-To: <20251021144528.39748-4-abailey@iol.unh.edu> References: <20251021144528.39748-4-abailey@iol.unh.edu> Content-Type: text/plain X-BeenThere: test-report@dpdk.org X-Mailman-Version: 2.1.29 Precedence: list List-Id: automatic DPDK test reports List-Unsubscribe: , List-Archive: List-Post: List-Help: List-Subscribe: , Errors-To: test-report-bounces@dpdk.org Test-Label: iol-compile-amd64-testing Test-Status: WARNING http://dpdk.org/patch/157910 _Testing issues_ Submitter: Andrew Bailey Date: Tuesday, October 21 2025 14:45:28 DPDK git baseline: Repo:dpdk-next-dts Branch: master CommitID:c1abcee5a9656fb4890b733e6051aa604c60f146 157908-157910 --> testing issues Upstream job id: Generic-DPDK-Compile-Meson#436584 Test environment and result as below: +-------------------------------+--------------------+-------------------+------------------+-------------------------+-------------------+----------------------+ | Environment | dpdk_meson_compile | dpdk_compile_spdk | dpdk_compile_ovs | dpdk_llvm_clang_compile | dpdk_msvc_compile | dpdk_mingw64_compile | +===============================+====================+===================+==================+=========================+===================+======================+ | Debian GNU/Linux 12 | PASS | WARN | SKIPPED | SKIPPED | SKIPPED | SKIPPED | +-------------------------------+--------------------+-------------------+------------------+-------------------------+-------------------+----------------------+ | CentOS Stream 9 | PASS | WARN | SKIPPED | SKIPPED | SKIPPED | SKIPPED | +-------------------------------+--------------------+-------------------+------------------+-------------------------+-------------------+----------------------+ | CentOS Stream 10 | PASS | SKIPPED | SKIPPED | SKIPPED | SKIPPED | SKIPPED | +-------------------------------+--------------------+-------------------+------------------+-------------------------+-------------------+----------------------+ | Fedora Linux 42 | PASS | WARN | PASS | SKIPPED | SKIPPED | SKIPPED | +-------------------------------+--------------------+-------------------+------------------+-------------------------+-------------------+----------------------+ | Ubuntu 20.04 | PASS | SKIPPED | SKIPPED | SKIPPED | SKIPPED | SKIPPED | +-------------------------------+--------------------+-------------------+------------------+-------------------------+-------------------+----------------------+ | openSUSE Leap 15.6 | PASS | SKIPPED | SKIPPED | SKIPPED | SKIPPED | SKIPPED | +-------------------------------+--------------------+-------------------+------------------+-------------------------+-------------------+----------------------+ | FreeBSD 14.2 | PASS | SKIPPED | SKIPPED | SKIPPED | SKIPPED | SKIPPED | +-------------------------------+--------------------+-------------------+------------------+-------------------------+-------------------+----------------------+ | Red Hat Enterprise Linux 8.10 | PASS | SKIPPED | SKIPPED | SKIPPED | SKIPPED | SKIPPED | +-------------------------------+--------------------+-------------------+------------------+-------------------------+-------------------+----------------------+ | Red Hat Enterprise Linux 9.5 | PASS | SKIPPED | SKIPPED | SKIPPED | SKIPPED | SKIPPED | +-------------------------------+--------------------+-------------------+------------------+-------------------------+-------------------+----------------------+ | Ubuntu 22.04 | PASS | WARN | SKIPPED | SKIPPED | SKIPPED | SKIPPED | +-------------------------------+--------------------+-------------------+------------------+-------------------------+-------------------+----------------------+ | Alpine Linux 3.22.0 | PASS | SKIPPED | SKIPPED | SKIPPED | SKIPPED | SKIPPED | +-------------------------------+--------------------+-------------------+------------------+-------------------------+-------------------+----------------------+ | Ubuntu 24.04 | PASS | WARN | PASS | SKIPPED | SKIPPED | SKIPPED | +-------------------------------+--------------------+-------------------+------------------+-------------------------+-------------------+----------------------+ | Windows Server 2022 | SKIPPED | SKIPPED | SKIPPED | PASS | PASS | PASS | +-------------------------------+--------------------+-------------------+------------------+-------------------------+-------------------+----------------------+ ==== 20 line log output for Ubuntu 24.04 (dpdk_compile_spdk): ==== --- Failed to get log output --- ==== End log output ==== Debian GNU/Linux 12 Kernel: 5.15 Compiler: gcc gcc (Debian 12.2.0-14+deb12u1) 12.2.0 CentOS Stream 9 Kernel: 5.15 Compiler: gcc gcc (GCC) 11.5.0 20240719 (Red Hat 11.5.0-11) CentOS Stream 10 Kernel: 5.15 Compiler: gcc gcc (GCC) 14.2.1 20250110 (Red Hat 14.2.1-8) Fedora Linux 42 Kernel: 5.15 Compiler: clang gcc (GCC) 15.2.1 20250808 (Red Hat 15.2.1-1) Ubuntu 20.04 Kernel: 4.19 Compiler: gcc gcc (Ubuntu 9.4.0-1ubuntu1~20.04.2) 9.4.0 openSUSE Leap 15.6 Kernel: 5.15 Compiler: gcc gcc (SUSE Linux) 7.5.0 FreeBSD 14.2 Kernel: 14.2-RELEASE Compiler: clang 18.1.6 Red Hat Enterprise Linux 8.10 Kernel: 5.15 Compiler: gcc gcc (GCC) 8.5.0 20210514 (Red Hat 8.5.0-22) Red Hat Enterprise Linux 9.5 Kernel: 5.15 Compiler: gcc gcc (GCC) 11.5.0 20240719 (Red Hat 11.5.0-2) Ubuntu 22.04 Kernel: 5.15 Compiler: gcc gcc (Ubuntu 11.4.0-1ubuntu1~22.04) 11.4.0 Alpine Linux 3.22.0 Kernel: 5.15 Compiler: gcc gcc (Alpine 14.2.0) 14.2.0 Ubuntu 24.04 Kernel: 5.15 Compiler: gcc gcc (Ubuntu 13.3.0-6ubuntu2~24.04) 13.3.0 Windows Server 2022 Kernel: 10.0.20348.2031 Compiler: clang 15.0.7, gcc 14.1.0 (MinGW), and MSVC VS 19.39.33521 To view detailed results, visit: https://lab.dpdk.org/results/dashboard/patchsets/34340/ UNH-IOL DPDK Community Lab To manage your email subscriptions, visit: https://lab.dpdk.org/results/dashboard/preferences/subscriptions/