From mboxrd@z Thu Jan 1 00:00:00 1970 Return-Path: Received: from mails.dpdk.org (mails.dpdk.org [217.70.189.124]) by inbox.dpdk.org (Postfix) with ESMTP id 5528D48999 for ; Tue, 21 Oct 2025 18:12:53 +0200 (CEST) Received: from mails.dpdk.org (localhost [127.0.0.1]) by mails.dpdk.org (Postfix) with ESMTP id 4FDA5402A1; Tue, 21 Oct 2025 18:12:53 +0200 (CEST) Received: from mail-il1-f225.google.com (mail-il1-f225.google.com [209.85.166.225]) by mails.dpdk.org (Postfix) with ESMTP id 3DBC1402A1 for ; Tue, 21 Oct 2025 18:12:52 +0200 (CEST) Received: by mail-il1-f225.google.com with SMTP id e9e14a558f8ab-430cd27de3eso18375255ab.1 for ; Tue, 21 Oct 2025 09:12:52 -0700 (PDT) DKIM-Signature: v=1; a=rsa-sha256; c=relaxed/relaxed; d=iol.unh.edu; s=unh-iol; t=1761063171; x=1761667971; darn=dpdk.org; h=references:in-reply-to:cc:to:from:subject:message-id:date:from:to :cc:subject:date:message-id:reply-to; bh=6O9ItPlWwIkSKqRCgGO0enacMqVFchWsx8w91fUBg+I=; b=Wo3YNwVzAYyK4St5PWm6VlBiUZZUVkVCUE4SKYg/JiQ1cgZnlpitK6c9npwTSuoRvD QspUOiT+Hw2F4pvabr3rW2Ch8ddTO8yt9gcdHmUpEM2m+VVDW/X7xBTTotA6l0cumHmQ PXf1l7kKdDs8ZcQiw7TPFCKyioLCepLIxJg8g= X-Google-DKIM-Signature: v=1; a=rsa-sha256; c=relaxed/relaxed; d=1e100.net; s=20230601; t=1761063171; x=1761667971; h=references:in-reply-to:cc:to:from:subject:message-id:date :x-gm-message-state:from:to:cc:subject:date:message-id:reply-to; bh=6O9ItPlWwIkSKqRCgGO0enacMqVFchWsx8w91fUBg+I=; b=OVUVEU8qXFsn7Pb9IlcVgAs2LO1A/OBoBvM7Y4xzTHitN+V/IkAOVfwNk394rGDykc i8MDCFzngTu8tq0cZok3B1ofPMjbRxHaiNCOmLCDY3I+AU0au5CcCM3IG8POkxwNefrx ykLEyHzdZ6nFszDvsjEuvBSuWaDuoDJuGKE8xs7LLOiR/zq/e/FRblVSg1FzVrBSmco9 UTaTVAQPVaoYuDSbi6M2OOrUUtqtvctw+P07cRVri2BlSN3PcP37PK1LSfbOAfcDvK4n 0/xpz6cmsN+U2snUDZxe2vT6nCi7hECeIA5KD7GvPIl0T2IBGNpqFUB8PxYzMMVBEdyS b4Hw== X-Gm-Message-State: AOJu0YzPEN1OTeg9AB+BtIaoPW2BXHR5dTRm+KEI6xRQug5IHKcF64Pm EyefZiRzVSD+YetqB4OtCVh73jELe/FOLj+DmKjoKEXtVLn32Dxs5evHH1Za9kX4wOC6YPBT/CD S8b5tbgJbZ5GGz4sSVRxdOGckDl4zrl09ecKXxrrKVA0m X-Gm-Gg: ASbGncs4b4a04M8SXoMCZpldz3OGGx/ZohD5zA84bPEGTb+im0FEokwLC+GZRAUo0oB Zjh4tfvII+MHhplVd8YKIyEtP5uhCgxjuDnaKV5dq7/WoeW3pN/QLAaNNHm4XSqJHGRTjE0kphM oqQVI3GXZAtBEZzdmh0S7B9xn5XRUaUwD4QFj5KjfGlALFvGg43MKD6XTzHacVH9ZqJBVsTG13x jd/gfv2KLd+5NnHsWNZDluV+2FbxtzSI1K2EQjHaeuZQFZusnlZtcPyQF/yl5jUmyMq5zgdKDf7 vFFGLd5G6tTFdMa3QgjwbwpCLzfOUSTTObqnAAkRfxf0q60ob9CzWmPN0nrnNSmOnZznNQWBixI JGgWWRomMP928sPyeS0n/mqHXhN5wtqk= X-Google-Smtp-Source: AGHT+IFJ+dISNn+8JZx/so8dnxT0gGDnqQ3pZ21cOk0cdnu8g7AxmFKgiz4M6MSThlcqaTQ24xbKZGUqwOgf X-Received: by 2002:a05:6e02:2183:b0:430:a5fa:5e05 with SMTP id e9e14a558f8ab-430c520860fmr249578065ab.2.1761063171532; Tue, 21 Oct 2025 09:12:51 -0700 (PDT) Received: from postal.iol.unh.edu (postal.iol.unh.edu. [132.177.123.84]) by smtp-relay.gmail.com with ESMTPS id 8926c6da1cb9f-5a8b7cd8c37sm933060173.21.2025.10.21.09.12.51 (version=TLS1_2 cipher=ECDHE-ECDSA-AES128-GCM-SHA256 bits=128/128); Tue, 21 Oct 2025 09:12:51 -0700 (PDT) X-Relaying-Domain: iol.unh.edu Date: Tue, 21 Oct 2025 09:12:51 -0700 (PDT) Message-ID: <68f7b103.050a0220.2d8907.fe56SMTPIN_ADDED_MISSING@mx.google.com> Received: from [172.21.0.2] (unknown [172.18.0.240]) by postal.iol.unh.edu (Postfix) with ESMTP id 197396051830; Tue, 21 Oct 2025 12:12:51 -0400 (EDT) Subject: |WARNING| pw157827-157834 [PATCH] [v3,8/8] doc: update documentation From: dpdklab@iol.unh.edu To: Test Report Cc: dpdk-test-reports@iol.unh.edu In-Reply-To: <20251019165728.164929-9-stephen@networkplumber.org> References: <20251019165728.164929-9-stephen@networkplumber.org> Content-Type: text/plain X-BeenThere: test-report@dpdk.org X-Mailman-Version: 2.1.29 Precedence: list List-Id: automatic DPDK test reports List-Unsubscribe: , List-Archive: List-Post: List-Help: List-Subscribe: , Errors-To: test-report-bounces@dpdk.org Test-Label: iol-compile-amd64-testing Test-Status: WARNING http://dpdk.org/patch/157834 _Testing issues RETEST #1_ Submitter: Stephen Hemminger Date: Sunday, October 19 2025 16:56:15 DPDK git baseline: Repo:dpdk Branch: master CommitID:97e2e198b96078a4732d468bf0a4e8ec45aa5717 157827-157834 --> testing issues Upstream job id: Windows-Compile-DPDK-Native#31799 Test environment and result as below: +-------------------------------+-------------------------+-------------------+--------------------+-------------------+------------------+----------------------+ | Environment | dpdk_llvm_clang_compile | dpdk_msvc_compile | dpdk_meson_compile | dpdk_compile_spdk | dpdk_compile_ovs | dpdk_mingw64_compile | +===============================+=========================+===================+====================+===================+==================+======================+ | Windows Server 2022 | PASS | PASS | SKIPPED | SKIPPED | SKIPPED | PASS | +-------------------------------+-------------------------+-------------------+--------------------+-------------------+------------------+----------------------+ | FreeBSD 14.2 | SKIPPED | SKIPPED | PASS | SKIPPED | SKIPPED | SKIPPED | +-------------------------------+-------------------------+-------------------+--------------------+-------------------+------------------+----------------------+ | CentOS Stream 10 | SKIPPED | SKIPPED | PASS | SKIPPED | SKIPPED | SKIPPED | +-------------------------------+-------------------------+-------------------+--------------------+-------------------+------------------+----------------------+ | CentOS Stream 9 | SKIPPED | SKIPPED | PASS | WARN | SKIPPED | SKIPPED | +-------------------------------+-------------------------+-------------------+--------------------+-------------------+------------------+----------------------+ | Debian GNU/Linux 12 | SKIPPED | SKIPPED | PASS | WARN | SKIPPED | SKIPPED | +-------------------------------+-------------------------+-------------------+--------------------+-------------------+------------------+----------------------+ | Ubuntu 22.04 | SKIPPED | SKIPPED | PASS | WARN | SKIPPED | SKIPPED | +-------------------------------+-------------------------+-------------------+--------------------+-------------------+------------------+----------------------+ | Fedora Linux 42 | SKIPPED | SKIPPED | PASS | WARN | PASS | SKIPPED | +-------------------------------+-------------------------+-------------------+--------------------+-------------------+------------------+----------------------+ | Ubuntu 24.04 | SKIPPED | SKIPPED | PASS | WARN | PASS | SKIPPED | +-------------------------------+-------------------------+-------------------+--------------------+-------------------+------------------+----------------------+ | Alpine Linux 3.22.0 | SKIPPED | SKIPPED | PASS | SKIPPED | SKIPPED | SKIPPED | +-------------------------------+-------------------------+-------------------+--------------------+-------------------+------------------+----------------------+ | Red Hat Enterprise Linux 9.5 | SKIPPED | SKIPPED | PASS | SKIPPED | SKIPPED | SKIPPED | +-------------------------------+-------------------------+-------------------+--------------------+-------------------+------------------+----------------------+ | Ubuntu 20.04 | SKIPPED | SKIPPED | PASS | SKIPPED | SKIPPED | SKIPPED | +-------------------------------+-------------------------+-------------------+--------------------+-------------------+------------------+----------------------+ | Red Hat Enterprise Linux 8.10 | SKIPPED | SKIPPED | PASS | SKIPPED | SKIPPED | SKIPPED | +-------------------------------+-------------------------+-------------------+--------------------+-------------------+------------------+----------------------+ | openSUSE Leap 15.6 | SKIPPED | SKIPPED | PASS | SKIPPED | SKIPPED | SKIPPED | +-------------------------------+-------------------------+-------------------+--------------------+-------------------+------------------+----------------------+ ==== 20 line log output for Ubuntu 24.04 (dpdk_compile_spdk): ==== --- Failed to get log output --- ==== End log output ==== Windows Server 2022 Kernel: 10.0.20348.2031 Compiler: clang 15.0.7, gcc 14.1.0 (MinGW), and MSVC VS 19.39.33521 FreeBSD 14.2 Kernel: 14.2-RELEASE Compiler: clang 18.1.6 CentOS Stream 10 Kernel: 5.15 Compiler: gcc gcc (GCC) 14.2.1 20250110 (Red Hat 14.2.1-8) CentOS Stream 9 Kernel: 5.15 Compiler: gcc gcc (GCC) 11.5.0 20240719 (Red Hat 11.5.0-11) Debian GNU/Linux 12 Kernel: 5.15 Compiler: gcc gcc (Debian 12.2.0-14+deb12u1) 12.2.0 Ubuntu 22.04 Kernel: 5.15 Compiler: gcc gcc (Ubuntu 11.4.0-1ubuntu1~22.04) 11.4.0 Fedora Linux 42 Kernel: 5.15 Compiler: gcc gcc (GCC) 15.2.1 20250808 (Red Hat 15.2.1-1) Ubuntu 24.04 Kernel: 5.15 Compiler: gcc gcc (Ubuntu 13.3.0-6ubuntu2~24.04) 13.3.0 Alpine Linux 3.22.0 Kernel: 5.15 Compiler: gcc gcc (Alpine 14.2.0) 14.2.0 Red Hat Enterprise Linux 9.5 Kernel: 5.15 Compiler: gcc gcc (GCC) 11.5.0 20240719 (Red Hat 11.5.0-2) Ubuntu 20.04 Kernel: 5.15 Compiler: gcc gcc (Ubuntu 9.4.0-1ubuntu1~20.04.2) 9.4.0 Red Hat Enterprise Linux 8.10 Kernel: 5.15 Compiler: gcc gcc (GCC) 8.5.0 20210514 (Red Hat 8.5.0-22) openSUSE Leap 15.6 Kernel: 5.15 Compiler: gcc gcc (SUSE Linux) 7.5.0 To view detailed results, visit: https://lab.dpdk.org/results/dashboard/patchsets/34325/ UNH-IOL DPDK Community Lab To manage your email subscriptions, visit: https://lab.dpdk.org/results/dashboard/preferences/subscriptions/