From mboxrd@z Thu Jan 1 00:00:00 1970 Return-Path: Received: from mails.dpdk.org (mails.dpdk.org [217.70.189.124]) by inbox.dpdk.org (Postfix) with ESMTP id 72F9D48999 for ; Tue, 21 Oct 2025 18:13:56 +0200 (CEST) Received: from mails.dpdk.org (localhost [127.0.0.1]) by mails.dpdk.org (Postfix) with ESMTP id 6CE81402A1; Tue, 21 Oct 2025 18:13:56 +0200 (CEST) Received: from mail-io1-f99.google.com (mail-io1-f99.google.com [209.85.166.99]) by mails.dpdk.org (Postfix) with ESMTP id A2F80402A1 for ; Tue, 21 Oct 2025 18:13:55 +0200 (CEST) Received: by mail-io1-f99.google.com with SMTP id ca18e2360f4ac-940d7cd5045so109437439f.0 for ; Tue, 21 Oct 2025 09:13:55 -0700 (PDT) DKIM-Signature: v=1; a=rsa-sha256; c=relaxed/relaxed; d=iol.unh.edu; s=unh-iol; t=1761063235; x=1761668035; darn=dpdk.org; h=references:in-reply-to:cc:to:from:subject:message-id:date:from:to :cc:subject:date:message-id:reply-to; bh=hCsKSMlPX+DIQH60zeGxaGTm2j1zUMMUVD5rVP6wrfY=; b=C6dBbFKiiyBYVZnisi2ODSDwIh/w5D9zDjkSOznS3PR9y+wMsayOWlOjmzGce8TOeJ u0RCLrh++EMlkZvI2qa+fBBOTe1FvxN525HioUdiefMytTR5JqQZNkMRABuOW16+QrNB YRl98/DbvY5blf04CH2z9GFTm3Sp/A9+bQge0= X-Google-DKIM-Signature: v=1; a=rsa-sha256; c=relaxed/relaxed; d=1e100.net; s=20230601; t=1761063235; x=1761668035; h=references:in-reply-to:cc:to:from:subject:message-id:date :x-gm-message-state:from:to:cc:subject:date:message-id:reply-to; bh=hCsKSMlPX+DIQH60zeGxaGTm2j1zUMMUVD5rVP6wrfY=; b=fDUn5Pr6ByTxwLh1Qv9mDgtq1loziMevdSxp0vQsAcuV/ujCsQ4trfIge7qyVcSya9 8Uh2N5qfXNPHCBXAXVJGsQgaRUpg6bq39fALogfekFz13JxwdyOMjQuhwRBoRZeSDJko A0/TU04UanZTFWjwPAk4oRrpLGSyuJqCrC6PaM1SrcL7GAyCXZf4CC7En/oY2Fsb9UQc 0kyZY1tL4amgk9LpA5/mUhSaFnDWdjT8+4G9qt5VeLEbPCLYdMa1xghvDr2rjGA9R8ov 3NMGTNsd43yUHURFjhgqeZsxwZ2qOZ4J0SKhDgTXjhRBfxTnjgXuVnSwFycQhlxLh/Qd HAsA== X-Gm-Message-State: AOJu0Yxo2K2LBVC/UXoGS8ub9OaI6wXjkzom3MboqhjEFh9Chp4gwEBq 1s8xR1zwQnSCkPF+2At1fa6Nk5r2tquCwASum/CojsDQflEHWJz389kbXTkKKa1VbRvZ3LwRl/e 3YqAeFwucoviyLIfME4KG2MBa4GsBj1bqx4Gvxd79uat/lON3q1+YLd67ih25 X-Gm-Gg: ASbGncvWNXlwbMOWb/jIC0gTkjDL21102RBKRcPPLy7qrBGt7L8vH+OsiXW64GuxdcA NVmHNmDmohiWogJzbVdjHQ3dBBCunsH0ljY9axIopQyi/OchyuU2S7KOqfjFR12Sf2n1SQZYFDv p8GKENE7hyTSy7rhZZ8NjSujkpJa//lCJNyS3GDdpTelWQOHV0LVLGlNX2/U2rOalfW3xQulc9O BFmnx341ZEGwZqtFDqD8CbjZ8FXmukIm1vpFKtS/pVMK2BGwkU1qF/iOxM6xyUDu2s81DOJaGik LPPm8b9JugVJCKLcHZS5TfZfpnWyho3o/grra2MyXFk+5GBRr2zbeXtuj5oDc09IuxZk6E8U00S 9zXhSPqCy X-Google-Smtp-Source: AGHT+IEBQsPx9J0YvJV45HEGgc+ZiAQtsRCiKOnL2aE03vQlc/9fnzgzmWefQ/gyMw2kXr7PoWpTnHWutS83 X-Received: by 2002:a92:cda3:0:b0:430:c491:583b with SMTP id e9e14a558f8ab-430c52367d5mr242963705ab.14.1761063234823; Tue, 21 Oct 2025 09:13:54 -0700 (PDT) Received: from postal.iol.unh.edu (postal.iol.unh.edu. [2606:4100:3880:1234::84]) by smtp-relay.gmail.com with ESMTPS id 8926c6da1cb9f-5a8a95fea97sm1317731173.8.2025.10.21.09.13.54 (version=TLS1_2 cipher=ECDHE-ECDSA-AES128-GCM-SHA256 bits=128/128); Tue, 21 Oct 2025 09:13:54 -0700 (PDT) X-Relaying-Domain: iol.unh.edu Date: Tue, 21 Oct 2025 09:13:54 -0700 (PDT) Message-ID: <68f7b142.050a0220.37646d.d356SMTPIN_ADDED_MISSING@mx.google.com> Received: from [172.21.0.2] (unknown [172.18.0.240]) by postal.iol.unh.edu (Postfix) with ESMTP id 5C5EE6051830; Tue, 21 Oct 2025 12:13:54 -0400 (EDT) Subject: |WARNING| pw157827-157834 [PATCH] [v3,8/8] doc: update documentation From: dpdklab@iol.unh.edu To: Test Report Cc: dpdk-test-reports@iol.unh.edu In-Reply-To: <20251019165728.164929-9-stephen@networkplumber.org> References: <20251019165728.164929-9-stephen@networkplumber.org> Content-Type: text/plain X-BeenThere: test-report@dpdk.org X-Mailman-Version: 2.1.29 Precedence: list List-Id: automatic DPDK test reports List-Unsubscribe: , List-Archive: List-Post: List-Help: List-Subscribe: , Errors-To: test-report-bounces@dpdk.org Test-Label: iol-compile-amd64-testing Test-Status: WARNING http://dpdk.org/patch/157834 _Testing issues RETEST #1_ Submitter: Stephen Hemminger Date: Sunday, October 19 2025 16:56:15 DPDK git baseline: Repo:dpdk Branch: master CommitID:97e2e198b96078a4732d468bf0a4e8ec45aa5717 157827-157834 --> testing issues Upstream job id: Windows-Compile-DPDK-Native#31800 Test environment and result as below: +-------------------------------+-------------------------+-------------------+--------------------+-------------------+------------------+----------------------+ | Environment | dpdk_llvm_clang_compile | dpdk_msvc_compile | dpdk_meson_compile | dpdk_compile_spdk | dpdk_compile_ovs | dpdk_mingw64_compile | +===============================+=========================+===================+====================+===================+==================+======================+ | Windows Server 2022 | PASS | PASS | SKIPPED | SKIPPED | SKIPPED | PASS | +-------------------------------+-------------------------+-------------------+--------------------+-------------------+------------------+----------------------+ | FreeBSD 14.2 | SKIPPED | SKIPPED | PASS | SKIPPED | SKIPPED | SKIPPED | +-------------------------------+-------------------------+-------------------+--------------------+-------------------+------------------+----------------------+ | CentOS Stream 10 | SKIPPED | SKIPPED | PASS | SKIPPED | SKIPPED | SKIPPED | +-------------------------------+-------------------------+-------------------+--------------------+-------------------+------------------+----------------------+ | CentOS Stream 9 | SKIPPED | SKIPPED | PASS | WARN | SKIPPED | SKIPPED | +-------------------------------+-------------------------+-------------------+--------------------+-------------------+------------------+----------------------+ | Debian GNU/Linux 12 | SKIPPED | SKIPPED | PASS | WARN | SKIPPED | SKIPPED | +-------------------------------+-------------------------+-------------------+--------------------+-------------------+------------------+----------------------+ | Ubuntu 22.04 | SKIPPED | SKIPPED | PASS | WARN | SKIPPED | SKIPPED | +-------------------------------+-------------------------+-------------------+--------------------+-------------------+------------------+----------------------+ | Fedora Linux 42 | SKIPPED | SKIPPED | PASS | WARN | PASS | SKIPPED | +-------------------------------+-------------------------+-------------------+--------------------+-------------------+------------------+----------------------+ | Ubuntu 24.04 | SKIPPED | SKIPPED | PASS | WARN | PASS | SKIPPED | +-------------------------------+-------------------------+-------------------+--------------------+-------------------+------------------+----------------------+ | Alpine Linux 3.22.0 | SKIPPED | SKIPPED | PASS | SKIPPED | SKIPPED | SKIPPED | +-------------------------------+-------------------------+-------------------+--------------------+-------------------+------------------+----------------------+ | Red Hat Enterprise Linux 9.5 | SKIPPED | SKIPPED | PASS | SKIPPED | SKIPPED | SKIPPED | +-------------------------------+-------------------------+-------------------+--------------------+-------------------+------------------+----------------------+ | Ubuntu 20.04 | SKIPPED | SKIPPED | PASS | SKIPPED | SKIPPED | SKIPPED | +-------------------------------+-------------------------+-------------------+--------------------+-------------------+------------------+----------------------+ | Red Hat Enterprise Linux 8.10 | SKIPPED | SKIPPED | PASS | SKIPPED | SKIPPED | SKIPPED | +-------------------------------+-------------------------+-------------------+--------------------+-------------------+------------------+----------------------+ | openSUSE Leap 15.6 | SKIPPED | SKIPPED | PASS | SKIPPED | SKIPPED | SKIPPED | +-------------------------------+-------------------------+-------------------+--------------------+-------------------+------------------+----------------------+ ==== 20 line log output for Ubuntu 24.04 (dpdk_compile_spdk): ==== --- Failed to get log output --- ==== End log output ==== Windows Server 2022 Kernel: 10.0.20348.2031 Compiler: clang 15.0.7, gcc 14.1.0 (MinGW), and MSVC VS 19.39.33521 FreeBSD 14.2 Kernel: 14.2-RELEASE Compiler: clang 18.1.6 CentOS Stream 10 Kernel: 5.15 Compiler: gcc gcc (GCC) 14.2.1 20250110 (Red Hat 14.2.1-8) CentOS Stream 9 Kernel: 5.15 Compiler: gcc gcc (GCC) 11.5.0 20240719 (Red Hat 11.5.0-11) Debian GNU/Linux 12 Kernel: 5.15 Compiler: gcc gcc (Debian 12.2.0-14+deb12u1) 12.2.0 Ubuntu 22.04 Kernel: 5.15 Compiler: gcc gcc (Ubuntu 11.4.0-1ubuntu1~22.04) 11.4.0 Fedora Linux 42 Kernel: 5.15 Compiler: gcc gcc (GCC) 15.2.1 20250808 (Red Hat 15.2.1-1) Ubuntu 24.04 Kernel: 5.15 Compiler: gcc gcc (Ubuntu 13.3.0-6ubuntu2~24.04) 13.3.0 Alpine Linux 3.22.0 Kernel: 5.15 Compiler: gcc gcc (Alpine 14.2.0) 14.2.0 Red Hat Enterprise Linux 9.5 Kernel: 5.15 Compiler: gcc gcc (GCC) 11.5.0 20240719 (Red Hat 11.5.0-2) Ubuntu 20.04 Kernel: 5.15 Compiler: gcc gcc (Ubuntu 9.4.0-1ubuntu1~20.04.2) 9.4.0 Red Hat Enterprise Linux 8.10 Kernel: 5.15 Compiler: gcc gcc (GCC) 8.5.0 20210514 (Red Hat 8.5.0-22) openSUSE Leap 15.6 Kernel: 5.15 Compiler: gcc gcc (SUSE Linux) 7.5.0 To view detailed results, visit: https://lab.dpdk.org/results/dashboard/patchsets/34325/ UNH-IOL DPDK Community Lab To manage your email subscriptions, visit: https://lab.dpdk.org/results/dashboard/preferences/subscriptions/