From mboxrd@z Thu Jan 1 00:00:00 1970 Return-Path: Received: from mails.dpdk.org (mails.dpdk.org [217.70.189.124]) by inbox.dpdk.org (Postfix) with ESMTP id 6AB1648999 for ; Tue, 21 Oct 2025 18:58:06 +0200 (CEST) Received: from mails.dpdk.org (localhost [127.0.0.1]) by mails.dpdk.org (Postfix) with ESMTP id 4FF01402A1; Tue, 21 Oct 2025 18:58:06 +0200 (CEST) Received: from mail-il1-f225.google.com (mail-il1-f225.google.com [209.85.166.225]) by mails.dpdk.org (Postfix) with ESMTP id 320BE402A1 for ; Tue, 21 Oct 2025 18:58:05 +0200 (CEST) Received: by mail-il1-f225.google.com with SMTP id e9e14a558f8ab-430c180d829so23032185ab.3 for ; Tue, 21 Oct 2025 09:58:05 -0700 (PDT) DKIM-Signature: v=1; a=rsa-sha256; c=relaxed/relaxed; d=iol.unh.edu; s=unh-iol; t=1761065884; x=1761670684; darn=dpdk.org; h=references:in-reply-to:cc:to:from:subject:message-id:date:from:to :cc:subject:date:message-id:reply-to; bh=7d0sjdpFNKkzUq3nl6JbAoYiMHsHZsmptCoUOsYmMps=; b=I3SsR2jNSmUoRamnlpi12+TKM3VXmlMFtRQUDUJ/hqpqLd3Kv+oEkJxxBnAUsFbmvw LVCm5qCKYDyeA60bETzAMjrK6TvstAMiG5DLOMoI5NBqssEGqzYXpxpdkWmUmYeWgNrv gG5nZ6/Ao3u5NkS5Z4XTZeQJeNQZtqhAS8snc= X-Google-DKIM-Signature: v=1; a=rsa-sha256; c=relaxed/relaxed; d=1e100.net; s=20230601; t=1761065884; x=1761670684; h=references:in-reply-to:cc:to:from:subject:message-id:date :x-gm-message-state:from:to:cc:subject:date:message-id:reply-to; bh=7d0sjdpFNKkzUq3nl6JbAoYiMHsHZsmptCoUOsYmMps=; b=f7lBLZNdjqt0ats+Pr4pLjeIwUbMIhFHMMY9wp++2nwcFa4oiot6c+9q3klLXtCv+T sx8k9Nvc8xScpiBYpZ+N2Zt+jK83Nk2wSwHrTqywMoA/vsvAWSQE8+w5XcwDu2SZlsvD V+YXjs6Y8mQRnGnDN7J4CFNokO9y+drmAnBFhtJyqES8ztYl6+i0aDiMRRflNRVnrPDG eoSlt0s+0wkHNHMIujUO52LntjdfPlVTvUkn/Rinf2JU1tMOvOpdnK21zbo6ByLEe5hc RioplFTsdU3NBp+7vrsjjDyPL18O6ns0O9rocXiiBrOAtltwKBeH7pCsDiSLW7Dv23ls URJg== X-Gm-Message-State: AOJu0Yxcy1Kg5XV4QBOKO/ZNODHSq5P+2GBI877iK1Dsh6RS+wkbwnr7 eNZ38kwyT58uIheuTmPvgZqQsfS6YGw6G/dDDN+2mci2aJ2PR7xoVWUIb10fRwBjYhfVn28xB09 KuV5sGh0KUOaalwQjgI2weVCLfna6lXNnnJjq54MNpcdV8Oj7pCJ3GBEzis0x X-Gm-Gg: ASbGncsLOznkrfPYgZNfPBkvO5LqtLf8PG+uHJISrXwi1DgiZfOs57XUlk4MOhtXA3+ cdo2HXa8w2BZTfCP+d2JW1V8SnUXIO26Ya/OS1akEjdsp1PWmrodAQ+KT7T5pUca97Bb5OQ9A+9 fki7SMmD1HBcQGAcYinW9fZzAUJ/3k3OAewhugMvuMu6noQGWjSG30vPCz8URINpDutxFT7JC2d hBsN+5EYDUlIfuBVoQC+gd6UhcyNYjd+MLclS1zhyxL5IT3ciVqWHbxTt89F8twv5LiNVn5Qpp9 ByiffF03bIe+G+cnW2isZEyvF+SlhazAXK7Tt+il8BiuLElBZewpQwVk/JHNPIWPfNR7cECGrhg xXEp+q8Pw X-Google-Smtp-Source: AGHT+IEdyfHLPP7QDDTv/pBnxayj4V/tO6YhsrdF1j400Uk7fd8+IBJ2F4HFHe+TLsR9isDeG1fbCBf22UIu X-Received: by 2002:a05:6e02:2506:b0:430:ae26:7c19 with SMTP id e9e14a558f8ab-430c519b4e9mr261927395ab.0.1761065884289; Tue, 21 Oct 2025 09:58:04 -0700 (PDT) Received: from postal.iol.unh.edu (postal.iol.unh.edu. [2606:4100:3880:1234::84]) by smtp-relay.gmail.com with ESMTPS id e9e14a558f8ab-430d072ab18sm11586925ab.16.2025.10.21.09.58.04 (version=TLS1_2 cipher=ECDHE-ECDSA-AES128-GCM-SHA256 bits=128/128); Tue, 21 Oct 2025 09:58:04 -0700 (PDT) X-Relaying-Domain: iol.unh.edu Date: Tue, 21 Oct 2025 09:58:04 -0700 (PDT) Message-ID: <68f7bb9c.920a0220.232233.8d46SMTPIN_ADDED_MISSING@mx.google.com> Received: from [172.21.0.2] (unknown [172.18.0.240]) by postal.iol.unh.edu (Postfix) with ESMTP id D89F8604D420; Tue, 21 Oct 2025 12:58:03 -0400 (EDT) Subject: |SUCCESS| pw157907 [PATCH] [v2,1/1] vfio: fix custom containers in m From: dpdklab@iol.unh.edu To: Test Report Cc: dpdk-test-reports@iol.unh.edu In-Reply-To: <7e195ed0245a80a7f3302ae5d3c08a66c206ca9b.1761052774.git.anatoly.burakov@intel.com> References: <7e195ed0245a80a7f3302ae5d3c08a66c206ca9b.1761052774.git.anatoly.burakov@intel.com> Content-Type: text/plain X-BeenThere: test-report@dpdk.org X-Mailman-Version: 2.1.29 Precedence: list List-Id: automatic DPDK test reports List-Unsubscribe: , List-Archive: List-Post: List-Help: List-Subscribe: , Errors-To: test-report-bounces@dpdk.org Test-Label: iol-compile-arm64-testing Test-Status: SUCCESS http://dpdk.org/patch/157907 _Testing PASS_ Submitter: Anatoly Burakov Date: Tuesday, October 21 2025 13:19:42 DPDK git baseline: Repo:dpdk Branch: master CommitID:820ca7361bb7fa40e96e53515d8392ea40a35265 157907 --> testing pass Upstream job id: Generic-DPDK-Compile-Meson#436545 Test environment and result as below: +------------------------------+--------------------+ | Environment | dpdk_meson_compile | +==============================+====================+ | Fedora Linux 42 | PASS | +------------------------------+--------------------+ | Ubuntu 20.04 | PASS | +------------------------------+--------------------+ | Red Hat Enterprise Linux 9.5 | PASS | +------------------------------+--------------------+ | Ubuntu 22.04 | PASS | +------------------------------+--------------------+ | CentOS Stream 9 | PASS | +------------------------------+--------------------+ | Ubuntu 24.04 | PASS | +------------------------------+--------------------+ | CentOS Stream 10 | PASS | +------------------------------+--------------------+ | Debian GNU/Linux 12 | PASS | +------------------------------+--------------------+ Fedora Linux 42 Kernel: 5.4 Compiler: gcc gcc (GCC) 15.2.1 20250808 (Red Hat 15.2.1-1) Ubuntu 20.04 Kernel: 5.15 Compiler: aarch64-linux-gnu-gcc gcc (Ubuntu 9.4.0-1ubuntu1~20.04.2) 9.4.0 Red Hat Enterprise Linux 9.5 Kernel: 5.4 Compiler: gcc gcc (GCC) 11.5.0 20240719 (Red Hat 11.5.0-2) Ubuntu 22.04 Kernel: 5.4 Compiler: gcc gcc (Ubuntu 11.4.0-1ubuntu1~22.04) 11.4.0 CentOS Stream 9 Kernel: 5.4 Compiler: gcc gcc (GCC) 11.5.0 20240719 (Red Hat 11.5.0-11) Ubuntu 24.04 Kernel: 5.4 Compiler: gcc gcc (Ubuntu 13.3.0-6ubuntu2~24.04) 13.3.0 CentOS Stream 10 Kernel: 5.4 Compiler: gcc gcc (GCC) 14.2.1 20250110 (Red Hat 14.2.1-8) Debian GNU/Linux 12 Kernel: 5.4 Compiler: gcc gcc (Debian 12.2.0-14+deb12u1) 12.2.0 To view detailed results, visit: https://lab.dpdk.org/results/dashboard/patchsets/34339/ UNH-IOL DPDK Community Lab To manage your email subscriptions, visit: https://lab.dpdk.org/results/dashboard/preferences/subscriptions/