From mboxrd@z Thu Jan 1 00:00:00 1970 Return-Path: Received: from mails.dpdk.org (mails.dpdk.org [217.70.189.124]) by inbox.dpdk.org (Postfix) with ESMTP id B4C3848999 for ; Tue, 21 Oct 2025 19:57:11 +0200 (CEST) Received: from mails.dpdk.org (localhost [127.0.0.1]) by mails.dpdk.org (Postfix) with ESMTP id 9F5C840A67; Tue, 21 Oct 2025 19:57:11 +0200 (CEST) Received: from mail-pg1-f227.google.com (mail-pg1-f227.google.com [209.85.215.227]) by mails.dpdk.org (Postfix) with ESMTP id CF89E40A67 for ; Tue, 21 Oct 2025 19:57:10 +0200 (CEST) Received: by mail-pg1-f227.google.com with SMTP id 41be03b00d2f7-b6a0a7f3a47so5467101a12.1 for ; Tue, 21 Oct 2025 10:57:10 -0700 (PDT) DKIM-Signature: v=1; a=rsa-sha256; c=relaxed/relaxed; d=iol.unh.edu; s=unh-iol; t=1761069430; x=1761674230; darn=dpdk.org; h=references:in-reply-to:cc:to:from:subject:message-id:date:from:to :cc:subject:date:message-id:reply-to; bh=wVs4R+qYUDbkYnqi0MvaIhu1dJ0qh1ztnM01usLmMVY=; b=SFOrlhNp2GijMLBLSm83Dppmo58F1cc9n6I/QMnFj0e5Pzzn10F1v07XcpdIgL8kw0 rEY6FwfIwmwJbjhyuGrZZg8uHhYJsU8UhEuwv/m0o/Q74jh4ST2faK9Bft8z4sQq7SDx +PJ6TRxKi/RpXW2ZFzVMeJSWgh+UcRgodHEhg= X-Google-DKIM-Signature: v=1; a=rsa-sha256; c=relaxed/relaxed; d=1e100.net; s=20230601; t=1761069430; x=1761674230; h=references:in-reply-to:cc:to:from:subject:message-id:date :x-gm-message-state:from:to:cc:subject:date:message-id:reply-to; bh=wVs4R+qYUDbkYnqi0MvaIhu1dJ0qh1ztnM01usLmMVY=; b=EgqWtO1CPE+U4YBtixWuGYyBJkFJjNdxBN9j/EVvEP3cNGJMmu2Vs1QxAQUaVLPnEt qqPYCaYFmTUFzzuZu1x0lj/NgcxMnrgG20mt8nqPTuhwT53ppG8++yLz2tXpV0yl2UJK rIbvrj2CiLGiMfDx0KfJrGpPnf0NiKTpasa963einEjDYX1o0GSTFBT28W1QxrIFcJDZ bPQO33Oao95TvtEHkoPLQUh+rJGNub8+ZjZY2en9taiH6gkYVHeMTvD5TxoJpFsXagw8 Ei5Ix0V1RvDV8oVMeRf3ul7mV7qdBfBQ+O0g44mAx6kJDR5R5fgMs7CNAGD9aP/BoQBH UZuw== X-Gm-Message-State: AOJu0YwP6QPMbz2AsW8c1oKiLAkf8p02pg+4sU8x2ENJdVbxYmTPlzEb rGAFrWt1JS2K5rjUakQeoRU5FoOOFZwQgi0xksr3xW3i3/npjEWT9izeuhZNtvCgQaqfv9KY0N1 xv5IvcqWsYZF7tRRlEkQA80AEsrFtaYcqOnZ9pgz1zLAB+ZWExdbVEEnXVJ1i X-Gm-Gg: ASbGncsTnytRKskIpdRw0ueJgLlmBPB46aNPhk6GP20kFFFlJXEoQqCJm1q/8oD965C 7SGly1hvw82dYhbJl7cENNQRMO/OUimKccmv/Xuc4EChst/1Hf0eROuSFq4+/pF9uhxlm6/U6Zf mJljQDHtoxergRY2RKyaTo4xrROa1VQk8IVFzTPi/1cSB5k5Fd8iiJGWXE+cRkSpGLv8iyq0pPN ZIBpIUoEhuE7l0G4HOB3KjmmmrBv4HmlquX0Q6vjq1yNYc7H2iMPjr7xGAGsKSvfkeR8DwkpI77 1gXS9GRqSWpqf2xKlMqA4TeK4TuI2t2M+6uK435/aBBXd/HtT3wCRybk1tAzLYLFR5O0St24F3Y I6fyT8pW/ X-Google-Smtp-Source: AGHT+IGojKf2Y7V+mO8QfVgghkTkya5TiCg95X/TxpFMTuYLShj36izTNUvkhQYwaDV0bW5ZouqWXaqNGu2s X-Received: by 2002:a17:902:fc8e:b0:267:ed5e:c902 with SMTP id d9443c01a7336-290c9cbcc96mr235482815ad.20.1761069429876; Tue, 21 Oct 2025 10:57:09 -0700 (PDT) Received: from postal.iol.unh.edu (postal.iol.unh.edu. [2606:4100:3880:1234::84]) by smtp-relay.gmail.com with ESMTPS id d9443c01a7336-2924701868bsm12526785ad.28.2025.10.21.10.57.09 (version=TLS1_2 cipher=ECDHE-ECDSA-AES128-GCM-SHA256 bits=128/128); Tue, 21 Oct 2025 10:57:09 -0700 (PDT) X-Relaying-Domain: iol.unh.edu Date: Tue, 21 Oct 2025 10:57:09 -0700 (PDT) Message-ID: <68f7c975.170a0220.2c8be.b23cSMTPIN_ADDED_MISSING@mx.google.com> Received: from [172.21.0.2] (unknown [172.18.0.240]) by postal.iol.unh.edu (Postfix) with ESMTP id 25B6F604D420; Tue, 21 Oct 2025 13:57:09 -0400 (EDT) Subject: |SUCCESS| pw157906 [PATCH] [v1,1/1] vfio: fix custom containers in m From: dpdklab@iol.unh.edu To: Test Report Cc: dpdk-test-reports@iol.unh.edu In-Reply-To: References: Content-Type: text/plain X-BeenThere: test-report@dpdk.org X-Mailman-Version: 2.1.29 Precedence: list List-Id: automatic DPDK test reports List-Unsubscribe: , List-Archive: List-Post: List-Help: List-Subscribe: , Errors-To: test-report-bounces@dpdk.org Test-Label: iol-unit-arm64-testing Test-Status: SUCCESS http://dpdk.org/patch/157906 _Testing PASS_ Submitter: Anatoly Burakov Date: Tuesday, October 21 2025 10:09:56 DPDK git baseline: Repo:dpdk Branch: master CommitID:820ca7361bb7fa40e96e53515d8392ea40a35265 157906 --> testing pass Upstream job id: Generic-Unit-Test-DPDK#383912 Test environment and result as below: +------------------------------+------------------------------+---------------------------+--------------+----------------+ | Environment | cryptodev_sw_snow3g_autotest | cryptodev_sw_zuc_autotest | lpm_autotest | dpdk_unit_test | +==============================+==============================+===========================+==============+================+ | Debian 12 (arm) | PASS | PASS | SKIPPED | SKIPPED | +------------------------------+------------------------------+---------------------------+--------------+----------------+ | Ubuntu 20.04 | SKIPPED | SKIPPED | PASS | PASS | +------------------------------+------------------------------+---------------------------+--------------+----------------+ | CentOS Stream 9 | SKIPPED | SKIPPED | SKIPPED | PASS | +------------------------------+------------------------------+---------------------------+--------------+----------------+ | Debian GNU/Linux 12 | SKIPPED | SKIPPED | SKIPPED | PASS | +------------------------------+------------------------------+---------------------------+--------------+----------------+ | Fedora Linux 40 | SKIPPED | SKIPPED | SKIPPED | PASS | +------------------------------+------------------------------+---------------------------+--------------+----------------+ | CentOS Stream 10 | SKIPPED | SKIPPED | SKIPPED | PASS | +------------------------------+------------------------------+---------------------------+--------------+----------------+ | Fedora Linux 41 | SKIPPED | SKIPPED | SKIPPED | PASS | +------------------------------+------------------------------+---------------------------+--------------+----------------+ | Ubuntu 22.04 | SKIPPED | SKIPPED | SKIPPED | PASS | +------------------------------+------------------------------+---------------------------+--------------+----------------+ | Fedora Linux 42 | SKIPPED | SKIPPED | SKIPPED | PASS | +------------------------------+------------------------------+---------------------------+--------------+----------------+ | Red Hat Enterprise Linux 9.5 | SKIPPED | SKIPPED | SKIPPED | PASS | +------------------------------+------------------------------+---------------------------+--------------+----------------+ | Ubuntu 24.04 | SKIPPED | SKIPPED | SKIPPED | PASS | +------------------------------+------------------------------+---------------------------+--------------+----------------+ Debian 12 (arm) Kernel: Depends on container host Compiler: gcc (Debian 12.2.0-14) 12.2.0 Ubuntu 20.04 Kernel: 5.4 Compiler: gcc gcc (Ubuntu 9.4.0-1ubuntu1~20.04.2) 9.4.0 CentOS Stream 9 Kernel: 5.4 Compiler: gcc gcc (GCC) 11.5.0 20240719 (Red Hat 11.5.0-11) Debian GNU/Linux 12 Kernel: 5.4 Compiler: gcc gcc (Debian 12.2.0-14+deb12u1) 12.2.0 Fedora Linux 40 Kernel: 5.4 Compiler: gcc gcc (GCC) 14.2.1 20240912 (Red Hat 14.2.1-3) CentOS Stream 10 Kernel: 5.4 Compiler: gcc gcc (GCC) 14.2.1 20250110 (Red Hat 14.2.1-8) Fedora Linux 41 Kernel: 5.4 Compiler: gcc gcc (GCC) 14.3.1 20250523 (Red Hat 14.3.1-1) Ubuntu 22.04 Kernel: 5.15 Compiler: gcc gcc (Ubuntu 11.4.0-1ubuntu1~22.04.2) 11.4.0 Fedora Linux 42 Kernel: 5.4 Compiler: gcc gcc (GCC) 15.2.1 20250808 (Red Hat 15.2.1-1) Red Hat Enterprise Linux 9.5 Kernel: 5.4 Compiler: gcc gcc (GCC) 11.5.0 20240719 (Red Hat 11.5.0-2) Ubuntu 24.04 Kernel: 5.4 Compiler: gcc gcc (Ubuntu 13.3.0-6ubuntu2~24.04) 13.3.0 To view detailed results, visit: https://lab.dpdk.org/results/dashboard/patchsets/34338/ UNH-IOL DPDK Community Lab To manage your email subscriptions, visit: https://lab.dpdk.org/results/dashboard/preferences/subscriptions/