From mboxrd@z Thu Jan 1 00:00:00 1970 Return-Path: Received: from mails.dpdk.org (mails.dpdk.org [217.70.189.124]) by inbox.dpdk.org (Postfix) with ESMTP id AD95A4899A for ; Tue, 21 Oct 2025 20:27:24 +0200 (CEST) Received: from mails.dpdk.org (localhost [127.0.0.1]) by mails.dpdk.org (Postfix) with ESMTP id 904D14064A; Tue, 21 Oct 2025 20:27:24 +0200 (CEST) Received: from mail-pg1-f226.google.com (mail-pg1-f226.google.com [209.85.215.226]) by mails.dpdk.org (Postfix) with ESMTP id 228C24064A for ; Tue, 21 Oct 2025 20:27:24 +0200 (CEST) Received: by mail-pg1-f226.google.com with SMTP id 41be03b00d2f7-b6cdcc280c3so16678a12.0 for ; Tue, 21 Oct 2025 11:27:24 -0700 (PDT) DKIM-Signature: v=1; a=rsa-sha256; c=relaxed/relaxed; d=iol.unh.edu; s=unh-iol; t=1761071243; x=1761676043; darn=dpdk.org; h=references:in-reply-to:cc:to:from:subject:message-id:date:from:to :cc:subject:date:message-id:reply-to; bh=N4mgqcAv6maBX9OzTVGBc4NJ6A4/ZGt2lyMc3IwVtOk=; b=OzKrF9pFhSTiwb9hfKwB3A1JcIWCAWWm37MuHNkclDsGkDnrJxP+bVzz5ViyQFrinW kpaYlyPvSF/0ob/E1es51yY5FYinQycV9dzYRjN+xglRmwr46EK5wF6rJEX6PMOls78l 8PKZShpd9XixvvFHH2H4erwKCApfm7eu6C5Wo= X-Google-DKIM-Signature: v=1; a=rsa-sha256; c=relaxed/relaxed; d=1e100.net; s=20230601; t=1761071243; x=1761676043; h=references:in-reply-to:cc:to:from:subject:message-id:date :x-gm-message-state:from:to:cc:subject:date:message-id:reply-to; bh=N4mgqcAv6maBX9OzTVGBc4NJ6A4/ZGt2lyMc3IwVtOk=; b=WgOpYKAjlRNzwlboGM5hPu6XHzj57GUBus1IbUeZgRSQx/Tyoi3ngHRlNW9LKU5YOt y8k+g4RzxpeyCSZrr0wH2B/y/KqY9cFpinvh82z3bJTGdBO2TYIqme7sIjxC5Qrse99J JhZ6fS/mNtgkU+rv+HuU3ddBTrojg9oerjEk7XQPNoKOVfugg8wzhRlEmkXojAvw9wNH AqCnizjFNOvgOBItGtNwkrE5Uv2cJ3t3KQH6eK+uzAUbZ9BK9jHTIMEVZpyr+xWX3E/K 6pqC8zBLqfWoHT/ZCngFY9CQXyf3r1lvRJYzyZFSNRRTII2B9BH+carw1Kzj3fXNX7Wo a3Dg== X-Gm-Message-State: AOJu0YwO0jxq65LYmhYwiSVpmHvxEXriDklEy+GngbNPWRLrr0DE3uwy UPddst/fSFjQaj5KQsGMBePizVhv9MZ41RUFwzhKJtdy7o8pc5vyGy5Nb+BkjKGHE6z6Vnf+Hwv AR3dx8xZ/h6nzPyDDrzzwDt2aKHXDVtYf8zM0Qk/gDOMsLIPzGBIqETc5Mstd X-Gm-Gg: ASbGncvZKVRRZKZ0g5xatI9k+1J4LkC1Y91GULMOaqLTOXWBJyDvAJqWl7ZiNCpaPj+ 0/211LnxUsl59Rrz0KTjx5yeSRWk+UIfsLXHWkxqAGc+Uv8UVMAnqaEQlKAXNKI6s6gGEY5/7I/ l8V5oJqnJiLr0pgQD5h9jTSoQOyd2pBWnm16+tVwEqGDSJOL1qY7QXUPBetditGz5I9P5Qpk5D/ YdWxIBUSqfP07j4/Bgj+HKKGFRigfYyWqAM9ku9Df2r9iJR+scY4+tgH0syDIapxOogEzVQeFwE DTtGKYyZx3bTAXnu7AklweLePj49l/5+BeeEurXSBRLaokZ7BfIytftvb5gHhz5Y9fWVpN9hK4l aOd3Mimvo X-Google-Smtp-Source: AGHT+IFcuEKWeVxAbNZjD4WEhBSaHFobjVpIc0dRhLYAHr1uihtR0XZ6vzr3AKQZIsYAcXuokZOoytMSCa1l X-Received: by 2002:a17:903:8c6:b0:28d:18fb:bb93 with SMTP id d9443c01a7336-290c9c8968cmr246218075ad.7.1761071242691; Tue, 21 Oct 2025 11:27:22 -0700 (PDT) Received: from postal.iol.unh.edu (postal.iol.unh.edu. [2606:4100:3880:1234::84]) by smtp-relay.gmail.com with ESMTPS id d9443c01a7336-29246feeae8sm13813445ad.3.2025.10.21.11.27.22 (version=TLS1_2 cipher=ECDHE-ECDSA-AES128-GCM-SHA256 bits=128/128); Tue, 21 Oct 2025 11:27:22 -0700 (PDT) X-Relaying-Domain: iol.unh.edu Date: Tue, 21 Oct 2025 11:27:22 -0700 (PDT) Message-ID: <68f7d08a.170a0220.3191c2.fbccSMTPIN_ADDED_MISSING@mx.google.com> Received: from [172.21.0.2] (unknown [172.18.0.240]) by postal.iol.unh.edu (Postfix) with ESMTP id 30E5C604D420; Tue, 21 Oct 2025 14:27:22 -0400 (EDT) Subject: |SUCCESS| pw157908-157910 [PATCH] [v8,3/3] dts: update tx_offload te From: dpdklab@iol.unh.edu To: Test Report Cc: dpdk-test-reports@iol.unh.edu In-Reply-To: <20251021144528.39748-4-abailey@iol.unh.edu> References: <20251021144528.39748-4-abailey@iol.unh.edu> Content-Type: text/plain X-BeenThere: test-report@dpdk.org X-Mailman-Version: 2.1.29 Precedence: list List-Id: automatic DPDK test reports List-Unsubscribe: , List-Archive: List-Post: List-Help: List-Subscribe: , Errors-To: test-report-bounces@dpdk.org Test-Label: iol-compile-arm64-testing Test-Status: SUCCESS http://dpdk.org/patch/157910 _Testing PASS_ Submitter: Andrew Bailey Date: Tuesday, October 21 2025 14:45:28 DPDK git baseline: Repo:dpdk-next-dts Branch: master CommitID:c1abcee5a9656fb4890b733e6051aa604c60f146 157908-157910 --> testing pass Upstream job id: Generic-DPDK-Compile-Meson#436572 Test environment and result as below: +------------------------------+--------------------+ | Environment | dpdk_meson_compile | +==============================+====================+ | Red Hat Enterprise Linux 9.5 | PASS | +------------------------------+--------------------+ | Ubuntu 20.04 | PASS | +------------------------------+--------------------+ | Debian GNU/Linux 12 | PASS | +------------------------------+--------------------+ | Fedora Linux 42 | PASS | +------------------------------+--------------------+ | Ubuntu 24.04 | PASS | +------------------------------+--------------------+ | Ubuntu 22.04 | PASS | +------------------------------+--------------------+ | CentOS Stream 9 | PASS | +------------------------------+--------------------+ | CentOS Stream 10 | PASS | +------------------------------+--------------------+ Red Hat Enterprise Linux 9.5 Kernel: 5.4 Compiler: gcc gcc (GCC) 11.5.0 20240719 (Red Hat 11.5.0-2) Ubuntu 20.04 Kernel: 5.15 Compiler: aarch64-linux-gnu-gcc gcc (Ubuntu 9.4.0-1ubuntu1~20.04.2) 9.4.0 Debian GNU/Linux 12 Kernel: 5.4 Compiler: gcc gcc (Debian 12.2.0-14+deb12u1) 12.2.0 Fedora Linux 42 Kernel: 5.4 Compiler: clang gcc (GCC) 15.2.1 20250808 (Red Hat 15.2.1-1) Ubuntu 24.04 Kernel: 5.4 Compiler: gcc gcc (Ubuntu 13.3.0-6ubuntu2~24.04) 13.3.0 Ubuntu 22.04 Kernel: 5.4 Compiler: gcc gcc (Ubuntu 11.4.0-1ubuntu1~22.04) 11.4.0 CentOS Stream 9 Kernel: 5.4 Compiler: gcc gcc (GCC) 11.5.0 20240719 (Red Hat 11.5.0-11) CentOS Stream 10 Kernel: 5.4 Compiler: gcc gcc (GCC) 14.2.1 20250110 (Red Hat 14.2.1-8) To view detailed results, visit: https://lab.dpdk.org/results/dashboard/patchsets/34340/ UNH-IOL DPDK Community Lab To manage your email subscriptions, visit: https://lab.dpdk.org/results/dashboard/preferences/subscriptions/