From mboxrd@z Thu Jan 1 00:00:00 1970 Return-Path: Received: from mails.dpdk.org (mails.dpdk.org [217.70.189.124]) by inbox.dpdk.org (Postfix) with ESMTP id 6DEB94899A for ; Tue, 21 Oct 2025 21:17:16 +0200 (CEST) Received: from mails.dpdk.org (localhost [127.0.0.1]) by mails.dpdk.org (Postfix) with ESMTP id 4E3B540684; Tue, 21 Oct 2025 21:17:16 +0200 (CEST) Received: from mail-qv1-f97.google.com (mail-qv1-f97.google.com [209.85.219.97]) by mails.dpdk.org (Postfix) with ESMTP id 73B8540684 for ; Tue, 21 Oct 2025 21:17:15 +0200 (CEST) Received: by mail-qv1-f97.google.com with SMTP id 6a1803df08f44-87be45cba29so82091676d6.2 for ; Tue, 21 Oct 2025 12:17:15 -0700 (PDT) DKIM-Signature: v=1; a=rsa-sha256; c=relaxed/relaxed; d=iol.unh.edu; s=unh-iol; t=1761074235; x=1761679035; darn=dpdk.org; h=references:in-reply-to:cc:to:from:subject:message-id:date:from:to :cc:subject:date:message-id:reply-to; bh=N+dlsC93d/be08kj8SZ1WFHo3//APLjAHmMiz6gsC2E=; b=UFdADfucGF5wp4oSZ1ssEmnP0IBJ7SNgiZmCiNzwcszQxPI1NtfYy4GsSSS7kXwDz7 uh5qmPl/SsFit0dniiy/cQAfsBXIIAzksOWOrFqRduYutccOwzVeirauAcfkyZR0HYES ImaBAAQ5kaoiNDO9uzy6ZnMPZ5Xk9cafMBhlM= X-Google-DKIM-Signature: v=1; a=rsa-sha256; c=relaxed/relaxed; d=1e100.net; s=20230601; t=1761074235; x=1761679035; h=references:in-reply-to:cc:to:from:subject:message-id:date :x-gm-message-state:from:to:cc:subject:date:message-id:reply-to; bh=N+dlsC93d/be08kj8SZ1WFHo3//APLjAHmMiz6gsC2E=; b=IMD4vSHpJa+ulzLcnFxqQ/0ymVA3vzW/Y1sxNGWWMJfGiXiQR3fi13gKA5fRL2dZVX 7qdRJv1re0MJvkeNx8OYfSrCBhmtrg1sEyJIN+zLE117Oxzjj3mrZFKpeNsB3+Ce95BC blkaAVICCu1eWrQdGD6ZaqgpQHvc2nTylQwTGRY+jsbHuuPrAFBilPf5KaEknUJ9bS+c ULIX4OohsUwR6SFna/dGcapjtNIPGcr7jDXlY3hgO7cjz1CtFB094PIhXq9AFW/ozVAn 39t5MZmiH61oos0WOXWeDFw4RY4oYueZDCZ8flfvYNbEnrEmwhSulhEXSQKRDc+gNwHU OFuA== X-Gm-Message-State: AOJu0Yw6e1raSi7qD+8NPgO1WXuK3TTpBDU6d/82irBSIGbG7BB2jEzp WEzKA2XBYr1umhc7F2HNEeZUPdK7Gv6vJGteC9PBj0TQRb7jVEeteuLcs8tjzbcsqb9ArGVRO3G zAqYpKi6CfVMj+LJx6b+vfyZQKjCYWqow0c2iXr/Fj2WX X-Gm-Gg: ASbGncuhsbx/z98XPwxC+xmHH25MKVo37L1PO4CHD2cqB8qhLB99qvVi0Nrow6BQg0v vjjQMXdh16vUHR4Kxd2uS5d1M3FNEpaFYvEk2SB8pg2rtsH9qwlEKobfz4w9OTr9LvO54M4GUjU SmXrh/52ZZOcbTF+hIacvfsIS8LUo0NAuZ8veExGfzDhljjhZiZm30E6s1HOYvrmtY4BYx8jaYJ BE2Y2wHSst+8nFpAV93IkFLm1o7O3gfGxHodrxiwuOkd10iEZAxngujP/pCuL0lPQx8nRtCquJV VtDxU90uDRMMtw20YeIy4waemT9X4to6ftlLrgTR4TgmYCdMiO+LsydIf8VGIXzEUSD0EjkQYoO 01iGSynLQ5TBu7V5Cqk41Q8S0hZZBRUE= X-Google-Smtp-Source: AGHT+IFJhxXx+oQw3hZ6c8SFjejb5A/7WreGJVB2pgG6P5C51sXXE49OwvIRti/TRz0X8Idp0Vdf0ZaUcPWC X-Received: by 2002:ad4:5d65:0:b0:87c:2b29:2613 with SMTP id 6a1803df08f44-87c2b292b20mr211065896d6.50.1761074234754; Tue, 21 Oct 2025 12:17:14 -0700 (PDT) Received: from postal.iol.unh.edu (postal.iol.unh.edu. [132.177.123.84]) by smtp-relay.gmail.com with ESMTPS id 6a1803df08f44-87ce0586dbfsm13878996d6.0.2025.10.21.12.17.14 (version=TLS1_2 cipher=ECDHE-ECDSA-AES128-GCM-SHA256 bits=128/128); Tue, 21 Oct 2025 12:17:14 -0700 (PDT) X-Relaying-Domain: iol.unh.edu Date: Tue, 21 Oct 2025 12:17:14 -0700 (PDT) Message-ID: <68f7dc3a.050a0220.6713b.047dSMTPIN_ADDED_MISSING@mx.google.com> Received: from [172.21.0.2] (unknown [172.18.0.240]) by postal.iol.unh.edu (Postfix) with ESMTP id 7B55B6051830; Tue, 21 Oct 2025 15:17:14 -0400 (EDT) Subject: |SUCCESS| pw157907 [PATCH] [v2,1/1] vfio: fix custom containers in m From: dpdklab@iol.unh.edu To: Test Report Cc: dpdk-test-reports@iol.unh.edu In-Reply-To: <7e195ed0245a80a7f3302ae5d3c08a66c206ca9b.1761052774.git.anatoly.burakov@intel.com> References: <7e195ed0245a80a7f3302ae5d3c08a66c206ca9b.1761052774.git.anatoly.burakov@intel.com> Content-Type: text/plain X-BeenThere: test-report@dpdk.org X-Mailman-Version: 2.1.29 Precedence: list List-Id: automatic DPDK test reports List-Unsubscribe: , List-Archive: List-Post: List-Help: List-Subscribe: , Errors-To: test-report-bounces@dpdk.org Test-Label: iol-unit-arm64-testing Test-Status: SUCCESS http://dpdk.org/patch/157907 _Testing PASS_ Submitter: Anatoly Burakov Date: Tuesday, October 21 2025 13:19:42 DPDK git baseline: Repo:dpdk Branch: master CommitID:820ca7361bb7fa40e96e53515d8392ea40a35265 157907 --> testing pass Upstream job id: Generic-Unit-Test-DPDK#383942 Test environment and result as below: +------------------------------+---------------------------+------------------------------+--------------+----------------+ | Environment | cryptodev_sw_zuc_autotest | cryptodev_sw_snow3g_autotest | lpm_autotest | dpdk_unit_test | +==============================+===========================+==============================+==============+================+ | Debian 12 (arm) | PASS | PASS | SKIPPED | SKIPPED | +------------------------------+---------------------------+------------------------------+--------------+----------------+ | Ubuntu 20.04 | SKIPPED | SKIPPED | PASS | PASS | +------------------------------+---------------------------+------------------------------+--------------+----------------+ | CentOS Stream 9 | SKIPPED | SKIPPED | SKIPPED | PASS | +------------------------------+---------------------------+------------------------------+--------------+----------------+ | CentOS Stream 10 | SKIPPED | SKIPPED | SKIPPED | PASS | +------------------------------+---------------------------+------------------------------+--------------+----------------+ | Debian GNU/Linux 12 | SKIPPED | SKIPPED | SKIPPED | PASS | +------------------------------+---------------------------+------------------------------+--------------+----------------+ | Fedora Linux 40 | SKIPPED | SKIPPED | SKIPPED | PASS | +------------------------------+---------------------------+------------------------------+--------------+----------------+ | Red Hat Enterprise Linux 9.5 | SKIPPED | SKIPPED | SKIPPED | PASS | +------------------------------+---------------------------+------------------------------+--------------+----------------+ | Fedora Linux 41 | SKIPPED | SKIPPED | SKIPPED | PASS | +------------------------------+---------------------------+------------------------------+--------------+----------------+ | Fedora Linux 42 | SKIPPED | SKIPPED | SKIPPED | PASS | +------------------------------+---------------------------+------------------------------+--------------+----------------+ | Ubuntu 22.04 | SKIPPED | SKIPPED | SKIPPED | PASS | +------------------------------+---------------------------+------------------------------+--------------+----------------+ | Ubuntu 24.04 | SKIPPED | SKIPPED | SKIPPED | PASS | +------------------------------+---------------------------+------------------------------+--------------+----------------+ Debian 12 (arm) Kernel: Depends on container host Compiler: gcc (Debian 12.2.0-14) 12.2.0 Ubuntu 20.04 Kernel: 5.4 Compiler: gcc gcc (Ubuntu 9.4.0-1ubuntu1~20.04.2) 9.4.0 CentOS Stream 9 Kernel: 5.4 Compiler: gcc gcc (GCC) 11.5.0 20240719 (Red Hat 11.5.0-11) CentOS Stream 10 Kernel: 5.4 Compiler: gcc gcc (GCC) 14.2.1 20250110 (Red Hat 14.2.1-8) Debian GNU/Linux 12 Kernel: 5.4 Compiler: gcc gcc (Debian 12.2.0-14+deb12u1) 12.2.0 Fedora Linux 40 Kernel: 5.4 Compiler: gcc gcc (GCC) 14.2.1 20240912 (Red Hat 14.2.1-3) Red Hat Enterprise Linux 9.5 Kernel: 5.4 Compiler: gcc gcc (GCC) 11.5.0 20240719 (Red Hat 11.5.0-2) Fedora Linux 41 Kernel: 5.4 Compiler: gcc gcc (GCC) 14.3.1 20250523 (Red Hat 14.3.1-1) Fedora Linux 42 Kernel: 5.4 Compiler: gcc gcc (GCC) 15.2.1 20250808 (Red Hat 15.2.1-1) Ubuntu 22.04 Kernel: 5.4 Compiler: gcc gcc (Ubuntu 11.4.0-1ubuntu1~22.04) 11.4.0 Ubuntu 24.04 Kernel: 5.4 Compiler: gcc gcc (Ubuntu 13.3.0-6ubuntu2~24.04) 13.3.0 To view detailed results, visit: https://lab.dpdk.org/results/dashboard/patchsets/34339/ UNH-IOL DPDK Community Lab To manage your email subscriptions, visit: https://lab.dpdk.org/results/dashboard/preferences/subscriptions/