From mboxrd@z Thu Jan 1 00:00:00 1970 Return-Path: Received: from mails.dpdk.org (mails.dpdk.org [217.70.189.124]) by inbox.dpdk.org (Postfix) with ESMTP id 7E7CD4899B for ; Tue, 21 Oct 2025 22:45:10 +0200 (CEST) Received: from mails.dpdk.org (localhost [127.0.0.1]) by mails.dpdk.org (Postfix) with ESMTP id 57E81402EB; Tue, 21 Oct 2025 22:45:10 +0200 (CEST) Received: from mail-yx1-f97.google.com (mail-yx1-f97.google.com [74.125.224.97]) by mails.dpdk.org (Postfix) with ESMTP id 991AC402EB for ; Tue, 21 Oct 2025 22:45:08 +0200 (CEST) Received: by mail-yx1-f97.google.com with SMTP id 956f58d0204a3-63e35e48a27so2804894d50.0 for ; Tue, 21 Oct 2025 13:45:08 -0700 (PDT) DKIM-Signature: v=1; a=rsa-sha256; c=relaxed/relaxed; d=iol.unh.edu; s=unh-iol; t=1761079508; x=1761684308; darn=dpdk.org; h=references:in-reply-to:cc:to:from:subject:message-id:date:from:to :cc:subject:date:message-id:reply-to; bh=ICZ3bUvF4EoSiPYfYc5+yU6sCU6LpIQqirVfGnYJFzA=; b=f+tOj6AZQwjhnd/OV6yHQ9sV10qdpk+7fLprjkzaOb964cYXOKDn3GrvaNQRg62wSR nfGVF4LCvs0YyjbXEkQDFwtfPlbyrhNf+yyQ3VOVyGkpez5FGdck4kVxsun/ciTedmrv ArYhGQHZsDQpmgQq6LuPCzzHlZiGfu53vY4uw= X-Google-DKIM-Signature: v=1; a=rsa-sha256; c=relaxed/relaxed; d=1e100.net; s=20230601; t=1761079508; x=1761684308; h=references:in-reply-to:cc:to:from:subject:message-id:date :x-gm-message-state:from:to:cc:subject:date:message-id:reply-to; bh=ICZ3bUvF4EoSiPYfYc5+yU6sCU6LpIQqirVfGnYJFzA=; b=py1bmXWtD5p9YDsoNHk9lbIEIReLxV0kMSDIR/aY6Jf2TDeEJC18hIxfO/rgw9DZmr WtcOv8a2oKGa36HwcrSQvFjBfBPuR1PROibqS84KNk4gponR4etbRRWJKYJN+jvsnMaC kN8mCpzJHqBSLr4IJAPcRcqYQjiU00gFfhlYcVvKdxgbaaPb7NA2gbuA7MEjPFPVpbuG TJXB/yqioWRpdTE4OQ1qyJNXmuEQkHyN46WpHbXJfrJGlCQ67lvg5TVTTbx3gql86l8k 1TlW+qiOrJoXW8ilu75JTEx7kGRgxEG4RAVijybT64IhGOhJafI0+O9A7/HT/nySqMKh 7MNA== X-Gm-Message-State: AOJu0YyHyx0jNy27dS+PrrkPIQ2NRGj62HUawu+457m2P9kskX6AuBL1 JUxxttqV3/o1+XRACDdHeIWRqkWa7EspAjWafwc5YyxqI2AGP7PNwF9Z8BEJLFr1Dx8Z6guOx1D iOZurXNHzkCn9NRqLh1duGm5cOcEvFObodEg36B5XfTIFkcXVDfoAWhaQW9fn X-Gm-Gg: ASbGncs8nZhkxVoUhxJFt7k9GiaGA7wfZQWRoxXOfcUNRs9XrPPPtiGS7kT5qqr/ddg DeYXQREHw56LGi1lpqSZB4TZUs1H34ZLJoOzXZlju7xi+6EqDA3dkfJ4CCB4bDGofHL5XQAZCru dCLhxBQsAWqmS35yCI9EGQjOUDAFHPKjoYCgFOpMxoVTdI8yKiWTGP+M+rQqDtzOWWgKY4XbihK GJtCVpo0i9ewDcVnZ5HpY4d8uNDe2YhCNcIgh7ncF2kYSeJRHRcP8KYU1S3fhd/LG5I10Xl60EP 20nqkmWjo9a6HSLtCJGl6o0fJeQy3As0vjBWnD9mDhuC/DoPswpOqB1WDMz1R5n4nKbuiVVlv4L WSFQpk26v X-Google-Smtp-Source: AGHT+IF7pLoHlvPdi5MJ/4sk04vVXacoi00GEQeikv1N/TDI+WobrpZOrVzuuOrCRnxxe5jAPJtzuShdLRLC X-Received: by 2002:a05:690e:d57:b0:63e:1577:6717 with SMTP id 956f58d0204a3-63e1610a3b2mr13043510d50.3.1761079507719; Tue, 21 Oct 2025 13:45:07 -0700 (PDT) Received: from postal.iol.unh.edu (postal.iol.unh.edu. [2606:4100:3880:1234::84]) by smtp-relay.gmail.com with ESMTPS id 956f58d0204a3-63e267df537sm901583d50.14.2025.10.21.13.45.07 (version=TLS1_2 cipher=ECDHE-ECDSA-AES128-GCM-SHA256 bits=128/128); Tue, 21 Oct 2025 13:45:07 -0700 (PDT) X-Relaying-Domain: iol.unh.edu Date: Tue, 21 Oct 2025 13:45:07 -0700 (PDT) Message-ID: <68f7f0d3.530a0220.1093f7.fea0SMTPIN_ADDED_MISSING@mx.google.com> Received: from [172.21.0.2] (unknown [172.18.0.240]) by postal.iol.unh.edu (Postfix) with ESMTP id 64DDE604D420; Tue, 21 Oct 2025 16:45:07 -0400 (EDT) Subject: |SUCCESS| pw157908-157910 [PATCH] [v8,3/3] dts: update tx_offload te From: dpdklab@iol.unh.edu To: Test Report Cc: dpdk-test-reports@iol.unh.edu In-Reply-To: <20251021144528.39748-4-abailey@iol.unh.edu> References: <20251021144528.39748-4-abailey@iol.unh.edu> Content-Type: text/plain X-BeenThere: test-report@dpdk.org X-Mailman-Version: 2.1.29 Precedence: list List-Id: automatic DPDK test reports List-Unsubscribe: , List-Archive: List-Post: List-Help: List-Subscribe: , Errors-To: test-report-bounces@dpdk.org Test-Label: iol-unit-arm64-testing Test-Status: SUCCESS http://dpdk.org/patch/157910 _Testing PASS_ Submitter: Andrew Bailey Date: Tuesday, October 21 2025 14:45:28 DPDK git baseline: Repo:dpdk-next-dts Branch: master CommitID:c1abcee5a9656fb4890b733e6051aa604c60f146 157908-157910 --> testing pass Upstream job id: Generic-Unit-Test-DPDK#383972 Test environment and result as below: +------------------------------+----------------+--------------+------------------------------+---------------------------+ | Environment | dpdk_unit_test | lpm_autotest | cryptodev_sw_snow3g_autotest | cryptodev_sw_zuc_autotest | +==============================+================+==============+==============================+===========================+ | Debian GNU/Linux 12 | PASS | SKIPPED | SKIPPED | SKIPPED | +------------------------------+----------------+--------------+------------------------------+---------------------------+ | CentOS Stream 9 | PASS | SKIPPED | SKIPPED | SKIPPED | +------------------------------+----------------+--------------+------------------------------+---------------------------+ | CentOS Stream 10 | PASS | SKIPPED | SKIPPED | SKIPPED | +------------------------------+----------------+--------------+------------------------------+---------------------------+ | Fedora Linux 41 | PASS | SKIPPED | SKIPPED | SKIPPED | +------------------------------+----------------+--------------+------------------------------+---------------------------+ | Fedora Linux 40 | PASS | SKIPPED | SKIPPED | SKIPPED | +------------------------------+----------------+--------------+------------------------------+---------------------------+ | Fedora Linux 42 | PASS | SKIPPED | SKIPPED | SKIPPED | +------------------------------+----------------+--------------+------------------------------+---------------------------+ | Red Hat Enterprise Linux 9.5 | PASS | SKIPPED | SKIPPED | SKIPPED | +------------------------------+----------------+--------------+------------------------------+---------------------------+ | Ubuntu 22.04 | PASS | SKIPPED | SKIPPED | SKIPPED | +------------------------------+----------------+--------------+------------------------------+---------------------------+ | Ubuntu 20.04 | PASS | PASS | SKIPPED | SKIPPED | +------------------------------+----------------+--------------+------------------------------+---------------------------+ | Ubuntu 24.04 | PASS | SKIPPED | SKIPPED | SKIPPED | +------------------------------+----------------+--------------+------------------------------+---------------------------+ | Debian 12 (arm) | SKIPPED | SKIPPED | PASS | PASS | +------------------------------+----------------+--------------+------------------------------+---------------------------+ Debian GNU/Linux 12 Kernel: 5.4 Compiler: gcc gcc (Debian 12.2.0-14+deb12u1) 12.2.0 CentOS Stream 9 Kernel: 5.4 Compiler: gcc gcc (GCC) 11.5.0 20240719 (Red Hat 11.5.0-11) CentOS Stream 10 Kernel: 5.4 Compiler: gcc gcc (GCC) 14.2.1 20250110 (Red Hat 14.2.1-8) Fedora Linux 41 Kernel: 5.4 Compiler: gcc gcc (GCC) 14.3.1 20250523 (Red Hat 14.3.1-1) Fedora Linux 40 Kernel: 5.4 Compiler: gcc gcc (GCC) 14.2.1 20240912 (Red Hat 14.2.1-3) Fedora Linux 42 Kernel: 5.4 Compiler: gcc gcc (GCC) 15.2.1 20250808 (Red Hat 15.2.1-1) Red Hat Enterprise Linux 9.5 Kernel: 5.4 Compiler: gcc gcc (GCC) 11.5.0 20240719 (Red Hat 11.5.0-2) Ubuntu 22.04 Kernel: 5.4 Compiler: gcc gcc (Ubuntu 11.4.0-1ubuntu1~22.04) 11.4.0 Ubuntu 20.04 Kernel: 5.4 Compiler: gcc gcc (Ubuntu 9.4.0-1ubuntu1~20.04.2) 9.4.0 Ubuntu 24.04 Kernel: 5.4 Compiler: gcc gcc (Ubuntu 13.3.0-6ubuntu2~24.04) 13.3.0 Debian 12 (arm) Kernel: Depends on container host Compiler: gcc (Debian 12.2.0-14) 12.2.0 To view detailed results, visit: https://lab.dpdk.org/results/dashboard/patchsets/34340/ UNH-IOL DPDK Community Lab To manage your email subscriptions, visit: https://lab.dpdk.org/results/dashboard/preferences/subscriptions/