From mboxrd@z Thu Jan 1 00:00:00 1970 Return-Path: Received: from mails.dpdk.org (mails.dpdk.org [217.70.189.124]) by inbox.dpdk.org (Postfix) with ESMTP id C36BD4899C for ; Wed, 22 Oct 2025 03:15:40 +0200 (CEST) Received: from mails.dpdk.org (localhost [127.0.0.1]) by mails.dpdk.org (Postfix) with ESMTP id 97791402AF; Wed, 22 Oct 2025 03:15:40 +0200 (CEST) Received: from mail-pl1-f225.google.com (mail-pl1-f225.google.com [209.85.214.225]) by mails.dpdk.org (Postfix) with ESMTP id 7BCFC402AF for ; Wed, 22 Oct 2025 03:15:39 +0200 (CEST) Received: by mail-pl1-f225.google.com with SMTP id d9443c01a7336-292322d10feso4144325ad.0 for ; Tue, 21 Oct 2025 18:15:39 -0700 (PDT) DKIM-Signature: v=1; a=rsa-sha256; c=relaxed/relaxed; d=iol.unh.edu; s=unh-iol; t=1761095738; x=1761700538; darn=dpdk.org; h=cc:to:from:subject:message-id:date:from:to:cc:subject:date :message-id:reply-to; bh=EqPo2r2I/bIMd9FIcN2Qam5LwsWhOmxAxam8QtKfrDo=; b=anxMqo7P/OKwfdOpGkhCiGnkf1oGyaGpl9pEHnOb5IjdZSEGh2JwbxMJv5ZX4dDua0 jJDpyagKvjCk636Zd/0P0XJ6Ec45KOl+Jv2I7rEqCsAyBb5g79a8xiDP4gXNnmJ/AVq3 byqhssGf7nlpSSXfF0a38OlfovzZgzveAEHbE= X-Google-DKIM-Signature: v=1; a=rsa-sha256; c=relaxed/relaxed; d=1e100.net; s=20230601; t=1761095738; x=1761700538; h=cc:to:from:subject:message-id:date:x-gm-message-state:from:to:cc :subject:date:message-id:reply-to; bh=EqPo2r2I/bIMd9FIcN2Qam5LwsWhOmxAxam8QtKfrDo=; b=DkM8XioIBjEayv/cx08Df/tPs6G8H5ba0Baxmvb3nWQA10UFjkCTyagbslzg7YtGQl tIWK3kw51fCqBV60hyvIENCdWb8f9XpjfSKdCSSI2qKgB3KYfUFQa7RD8jAhr14VL/wH qVDzG+UlCjwqB/t+BEyXWVJugEG/porFV4/bGjlUN9OV+38CiODtCwabbdVXZv9l9GkQ WlsG+QOP5FwRLIZIX47A6JRvu/ICdf9tb7KM9GX1SnwynSo3L2lqSOulv8qrar2dQktH rTkYwRf7XQqwubRQUXiESU5lSwMITdylzVinFoa3Zusld5hcrSxZI8BJ4iEi9MiuKBru IPHw== X-Gm-Message-State: AOJu0Yy9P9e20OYkq2fLPLmQgwamacDW+ADXyHwkJfnOL1/b1jpfq/wi AXE7onE50satSGrdyYOdywbyZ37uhSu79a9Z+S0d+qTCuyRIOUnImL2SLn9g35GZmjh7c8oxxYY 06nnJM14HHdD/yyNXARG29rkbDfgTqdId8+kgMqXTpMHByWl2QtcoVLgp+Iqm X-Gm-Gg: ASbGnctfXNV288v92y3plKq81PqLKKg1kBb5BeQuZ6xIoTXqWpVx7+c9hor91jF/b0m 4S1hbKhGKtGnf12dIFrMZ86C4loxjaTjmpn9i40b3pwoHFGK4bPiRTfBzvuGEIMZK4Q/avHGGPF DgJuQuXMuuDXAHGgC6yjoL9Sgdsx3sYiWh2hTsqiNPLntIQkAajlLYyhJngKixDnPVUEr1zyWXt Z6vJNLevKZuWVfVccXaRHX6aX9D1/QycSnhODgIMD59y0NdGrNPFG27kVOjYX0fcuWYyksMWSfx LWTAvLnv4JtM9m98pAsa0fL+tUDUfEw2JiNnIrxBJDKbFAPdXbNnN1Q4jJblSIPOVIzuUOi1atd RjSZZcQg0 X-Google-Smtp-Source: AGHT+IGOVCp4oGg4IKwaYY0/yZ0HrqlvAlAQYgqmEymomWULOoeX4jqpKKdvPBRQ9QNKmHx6lORctZGXFWsk X-Received: by 2002:a17:903:1c7:b0:27d:6cb6:f7c2 with SMTP id d9443c01a7336-292ffc2a14emr21444585ad.17.1761095738524; Tue, 21 Oct 2025 18:15:38 -0700 (PDT) Received: from postal.iol.unh.edu (postal.iol.unh.edu. [2606:4100:3880:1234::84]) by smtp-relay.gmail.com with ESMTPS id d9443c01a7336-292471c6202sm14619645ad.45.2025.10.21.18.15.38 (version=TLS1_2 cipher=ECDHE-ECDSA-AES128-GCM-SHA256 bits=128/128); Tue, 21 Oct 2025 18:15:38 -0700 (PDT) X-Relaying-Domain: iol.unh.edu Date: Tue, 21 Oct 2025 18:15:38 -0700 (PDT) Message-ID: <68f8303a.170a0220.2889b3.3b10SMTPIN_ADDED_MISSING@mx.google.com> Received: from [172.21.0.2] (unknown [172.18.0.240]) by postal.iol.unh.edu (Postfix) with ESMTP id 0877F6051830; Tue, 21 Oct 2025 21:15:38 -0400 (EDT) Subject: |WARNING| [GIT MASTER] ba3641decf649330e29c357a9b251dda3dbad0ee From: dpdklab@iol.unh.edu To: Test Report Cc: dpdk-test-reports@iol.unh.edu Content-Type: text/plain X-BeenThere: test-report@dpdk.org X-Mailman-Version: 2.1.29 Precedence: list List-Id: automatic DPDK test reports List-Unsubscribe: , List-Archive: List-Post: List-Help: List-Subscribe: , Errors-To: test-report-bounces@dpdk.org _Testing issues_ Branch: dpdk ba3641decf649330e29c357a9b251dda3dbad0ee --> testing issues Upstream job id: Generic-DPDK-Compile-Meson#436619 Test environment and result as below: +-------------------------------+--------------------+-------------------+------------------+-------------------+-------------------------+----------------------+ | Environment | dpdk_meson_compile | dpdk_compile_spdk | dpdk_compile_ovs | dpdk_msvc_compile | dpdk_llvm_clang_compile | dpdk_mingw64_compile | +===============================+====================+===================+==================+===================+=========================+======================+ | FreeBSD 14.2 | PASS | SKIPPED | SKIPPED | SKIPPED | SKIPPED | SKIPPED | +-------------------------------+--------------------+-------------------+------------------+-------------------+-------------------------+----------------------+ | CentOS Stream 9 | PASS | WARN | SKIPPED | SKIPPED | SKIPPED | SKIPPED | +-------------------------------+--------------------+-------------------+------------------+-------------------+-------------------------+----------------------+ | Ubuntu 20.04 | PASS | SKIPPED | SKIPPED | SKIPPED | SKIPPED | SKIPPED | +-------------------------------+--------------------+-------------------+------------------+-------------------+-------------------------+----------------------+ | Fedora Linux 42 | PASS | WARN | PASS | SKIPPED | SKIPPED | SKIPPED | +-------------------------------+--------------------+-------------------+------------------+-------------------+-------------------------+----------------------+ | Debian GNU/Linux 12 | PASS | WARN | SKIPPED | SKIPPED | SKIPPED | SKIPPED | +-------------------------------+--------------------+-------------------+------------------+-------------------+-------------------------+----------------------+ | Alpine Linux 3.22.0 | PASS | SKIPPED | SKIPPED | SKIPPED | SKIPPED | SKIPPED | +-------------------------------+--------------------+-------------------+------------------+-------------------+-------------------------+----------------------+ | openSUSE Leap 15.6 | PASS | SKIPPED | SKIPPED | SKIPPED | SKIPPED | SKIPPED | +-------------------------------+--------------------+-------------------+------------------+-------------------+-------------------------+----------------------+ | CentOS Stream 10 | PASS | SKIPPED | SKIPPED | SKIPPED | SKIPPED | SKIPPED | +-------------------------------+--------------------+-------------------+------------------+-------------------+-------------------------+----------------------+ | Red Hat Enterprise Linux 9.5 | PASS | SKIPPED | SKIPPED | SKIPPED | SKIPPED | SKIPPED | +-------------------------------+--------------------+-------------------+------------------+-------------------+-------------------------+----------------------+ | Ubuntu 22.04 | PASS | WARN | SKIPPED | SKIPPED | SKIPPED | SKIPPED | +-------------------------------+--------------------+-------------------+------------------+-------------------+-------------------------+----------------------+ | Red Hat Enterprise Linux 8.10 | PASS | SKIPPED | SKIPPED | SKIPPED | SKIPPED | SKIPPED | +-------------------------------+--------------------+-------------------+------------------+-------------------+-------------------------+----------------------+ | Ubuntu 24.04 | PASS | WARN | PASS | SKIPPED | SKIPPED | SKIPPED | +-------------------------------+--------------------+-------------------+------------------+-------------------+-------------------------+----------------------+ | Arch Linux 20250613.0.365270 | PASS | SKIPPED | SKIPPED | SKIPPED | SKIPPED | SKIPPED | +-------------------------------+--------------------+-------------------+------------------+-------------------+-------------------------+----------------------+ | Windows Server 2022 | SKIPPED | SKIPPED | SKIPPED | PASS | PASS | PASS | +-------------------------------+--------------------+-------------------+------------------+-------------------+-------------------------+----------------------+ ==== 20 line log output for Ubuntu 24.04 (dpdk_compile_spdk): ==== --- Failed to get log output --- ==== End log output ==== FreeBSD 14.2 Kernel: 14.2-RELEASE Compiler: clang 18.1.6 CentOS Stream 9 Kernel: 5.15 Compiler: gcc gcc (GCC) 11.5.0 20240719 (Red Hat 11.5.0-11) Ubuntu 20.04 Kernel: 4.19 Compiler: gcc gcc (Ubuntu 9.4.0-1ubuntu1~20.04.2) 9.4.0 Fedora Linux 42 Kernel: 5.15 Compiler: clang gcc (GCC) 15.2.1 20250808 (Red Hat 15.2.1-1) Debian GNU/Linux 12 Kernel: 5.15 Compiler: gcc gcc (Debian 12.2.0-14+deb12u1) 12.2.0 Alpine Linux 3.22.0 Kernel: 5.15 Compiler: gcc gcc (Alpine 14.2.0) 14.2.0 openSUSE Leap 15.6 Kernel: 5.15 Compiler: gcc gcc (SUSE Linux) 7.5.0 CentOS Stream 10 Kernel: 5.15 Compiler: gcc gcc (GCC) 14.2.1 20250110 (Red Hat 14.2.1-8) Red Hat Enterprise Linux 9.5 Kernel: 5.15 Compiler: gcc gcc (GCC) 11.5.0 20240719 (Red Hat 11.5.0-2) Ubuntu 22.04 Kernel: 5.15 Compiler: gcc gcc (Ubuntu 11.4.0-1ubuntu1~22.04) 11.4.0 Red Hat Enterprise Linux 8.10 Kernel: 5.15 Compiler: gcc gcc (GCC) 8.5.0 20210514 (Red Hat 8.5.0-22) Ubuntu 24.04 Kernel: 5.15 Compiler: gcc gcc (Ubuntu 13.3.0-6ubuntu2~24.04) 13.3.0 Arch Linux 20250613.0.365270 Kernel: 5.15 Compiler: gcc gcc (GCC) 15.1.1 20250425 Windows Server 2022 Kernel: 10.0.20348.2031 Compiler: clang 15.0.7, gcc 14.1.0 (MinGW), and MSVC VS 19.39.33521 To view detailed results, visit: https://lab.dpdk.org/results/dashboard/tarballs/35297/ UNH-IOL DPDK Community Lab To manage your email subscriptions, visit: https://lab.dpdk.org/results/dashboard/preferences/subscriptions/