From mboxrd@z Thu Jan 1 00:00:00 1970 Return-Path: Received: from mails.dpdk.org (mails.dpdk.org [217.70.189.124]) by inbox.dpdk.org (Postfix) with ESMTP id B896D4899C for ; Wed, 22 Oct 2025 03:27:15 +0200 (CEST) Received: from mails.dpdk.org (localhost [127.0.0.1]) by mails.dpdk.org (Postfix) with ESMTP id 98DDE402AF; Wed, 22 Oct 2025 03:27:15 +0200 (CEST) Received: from mail-qv1-f98.google.com (mail-qv1-f98.google.com [209.85.219.98]) by mails.dpdk.org (Postfix) with ESMTP id E3D03402AF for ; Wed, 22 Oct 2025 03:27:13 +0200 (CEST) Received: by mail-qv1-f98.google.com with SMTP id 6a1803df08f44-87c1f607e72so5598276d6.0 for ; Tue, 21 Oct 2025 18:27:13 -0700 (PDT) DKIM-Signature: v=1; a=rsa-sha256; c=relaxed/relaxed; d=iol.unh.edu; s=unh-iol; t=1761096433; x=1761701233; darn=dpdk.org; h=cc:to:from:subject:message-id:date:from:to:cc:subject:date :message-id:reply-to; bh=P2MQ5LsslvDUSUxUi5IOYRmmLJr8Rc9grnU+Z3Th2cw=; b=ORzRWEfxRFpvAMdiMUgyZ1XVJZOIudnFrKx/ukJrrp45e39M7/RquVgu7IxUdcKFW3 AvyqBRGMeCYuDDqnXojp8Ut07esAgwYagm74ia8u75sTolVTiPHZzKNKNcsl/4Rx5BJ/ kB4Tid1EhaQqO+PzCc2On0NO9Vj/vxr67lG2M= X-Google-DKIM-Signature: v=1; a=rsa-sha256; c=relaxed/relaxed; d=1e100.net; s=20230601; t=1761096433; x=1761701233; h=cc:to:from:subject:message-id:date:x-gm-message-state:from:to:cc :subject:date:message-id:reply-to; bh=P2MQ5LsslvDUSUxUi5IOYRmmLJr8Rc9grnU+Z3Th2cw=; b=mKdcsm1wi6tbcmu0W0nAitnKZtF3MQm+5rXXKxALKC1uFwagusrr7AsLxVWq1/KV/a RhoyT8Zv3WGo0bjmu2bhEET1RO0blLe/PbodM3BRfrloJ41aW+tbC++6B1aJNhueoUUk ZNqDTmjHm1T8KYFDCyHnxWwNv4oi4xOWQfIdAOzZFrCCINY4EwBV5gpyRos8qux4v0gx 3qsYKMY+N4SoTJug1kav1UBxPOCwkcs3BdtS7pIgLL+htFDREHl0Ty5NX0XzqY/iwfNX IWOUb4C70SR24mVoQeFhyjNr87lA+9KlWhpI1deHcXQLOJbgICqQM3fT3PotP80ORhxN Rq0Q== X-Gm-Message-State: AOJu0Yz6NNH62KPvHZIZBTGHcyAJAd3hVFjvjpBJserwZ0JEN7jmkrJJ JoL7LDlGW79oxSqMJKG2RrA/eLupfl3vURg3eheWBV1K0wsZLkUc/i/75tig1fq3mWREbM4nQtc NYOY0cmANhLNhN6s+JAC6BS9/tCI7bA3uLVorVTWoe7e/ X-Gm-Gg: ASbGncs0nnGviyFSFshiQscSAQXWC1s7V1l74bcaYp6ADtszh0ZQY9+avW0Ck0sBcyA mQWFWrlWbgE0oIlK83kuWre6B5zqs9PpoSf8sSbPUr8gvFg/k/0Lof+YyQmfCM8DR9m7wIddpmi Zueysz3f+rzPQ1H4apMG+LuG/Uq7cfMgBUH/XX23riIZ5fCuWRxBf9DcZlRDCL4FHnp4Vp7SRZS t9p+pIBeJur7N5XKISCNEhrciWdro8S7Zem17Hv08LZy9GBiwFEJdxsOcm1IcKbU0/F+enpvh00 8022NZnXCaMOHKLhxPyFZJoSa5U8LSLFVzofagLyUlpkhmaHnDOWxIq0WmSycxHE5b7T44XjRoH WvfdFQzy4SNINifpZJ5z0UW0l7aQDhic= X-Google-Smtp-Source: AGHT+IF+q2k69ze7h2oaOUj+tM8qODrzc9lqc8jU8TX95UfT1tCwijaxksuVgPwDII524nnhC2PypAzFtcEO X-Received: by 2002:ad4:5f49:0:b0:87b:b679:167b with SMTP id 6a1803df08f44-87df65a5edbmr19832986d6.33.1761096433135; Tue, 21 Oct 2025 18:27:13 -0700 (PDT) Received: from postal.iol.unh.edu (postal.iol.unh.edu. [132.177.123.84]) by smtp-relay.gmail.com with ESMTPS id 6a1803df08f44-87cf547d3f9sm14338176d6.22.2025.10.21.18.27.13 (version=TLS1_2 cipher=ECDHE-ECDSA-AES128-GCM-SHA256 bits=128/128); Tue, 21 Oct 2025 18:27:13 -0700 (PDT) X-Relaying-Domain: iol.unh.edu Date: Tue, 21 Oct 2025 18:27:13 -0700 (PDT) Message-ID: <68f832f1.050a0220.b8d5a.1fd1SMTPIN_ADDED_MISSING@mx.google.com> Received: from [172.21.0.2] (unknown [172.18.0.240]) by postal.iol.unh.edu (Postfix) with ESMTP id CC3206051830; Tue, 21 Oct 2025 21:27:12 -0400 (EDT) Subject: |SUCCESS| [GIT MASTER] ba3641decf649330e29c357a9b251dda3dbad0ee From: dpdklab@iol.unh.edu To: Test Report Cc: dpdk-test-reports@iol.unh.edu Content-Type: text/plain X-BeenThere: test-report@dpdk.org X-Mailman-Version: 2.1.29 Precedence: list List-Id: automatic DPDK test reports List-Unsubscribe: , List-Archive: List-Post: List-Help: List-Subscribe: , Errors-To: test-report-bounces@dpdk.org _Testing PASS_ Branch: dpdk ba3641decf649330e29c357a9b251dda3dbad0ee --> testing pass Upstream job id: Generic-Unit-Test-DPDK#383985 Test environment and result as below: +-------------------------------+----------------+ | Environment | dpdk_unit_test | +===============================+================+ | Fedora Linux 40 | PASS | +-------------------------------+----------------+ | CentOS Stream 9 | PASS | +-------------------------------+----------------+ | Ubuntu 22.04 | PASS | +-------------------------------+----------------+ | Ubuntu 20.04 | PASS | +-------------------------------+----------------+ | Debian GNU/Linux 12 | PASS | +-------------------------------+----------------+ | Fedora Linux 42 | PASS | +-------------------------------+----------------+ | Fedora Linux 41 | PASS | +-------------------------------+----------------+ | Ubuntu 24.04 | PASS | +-------------------------------+----------------+ | CentOS Stream 10 | PASS | +-------------------------------+----------------+ | Red Hat Enterprise Linux 8.10 | PASS | +-------------------------------+----------------+ | Windows Server 2022 | PASS | +-------------------------------+----------------+ | Arch Linux 20250613.0.365270 | PASS | +-------------------------------+----------------+ | Red Hat Enterprise Linux 9.5 | PASS | +-------------------------------+----------------+ Fedora Linux 40 Kernel: 5.15 Compiler: clang gcc (GCC) 14.2.1 20240912 (Red Hat 14.2.1-3) CentOS Stream 9 Kernel: 5.15 Compiler: gcc gcc (GCC) 11.5.0 20240719 (Red Hat 11.5.0-11) Ubuntu 22.04 Kernel: 5.15 Compiler: gcc gcc (Ubuntu 11.4.0-1ubuntu1~22.04) 11.4.0 Ubuntu 20.04 Kernel: 5.15 Compiler: gcc gcc (Ubuntu 9.4.0-1ubuntu1~20.04.2) 9.4.0 Debian GNU/Linux 12 Kernel: 5.15 Compiler: gcc gcc (Debian 12.2.0-14+deb12u1) 12.2.0 Fedora Linux 42 Kernel: 5.15 Compiler: gcc gcc (GCC) 15.2.1 20250808 (Red Hat 15.2.1-1) Fedora Linux 41 Kernel: 5.15 Compiler: gcc gcc (GCC) 14.3.1 20250523 (Red Hat 14.3.1-1) Ubuntu 24.04 Kernel: 5.15 Compiler: gcc gcc (Ubuntu 13.3.0-6ubuntu2~24.04) 13.3.0 CentOS Stream 10 Kernel: 5.15 Compiler: gcc gcc (GCC) 14.2.1 20250110 (Red Hat 14.2.1-8) Red Hat Enterprise Linux 8.10 Kernel: 5.15 Compiler: gcc gcc (GCC) 8.5.0 20210514 (Red Hat 8.5.0-22) Windows Server 2022 Kernel: 10.0.20348.2031 Compiler: clang 15.0.7, gcc 14.1.0 (MinGW), and MSVC VS 19.39.33521 Arch Linux 20250613.0.365270 Kernel: 5.15 Compiler: gcc gcc (GCC) 15.1.1 20250425 Red Hat Enterprise Linux 9.5 Kernel: 5.15 Compiler: gcc gcc (GCC) 11.5.0 20240719 (Red Hat 11.5.0-2) To view detailed results, visit: https://lab.dpdk.org/results/dashboard/tarballs/35297/ UNH-IOL DPDK Community Lab To manage your email subscriptions, visit: https://lab.dpdk.org/results/dashboard/preferences/subscriptions/