From mboxrd@z Thu Jan 1 00:00:00 1970 Return-Path: Received: from mails.dpdk.org (mails.dpdk.org [217.70.189.124]) by inbox.dpdk.org (Postfix) with ESMTP id B91BF4899E for ; Wed, 22 Oct 2025 06:06:05 +0200 (CEST) Received: from mails.dpdk.org (localhost [127.0.0.1]) by mails.dpdk.org (Postfix) with ESMTP id A02F9400D6; Wed, 22 Oct 2025 06:06:05 +0200 (CEST) Received: from mail-pj1-f97.google.com (mail-pj1-f97.google.com [209.85.216.97]) by mails.dpdk.org (Postfix) with ESMTP id 375AB400D6 for ; Wed, 22 Oct 2025 06:06:04 +0200 (CEST) Received: by mail-pj1-f97.google.com with SMTP id 98e67ed59e1d1-33bcf228ee4so5005596a91.1 for ; Tue, 21 Oct 2025 21:06:04 -0700 (PDT) DKIM-Signature: v=1; a=rsa-sha256; c=relaxed/relaxed; d=iol.unh.edu; s=unh-iol; t=1761105963; x=1761710763; darn=dpdk.org; h=cc:to:from:subject:message-id:date:from:to:cc:subject:date :message-id:reply-to; bh=ZjUE9cNkNTzkfmXtAOl4KC7J8BEpCFZjlfuindgj8qs=; b=LPyF2ncf6AumdQChTFOb1jiUTAUZjjfLfGs2zygCYB5zJg71k2yF2F6ggveEQJvo0m Ejk3Wn+KiWGaEr6eL7o4vDu0VQmY0ojcJW/bXIQRmnO/QPoi7WY+zfhYyNiOJyIEar43 Kr/tw4MXo8e1VvwrPkbtD4Vlco3hxpW/8/j0M= X-Google-DKIM-Signature: v=1; a=rsa-sha256; c=relaxed/relaxed; d=1e100.net; s=20230601; t=1761105963; x=1761710763; h=cc:to:from:subject:message-id:date:x-gm-message-state:from:to:cc :subject:date:message-id:reply-to; bh=ZjUE9cNkNTzkfmXtAOl4KC7J8BEpCFZjlfuindgj8qs=; b=R1X3LalbLG40j8JjMQqwOyz1BX8b5cFzEteKtZvQ+OIHFNe0jKeCTuho5ZB3h7UDiZ KZ0u51o0iYqe3/kedMWMeelvxJb3YLRYFrYGBLOKxBvTpxqgGRnv2r9p2oTrg+iFbUnp F7wNuMNjeh9e9F5lGdAgsQ1A5CM+2eNf6I3umAVoloDE9tSSgdBYJQ84hvdZ2h/80rd1 hzfSunwyF1rn9wHD4J64mDd4GwAWcgQBCwdy+rwuqo81s+OBmp7QsRuGDnln7srm4Shc tE5Lxb6mi37lqAJiky4citLbqtk5zzlpHPEBNbLECKOdoN4I9DJMY1DVgXCR38+ZlGco lpcw== X-Gm-Message-State: AOJu0YwM6suHOwy1u+QXUm8lrFxq6vFjNajWSV6IMzf+lnevBnhZO5Iv 9N56iXnn73TbIl3y8KLpsKBC+orLQAQbgN2O1v4T/Z2cXjzj5CIOC6BWD3XyAB7tS1ZG0uPY6no o+G1R54TS1nOrRfpMdvP7x5D7711vM495263wS3PNmzdRqKB+Kf0Yh5hVj7KN X-Gm-Gg: ASbGncudwiiRbTo1Gutj/h0ov2u1p+AaV2cJTbI1KXaoyXe5vaJ77bWGmW0OCF5Im9x 3jAegggfCrNXIyt+VMhamSBX4ULu74qoogooL/OSgQziwbWCqboVvsGbCrOPOdV6JHvrisByQiF 0pIufEqAwYJv0Sxo1D7ccebDtNoXibhiWmBCQoTzpvylx+e+kuHSf4afYFwpYGQksWMBp8YLgUT z3ITEYGxrZbLIQQFZXNJvWzIX2Vl5UEXj7B3S8zXEQEC8CoR+J2gShvqPY++IvWbtSgV2WiEkEz e1iAPiBI4nbzF0GwwtOyFMS4uIxCd0waB75DrFtylsDk0A4LYfa1OFjnDeojMiTH+s4QxXoT7n7 iUaoaqjg0 X-Google-Smtp-Source: AGHT+IHp+QW59IihLQEFnXgoaAh404ear+m27qYmzb8lwqQur0TjYWSABNWvMh1VdZ5GqDdolCTu02VTuRTL X-Received: by 2002:a17:90b:4b4b:b0:330:7a32:3290 with SMTP id 98e67ed59e1d1-33bcf939e7bmr22822282a91.37.1761105963331; Tue, 21 Oct 2025 21:06:03 -0700 (PDT) Received: from postal.iol.unh.edu (postal.iol.unh.edu. [2606:4100:3880:1234::84]) by smtp-relay.gmail.com with ESMTPS id 41be03b00d2f7-b6a766426f1sm1282506a12.1.2025.10.21.21.06.03 (version=TLS1_2 cipher=ECDHE-ECDSA-AES128-GCM-SHA256 bits=128/128); Tue, 21 Oct 2025 21:06:03 -0700 (PDT) X-Relaying-Domain: iol.unh.edu Date: Tue, 21 Oct 2025 21:06:03 -0700 (PDT) Message-ID: <68f8582b.050a0220.278ee9.e5c9SMTPIN_ADDED_MISSING@mx.google.com> Received: from [172.21.0.3] (unknown [172.18.0.240]) by postal.iol.unh.edu (Postfix) with ESMTP id 91F526051830; Wed, 22 Oct 2025 00:06:02 -0400 (EDT) Subject: |SUCCESS| [GIT MASTER] ba3641decf649330e29c357a9b251dda3dbad0ee From: dpdklab@iol.unh.edu To: Test Report Cc: dpdk-test-reports@iol.unh.edu Content-Type: text/plain X-BeenThere: test-report@dpdk.org X-Mailman-Version: 2.1.29 Precedence: list List-Id: automatic DPDK test reports List-Unsubscribe: , List-Archive: List-Post: List-Help: List-Subscribe: , Errors-To: test-report-bounces@dpdk.org _Testing PASS_ Branch: dpdk ba3641decf649330e29c357a9b251dda3dbad0ee --> testing pass Upstream job id: Generic-Unit-Test-DPDK#384010 Test environment and result as below: +------------------------------+---------------------------+------------------------------+--------------+----------------+ | Environment | cryptodev_sw_zuc_autotest | cryptodev_sw_snow3g_autotest | lpm_autotest | dpdk_unit_test | +==============================+===========================+==============================+==============+================+ | Debian 12 (arm) | PASS | PASS | SKIPPED | SKIPPED | +------------------------------+---------------------------+------------------------------+--------------+----------------+ | Ubuntu 20.04 | SKIPPED | SKIPPED | PASS | PASS | +------------------------------+---------------------------+------------------------------+--------------+----------------+ | CentOS Stream 10 | SKIPPED | SKIPPED | SKIPPED | PASS | +------------------------------+---------------------------+------------------------------+--------------+----------------+ | Fedora Linux 41 | SKIPPED | SKIPPED | SKIPPED | PASS | +------------------------------+---------------------------+------------------------------+--------------+----------------+ | Fedora Linux 40 | SKIPPED | SKIPPED | SKIPPED | PASS | +------------------------------+---------------------------+------------------------------+--------------+----------------+ | Ubuntu 22.04 | SKIPPED | SKIPPED | SKIPPED | PASS | +------------------------------+---------------------------+------------------------------+--------------+----------------+ | Ubuntu 24.04 | SKIPPED | SKIPPED | SKIPPED | PASS | +------------------------------+---------------------------+------------------------------+--------------+----------------+ | Red Hat Enterprise Linux 9.5 | SKIPPED | SKIPPED | SKIPPED | PASS | +------------------------------+---------------------------+------------------------------+--------------+----------------+ | CentOS Stream 9 | SKIPPED | SKIPPED | SKIPPED | PASS | +------------------------------+---------------------------+------------------------------+--------------+----------------+ | Fedora Linux 42 | SKIPPED | SKIPPED | SKIPPED | PASS | +------------------------------+---------------------------+------------------------------+--------------+----------------+ | Debian GNU/Linux 12 | SKIPPED | SKIPPED | SKIPPED | PASS | +------------------------------+---------------------------+------------------------------+--------------+----------------+ Debian 12 (arm) Kernel: Depends on container host Compiler: gcc (Debian 12.2.0-14) 12.2.0 Ubuntu 20.04 Kernel: 5.4 Compiler: gcc gcc (Ubuntu 9.4.0-1ubuntu1~20.04.2) 9.4.0 CentOS Stream 10 Kernel: 5.4 Compiler: gcc gcc (GCC) 14.2.1 20250110 (Red Hat 14.2.1-8) Fedora Linux 41 Kernel: 5.4 Compiler: clang gcc (GCC) 14.3.1 20250523 (Red Hat 14.3.1-1) Fedora Linux 40 Kernel: 5.4 Compiler: clang gcc (GCC) 14.2.1 20240912 (Red Hat 14.2.1-3) Ubuntu 22.04 Kernel: 5.15 Compiler: gcc gcc (Ubuntu 11.4.0-1ubuntu1~22.04.2) 11.4.0 Ubuntu 24.04 Kernel: 5.4 Compiler: gcc gcc (Ubuntu 13.3.0-6ubuntu2~24.04) 13.3.0 Red Hat Enterprise Linux 9.5 Kernel: 5.4 Compiler: gcc gcc (GCC) 11.5.0 20240719 (Red Hat 11.5.0-2) CentOS Stream 9 Kernel: 5.4 Compiler: gcc gcc (GCC) 11.5.0 20240719 (Red Hat 11.5.0-11) Fedora Linux 42 Kernel: 5.4 Compiler: gcc gcc (GCC) 15.2.1 20250808 (Red Hat 15.2.1-1) Debian GNU/Linux 12 Kernel: 5.4 Compiler: gcc gcc (Debian 12.2.0-14+deb12u1) 12.2.0 To view detailed results, visit: https://lab.dpdk.org/results/dashboard/tarballs/35297/ UNH-IOL DPDK Community Lab To manage your email subscriptions, visit: https://lab.dpdk.org/results/dashboard/preferences/subscriptions/