From mboxrd@z Thu Jan 1 00:00:00 1970 Return-Path: Received: from mails.dpdk.org (mails.dpdk.org [217.70.189.124]) by inbox.dpdk.org (Postfix) with ESMTP id 369294899E for ; Wed, 22 Oct 2025 07:26:49 +0200 (CEST) Received: from mails.dpdk.org (localhost [127.0.0.1]) by mails.dpdk.org (Postfix) with ESMTP id 18932400D6; Wed, 22 Oct 2025 07:26:49 +0200 (CEST) Received: from mail-qv1-f97.google.com (mail-qv1-f97.google.com [209.85.219.97]) by mails.dpdk.org (Postfix) with ESMTP id 482F0400D6 for ; Wed, 22 Oct 2025 07:26:47 +0200 (CEST) Received: by mail-qv1-f97.google.com with SMTP id 6a1803df08f44-81fdd5d7b59so88269106d6.3 for ; Tue, 21 Oct 2025 22:26:47 -0700 (PDT) DKIM-Signature: v=1; a=rsa-sha256; c=relaxed/relaxed; d=iol.unh.edu; s=unh-iol; t=1761110807; x=1761715607; darn=dpdk.org; h=cc:to:from:subject:message-id:date:from:to:cc:subject:date :message-id:reply-to; bh=QTBriapFlDjd4Wkx/EqaYH0BOyhyT9zPORGckRc4HoI=; b=YfVualtT0FdsSjac9aGhfuERO3fafqXv60FiWF0oDM39fqPew6WPAqgZeySXRbNPLG bWbl5hf84r9j1rcY47vn0GKuDtniw0UQzsyr2HkTMmLQIDt2jhOc0+kEwlLcqAxupk3r boOYm4GTpMPbkt9jnaK0YUDgzznq7S05wn9PA= X-Google-DKIM-Signature: v=1; a=rsa-sha256; c=relaxed/relaxed; d=1e100.net; s=20230601; t=1761110807; x=1761715607; h=cc:to:from:subject:message-id:date:x-gm-message-state:from:to:cc :subject:date:message-id:reply-to; bh=QTBriapFlDjd4Wkx/EqaYH0BOyhyT9zPORGckRc4HoI=; b=wqpOUgh6oivryXM8mSs520ig0tnNZQrGV5PWSOg/2mfyY9VGjaUO61kIrxz7XoM+Sc ooC7h9YDGhXQI87bw/m4ZDh5HAi6JjUMYIDxjzZzr9jGE/bYlBSYE5nsFsCaWj5YpXoe DRQD1tkv4QCSXWJPS2iDR6O80Lr1U0lQlWsKDbo+ABCu21dOJwgwTy0qqrTfP2Am0x0i vBstLmRaz7U4KY04KdIWLLj50qoMXowmw/ysNpJLi/s6Xy9RCU4eoKSHE/PYGdnxwke8 nka7sWfkFA0C4QGdYrk/rG7hNSDMtfJzrSN+LdCgOKdYjraLceQP8G5/AXzQiEPCl5Xu cmaQ== X-Gm-Message-State: AOJu0YyzoikjD50AZCjz7nbo6+Vz12DYQ7uZDgPsqXWStxeNwOQ+e3fk 3TdJzDtpaOw4NGRNuUOoRtVNyIW/wjNS0DF9dJJJWzmsqVEc0fEPlUx3ls/jd7Ix5knao8lBDcE oGSUbQFesXJ/AQww3mC/ykwiOuYoVID5Q5nBS X-Gm-Gg: ASbGncsT0fOFx9IuTtjVzdWhMd/4/MljbgO+zufW5ywFvOO8KEfTk8XCch3pFtWJPxd d/FtoAX5wZUEeJmt92eoFMZed6Mkh3zkr/7Ws1EMHxs8cETdT1Rex+eRzTfwqGklWs2l13uL2uU Tn74od3ejAhjz+oP4lEtlytQ9YGQf/P5L+BFqqcd6ODOk7Yj7mflMiDTh+DX44pqePrB+hangYq Au5UaMlMZca+MW2j00SNMoLZZbjn8m1GjrR44gDD+T095XYKhDwkmtFMchqVqRjQ8C3Dr10Uoyy D1cAf7Aguw9oqFGdWzb9NXcdcthmWSbWl988XYfqGDCu3wDBgQEe/DKCsjBI82B++qVSEv+6MGU LIqPZRiXiV+gD/2WgbiOiWDPYrXk1+GE= X-Google-Smtp-Source: AGHT+IFpuSgmH2Vmy/P9ai96+P2rzI39U7uphTyThjOJdDsdbyLywGVT6nRpaQQeFMTGb5QIO4CwcKyE8/3U X-Received: by 2002:a05:6214:2505:b0:87c:165d:bccb with SMTP id 6a1803df08f44-87c205664ffmr255883246d6.16.1761110807375; Tue, 21 Oct 2025 22:26:47 -0700 (PDT) Received: from postal.iol.unh.edu (postal.iol.unh.edu. [132.177.123.84]) by smtp-relay.gmail.com with ESMTPS id 6a1803df08f44-87cf54cbeabsm14919696d6.32.2025.10.21.22.26.47 (version=TLS1_2 cipher=ECDHE-ECDSA-AES128-GCM-SHA256 bits=128/128); Tue, 21 Oct 2025 22:26:47 -0700 (PDT) X-Relaying-Domain: iol.unh.edu Date: Tue, 21 Oct 2025 22:26:47 -0700 (PDT) Message-ID: <68f86b17.d40a0220.2c7e34.4b9cSMTPIN_ADDED_MISSING@mx.google.com> Received: from [172.21.0.2] (unknown [172.18.0.240]) by postal.iol.unh.edu (Postfix) with ESMTP id 19D246051830; Wed, 22 Oct 2025 01:26:47 -0400 (EDT) Subject: |SUCCESS| [GIT MASTER] 3b43ce3f4a54468e7ef65760c2fd7b4d6ee6d9fc From: dpdklab@iol.unh.edu To: Test Report Cc: dpdk-test-reports@iol.unh.edu, Xueming Li , Christian Ehrhardt , Kevin Traynor , Luca Boccassi Content-Type: text/plain X-BeenThere: test-report@dpdk.org X-Mailman-Version: 2.1.29 Precedence: list List-Id: automatic DPDK test reports List-Unsubscribe: , List-Archive: List-Post: List-Help: List-Subscribe: , Errors-To: test-report-bounces@dpdk.org _Testing PASS_ Branch: tags/v22.11 3b43ce3f4a54468e7ef65760c2fd7b4d6ee6d9fc --> testing pass Upstream job id: Generic-Unit-Test-DPDK#384044 Test environment and result as below: +-----------------+------------------------------+--------------+---------------------------+----------------+ | Environment | cryptodev_sw_snow3g_autotest | lpm_autotest | cryptodev_sw_zuc_autotest | dpdk_unit_test | +=================+==============================+==============+===========================+================+ | Debian 12 (arm) | PASS | SKIPPED | PASS | SKIPPED | +-----------------+------------------------------+--------------+---------------------------+----------------+ | Ubuntu 20.04 | SKIPPED | PASS | SKIPPED | SKIPPED | +-----------------+------------------------------+--------------+---------------------------+----------------+ | Ubuntu 22.04 | SKIPPED | SKIPPED | SKIPPED | PASS | +-----------------+------------------------------+--------------+---------------------------+----------------+ Debian 12 (arm) Kernel: Depends on container host Compiler: gcc (Debian 12.2.0-14) 12.2.0 Ubuntu 20.04 Kernel: 5.4 Compiler: gcc gcc (Ubuntu 9.4.0-1ubuntu1~20.04.2) 9.4.0 Ubuntu 22.04 Kernel: 5.15 Compiler: gcc gcc (Ubuntu 11.4.0-1ubuntu1~22.04.2) 11.4.0 To view detailed results, visit: https://lab.dpdk.org/results/dashboard/tarballs/35298/ UNH-IOL DPDK Community Lab To manage your email subscriptions, visit: https://lab.dpdk.org/results/dashboard/preferences/subscriptions/