From mboxrd@z Thu Jan 1 00:00:00 1970 Return-Path: Received: from mails.dpdk.org (mails.dpdk.org [217.70.189.124]) by inbox.dpdk.org (Postfix) with ESMTP id 7B8D64899E for ; Wed, 22 Oct 2025 07:40:16 +0200 (CEST) Received: from mails.dpdk.org (localhost [127.0.0.1]) by mails.dpdk.org (Postfix) with ESMTP id 65BBA400D6; Wed, 22 Oct 2025 07:40:16 +0200 (CEST) Received: from mail-pl1-f227.google.com (mail-pl1-f227.google.com [209.85.214.227]) by mails.dpdk.org (Postfix) with ESMTP id 155CF400D6 for ; Wed, 22 Oct 2025 07:40:15 +0200 (CEST) Received: by mail-pl1-f227.google.com with SMTP id d9443c01a7336-27c369f898fso91674065ad.3 for ; Tue, 21 Oct 2025 22:40:14 -0700 (PDT) DKIM-Signature: v=1; a=rsa-sha256; c=relaxed/relaxed; d=iol.unh.edu; s=unh-iol; t=1761111614; x=1761716414; darn=dpdk.org; h=cc:to:from:subject:message-id:date:from:to:cc:subject:date :message-id:reply-to; bh=xDCPsNrNg32Npq10SxqtMAK0xklelDi6xH/69F2RESU=; b=Jgmn8XG712jpDeY1nydtezRuDJmB2XIECo2AvRX+wAO4xGV3OWnhDxR3JZdnosYwDG Ry8Sja6FbZJT8rdg1ziBo3kctuVubdI4xXu+frHtelBnd+5RM8fagAy1o9591kzbOPyC mYgetXH6i8a+c3c6f20PUuOKr45ZGcR2SLOfQ= X-Google-DKIM-Signature: v=1; a=rsa-sha256; c=relaxed/relaxed; d=1e100.net; s=20230601; t=1761111614; x=1761716414; h=cc:to:from:subject:message-id:date:x-gm-message-state:from:to:cc :subject:date:message-id:reply-to; bh=xDCPsNrNg32Npq10SxqtMAK0xklelDi6xH/69F2RESU=; b=EZF2m7xdiAymQv8Nu6YlSSy4Tb/bP9grh+cx7rNJQK/8Aln2gsgG5ZqcR5Wi36OLC3 /fRC1xSqUo6bjk7XoXZKyTVwYhUiezuvewnZ788xo9K6eDQThehShZgVaAw/oOMTDjGu KoxnrWzljz3lYBm37zKFLt/VzjUFiCOhjkg5a+dXiuiRKr20H3mwjzErxD3rqhTrR7H3 y427NtsuC7eKSmmX9IDNwnplRHgXpkwA3hdXSJU8CDSLVxZDMCUnC3/dTqzEvtTOPf9v Jh/2OonRXrlNX1lLAthwuVqq80I1pe70oF0z0fgITzWudRnrQh60OOlkcqh/XW3rfzv1 mJ4Q== X-Gm-Message-State: AOJu0YxM5yA/J7P2XUPRrQnKQQJkpgOgEtQVKGvukAAnjhjpnYxlzFTp R3VWfUxAenlhQN5WLluTJzct/pUR0E9bQu7mWsdile+YDs68mpXIKJMfjkb1whEzfizmEt+z4aD ZH7SDaBvVAKskZ/JpVJqP8cEYZ2Ne/XrImkql X-Gm-Gg: ASbGnctRVSQM/646ODTxhBohAPY7a4x6JTTKucWoMB0FZpaaXiSCNTicf5R9mTrE5ho yCMj/jZvR1tabAQscP7P5+4tJg7Vs/T2kkUraFUdgKoIxEniPRQiKmJ55L5BJTCXlI2GiJCeQWN Or49sljmy6f2fytcuHzOmnBKzKltGwhKnmYyyWk4zoPQpeVmDSu1HOMERNBtTaR+Hc9bfsoETBY 8iiuK1RzwTPrDnNLRW2NIgHn2Rja5HaARaC1B6uxnDNAGmKk2cUyfPJX1ykz5kiUw1Q4puKJt9g r4xEP3ga4DInDrHpRWbvkxLv+qHRq+7is/W5RWhYEBZImI+vaVZOov5E/7c+yHbYsXdcGoGzFh6 8itvcOX08AzSzg9C0tjATARTCnHGpcpo= X-Google-Smtp-Source: AGHT+IHuZsRm48e/nlTwJTEXCPS0vxgufMUUvkmFpXsxFD25dEZboIimAbDy1yFILHUQOPIkzbCqsWVdxIGP X-Received: by 2002:a17:902:e88e:b0:24c:da3b:7376 with SMTP id d9443c01a7336-290c9ce6464mr260089855ad.26.1761111614204; Tue, 21 Oct 2025 22:40:14 -0700 (PDT) Received: from postal.iol.unh.edu (postal.iol.unh.edu. [132.177.123.84]) by smtp-relay.gmail.com with ESMTPS id d9443c01a7336-292471c5aa6sm15008275ad.32.2025.10.21.22.40.14 (version=TLS1_2 cipher=ECDHE-ECDSA-AES128-GCM-SHA256 bits=128/128); Tue, 21 Oct 2025 22:40:14 -0700 (PDT) X-Relaying-Domain: iol.unh.edu Date: Tue, 21 Oct 2025 22:40:14 -0700 (PDT) Message-ID: <68f86e3e.170a0220.2314a3.682cSMTPIN_ADDED_MISSING@mx.google.com> Received: from [172.21.0.2] (unknown [172.18.0.240]) by postal.iol.unh.edu (Postfix) with ESMTP id 5B68B6051830; Wed, 22 Oct 2025 01:40:13 -0400 (EDT) Subject: |SUCCESS| [GIT MASTER] 3b43ce3f4a54468e7ef65760c2fd7b4d6ee6d9fc From: dpdklab@iol.unh.edu To: Test Report Cc: dpdk-test-reports@iol.unh.edu, Xueming Li , Christian Ehrhardt , Kevin Traynor , Luca Boccassi Content-Type: text/plain X-BeenThere: test-report@dpdk.org X-Mailman-Version: 2.1.29 Precedence: list List-Id: automatic DPDK test reports List-Unsubscribe: , List-Archive: List-Post: List-Help: List-Subscribe: , Errors-To: test-report-bounces@dpdk.org _Testing PASS_ Branch: tags/v22.11 3b43ce3f4a54468e7ef65760c2fd7b4d6ee6d9fc --> testing pass Upstream job id: Generic-DPDK-Compile-Meson#436662 Test environment and result as below: +-------------------------------+--------------------+-------------------------+----------------------+ | Environment | dpdk_meson_compile | dpdk_llvm_clang_compile | dpdk_mingw64_compile | +===============================+====================+=========================+======================+ | FreeBSD 14.2 | PASS | SKIPPED | SKIPPED | +-------------------------------+--------------------+-------------------------+----------------------+ | Ubuntu 20.04 | PASS | SKIPPED | SKIPPED | +-------------------------------+--------------------+-------------------------+----------------------+ | CentOS Stream 10 | PASS | SKIPPED | SKIPPED | +-------------------------------+--------------------+-------------------------+----------------------+ | CentOS Stream 9 | PASS | SKIPPED | SKIPPED | +-------------------------------+--------------------+-------------------------+----------------------+ | Debian GNU/Linux 12 | PASS | SKIPPED | SKIPPED | +-------------------------------+--------------------+-------------------------+----------------------+ | Ubuntu 24.04 | PASS | SKIPPED | SKIPPED | +-------------------------------+--------------------+-------------------------+----------------------+ | Ubuntu 22.04 | PASS | SKIPPED | SKIPPED | +-------------------------------+--------------------+-------------------------+----------------------+ | Fedora Linux 42 | PASS | SKIPPED | SKIPPED | +-------------------------------+--------------------+-------------------------+----------------------+ | Red Hat Enterprise Linux 8.10 | PASS | SKIPPED | SKIPPED | +-------------------------------+--------------------+-------------------------+----------------------+ | openSUSE Leap 15.6 | PASS | SKIPPED | SKIPPED | +-------------------------------+--------------------+-------------------------+----------------------+ | Red Hat Enterprise Linux 9.5 | PASS | SKIPPED | SKIPPED | +-------------------------------+--------------------+-------------------------+----------------------+ | Windows Server 2022 | SKIPPED | PASS | PASS | +-------------------------------+--------------------+-------------------------+----------------------+ FreeBSD 14.2 Kernel: 14.2-RELEASE Compiler: clang 18.1.6 Ubuntu 20.04 Kernel: 4.19 Compiler: gcc gcc (Ubuntu 9.4.0-1ubuntu1~20.04.2) 9.4.0 CentOS Stream 10 Kernel: 5.15 Compiler: gcc gcc (GCC) 14.2.1 20250110 (Red Hat 14.2.1-8) CentOS Stream 9 Kernel: 5.15 Compiler: gcc gcc (GCC) 11.5.0 20240719 (Red Hat 11.5.0-11) Debian GNU/Linux 12 Kernel: 5.15 Compiler: gcc gcc (Debian 12.2.0-14+deb12u1) 12.2.0 Ubuntu 24.04 Kernel: 5.15 Compiler: gcc gcc (Ubuntu 13.3.0-6ubuntu2~24.04) 13.3.0 Ubuntu 22.04 Kernel: 5.15 Compiler: gcc gcc (Ubuntu 11.4.0-1ubuntu1~22.04) 11.4.0 Fedora Linux 42 Kernel: 5.15 Compiler: clang gcc (GCC) 15.2.1 20250808 (Red Hat 15.2.1-1) Red Hat Enterprise Linux 8.10 Kernel: 5.15 Compiler: gcc gcc (GCC) 8.5.0 20210514 (Red Hat 8.5.0-22) openSUSE Leap 15.6 Kernel: 5.15 Compiler: gcc gcc (SUSE Linux) 7.5.0 Red Hat Enterprise Linux 9.5 Kernel: 5.15 Compiler: gcc gcc (GCC) 11.5.0 20240719 (Red Hat 11.5.0-2) Windows Server 2022 Kernel: 10.0.20348.2031 Compiler: clang 15.0.7, gcc 14.1.0 (MinGW), and MSVC VS 19.39.33521 To view detailed results, visit: https://lab.dpdk.org/results/dashboard/tarballs/35298/ UNH-IOL DPDK Community Lab To manage your email subscriptions, visit: https://lab.dpdk.org/results/dashboard/preferences/subscriptions/