From mboxrd@z Thu Jan 1 00:00:00 1970 Return-Path: Received: from mails.dpdk.org (mails.dpdk.org [217.70.189.124]) by inbox.dpdk.org (Postfix) with ESMTP id 8F2AB4899E for ; Wed, 22 Oct 2025 07:53:23 +0200 (CEST) Received: from mails.dpdk.org (localhost [127.0.0.1]) by mails.dpdk.org (Postfix) with ESMTP id 89FC3400D6; Wed, 22 Oct 2025 07:53:23 +0200 (CEST) Received: from mail-vk1-f226.google.com (mail-vk1-f226.google.com [209.85.221.226]) by mails.dpdk.org (Postfix) with ESMTP id 53F38400D6 for ; Wed, 22 Oct 2025 07:53:22 +0200 (CEST) Received: by mail-vk1-f226.google.com with SMTP id 71dfb90a1353d-54aa4b86b09so2800446e0c.0 for ; Tue, 21 Oct 2025 22:53:22 -0700 (PDT) DKIM-Signature: v=1; a=rsa-sha256; c=relaxed/relaxed; d=iol.unh.edu; s=unh-iol; t=1761112401; x=1761717201; darn=dpdk.org; h=cc:to:from:subject:message-id:date:from:to:cc:subject:date :message-id:reply-to; bh=zM8QmHVXJG7fKSZA8oUxnl5Z/wD1iowAiu8DHmRVTpE=; b=TYFL7m7AU+VXuONu5RugiyQN7OPlHDqM9sHJhEcGdjVqI3xAGojLochq9cyZnLc3iM VarifAQWQbuDIcrBqY3YjiXMr9NUBQbG2+1vS8iByd1FuD+ZVkj3ylWO2XnicQadOU5J g5bvZYeyWxSo3ysb1S9G3vrEsbwGNFrEjjXdQ= X-Google-DKIM-Signature: v=1; a=rsa-sha256; c=relaxed/relaxed; d=1e100.net; s=20230601; t=1761112401; x=1761717201; h=cc:to:from:subject:message-id:date:x-gm-message-state:from:to:cc :subject:date:message-id:reply-to; bh=zM8QmHVXJG7fKSZA8oUxnl5Z/wD1iowAiu8DHmRVTpE=; b=GlerdeiHTDRCyd/gXXAkpcYkyPRQjibOdD8zX1rQWoQ9cJ24+cQB1AxH0Fs67/CZbF qvhbqWYiydK0xP4H0ASaHreYoDHOkzhrwjPfAWcAVffyuSgYyPoEJCsA2EKkBcpLi/OU 1WTkuLQHn9f3ZzXQHhnJZs+tcLOoBwcWB+xUsSptAx2az9SJCnVdbpeqjKZawCKRcM/y RB3kj2Xa3vKbzE7MiMLjXffH8L9r5vIKEKgznl6q1r7/n22LUavpVdNmGXDmtb3GvZ2g yCf2wdIakYaL5D+5/rsVyGBIeusTMsllSni32ZBf05GZNRSG/8ZBdkCAqvMRb9dvoLMm +07g== X-Gm-Message-State: AOJu0YzuQ6TnqYh/KpuwuvAq4XSy/ISGUAlFEcDie6g6NsRJOqGZU7xz SRcfqlmUcu8yQw6o+1NQO8MQMeGIhUI7DXT18KDD1sFmxyxykMTpz2daZcOBdaPwcmO6Fo8PGaZ MYGIzjXk855A4V7N+UFNFNXJpbbKyxAjcJ84EaJQLKawX+DWJWa5CUlHWcnYm X-Gm-Gg: ASbGncsTSZqAsCXDMZYZBSeBtqXj2HR0eH8v8EXGUIauQsQS/9CY9w8/LJ9APrJmiKu nNIHiBVNB3fto0Wzq16pVM8IxdMOObv7IZ7dijZkveFaS9VflveXeSj5cuQc8gcVGx/eJ1uhFhs j/T/ltKsZyK4szLEx2TjanvzvyN1WiTyVk2BCg3tFbnER1ZYXhu7GnWU9zp2c2yXtMCNw8lNWJ2 j8V0pRe8WTvm8MD9g/Ht9u0QtG7G6FW+lqiViKBrZ8kqKSIG6beOSlQNbiU8QiAzqwnI8lSDUil FNqyufIXRhwPsS7ZzqmwQ6/ASaBKr/P6ZSzRNfO3MK0p0r9SDSr8W+UlmKCGO/CNOSpyzeNIgET DyVopi9RN X-Google-Smtp-Source: AGHT+IGhTxCEGK6kiCS8jiS7yg/uTguMknKNdvRe36747nL3ZLRPgSFg9+1YAlS9kWkyzAoG5Hp/kOYhP7kP X-Received: by 2002:a05:6122:1d13:b0:54b:bea6:a226 with SMTP id 71dfb90a1353d-5564ee6bfe3mr5025191e0c.11.1761112401701; Tue, 21 Oct 2025 22:53:21 -0700 (PDT) Received: from postal.iol.unh.edu (postal.iol.unh.edu. [2606:4100:3880:1234::84]) by smtp-relay.gmail.com with ESMTPS id 71dfb90a1353d-55661f4b979sm1609053e0c.2.2025.10.21.22.53.21 (version=TLS1_2 cipher=ECDHE-ECDSA-AES128-GCM-SHA256 bits=128/128); Tue, 21 Oct 2025 22:53:21 -0700 (PDT) X-Relaying-Domain: iol.unh.edu Date: Tue, 21 Oct 2025 22:53:21 -0700 (PDT) Message-ID: <68f87151.050a0220.6d716.92f7SMTPIN_ADDED_MISSING@mx.google.com> Received: from [172.21.0.2] (unknown [172.18.0.240]) by postal.iol.unh.edu (Postfix) with ESMTP id 68D9C6051830; Wed, 22 Oct 2025 01:53:21 -0400 (EDT) Subject: |SUCCESS| [GIT MASTER] ba3641decf649330e29c357a9b251dda3dbad0ee From: dpdklab@iol.unh.edu To: Test Report Cc: dpdk-test-reports@iol.unh.edu Content-Type: text/plain X-BeenThere: test-report@dpdk.org X-Mailman-Version: 2.1.29 Precedence: list List-Id: automatic DPDK test reports List-Unsubscribe: , List-Archive: List-Post: List-Help: List-Subscribe: , Errors-To: test-report-bounces@dpdk.org _Testing PASS_ Branch: dpdk ba3641decf649330e29c357a9b251dda3dbad0ee --> testing pass Upstream job id: Generic-DPDK-Compile-Meson#436632 Test environment and result as below: +------------------------------+--------------------+ | Environment | dpdk_meson_compile | +==============================+====================+ | Ubuntu 20.04 | PASS | +------------------------------+--------------------+ | Red Hat Enterprise Linux 9.5 | PASS | +------------------------------+--------------------+ | Debian GNU/Linux 12 | PASS | +------------------------------+--------------------+ | Fedora Linux 42 | PASS | +------------------------------+--------------------+ | Ubuntu 22.04 | PASS | +------------------------------+--------------------+ | Ubuntu 24.04 | PASS | +------------------------------+--------------------+ | CentOS Stream 9 | PASS | +------------------------------+--------------------+ | CentOS Stream 10 | PASS | +------------------------------+--------------------+ Ubuntu 20.04 Kernel: 5.4 Compiler: gcc gcc (Ubuntu 9.4.0-1ubuntu1~20.04.2) 9.4.0 Red Hat Enterprise Linux 9.5 Kernel: 5.4 Compiler: gcc gcc (GCC) 11.5.0 20240719 (Red Hat 11.5.0-2) Debian GNU/Linux 12 Kernel: 5.4 Compiler: gcc gcc (Debian 12.2.0-14+deb12u1) 12.2.0 Fedora Linux 42 Kernel: 5.4 Compiler: gcc gcc (GCC) 15.2.1 20250808 (Red Hat 15.2.1-1) Ubuntu 22.04 Kernel: 5.4 Compiler: gcc gcc (Ubuntu 11.4.0-1ubuntu1~22.04) 11.4.0 Ubuntu 24.04 Kernel: 5.4 Compiler: gcc gcc (Ubuntu 13.3.0-6ubuntu2~24.04) 13.3.0 CentOS Stream 9 Kernel: 5.4 Compiler: gcc gcc (GCC) 11.5.0 20240719 (Red Hat 11.5.0-11) CentOS Stream 10 Kernel: 5.4 Compiler: gcc gcc (GCC) 14.2.1 20250110 (Red Hat 14.2.1-8) To view detailed results, visit: https://lab.dpdk.org/results/dashboard/tarballs/35297/ UNH-IOL DPDK Community Lab To manage your email subscriptions, visit: https://lab.dpdk.org/results/dashboard/preferences/subscriptions/