From mboxrd@z Thu Jan 1 00:00:00 1970 Return-Path: Received: from mails.dpdk.org (mails.dpdk.org [217.70.189.124]) by inbox.dpdk.org (Postfix) with ESMTP id 01AA3489A1 for ; Wed, 22 Oct 2025 08:20:58 +0200 (CEST) Received: from mails.dpdk.org (localhost [127.0.0.1]) by mails.dpdk.org (Postfix) with ESMTP id D634E400D6; Wed, 22 Oct 2025 08:20:58 +0200 (CEST) Received: from mail-il1-f227.google.com (mail-il1-f227.google.com [209.85.166.227]) by mails.dpdk.org (Postfix) with ESMTP id 50704400D6 for ; Wed, 22 Oct 2025 08:20:57 +0200 (CEST) Received: by mail-il1-f227.google.com with SMTP id e9e14a558f8ab-430e1f19a1aso3247095ab.1 for ; Tue, 21 Oct 2025 23:20:57 -0700 (PDT) DKIM-Signature: v=1; a=rsa-sha256; c=relaxed/relaxed; d=iol.unh.edu; s=unh-iol; t=1761114056; x=1761718856; darn=dpdk.org; h=cc:to:from:subject:message-id:date:from:to:cc:subject:date :message-id:reply-to; bh=8PEC5mCMeDQ+PQdVKrueRHPJUW7lEmK5GC9RgQqwZ+o=; b=bWbUJV9OmDDPOZmIYqYK9v3eZ7QnBJaHGrNIOojfTZnJTa3c1ArYRzGWkSTdvmkVZ1 OeonC29myw60pAzboLjuBheLpmK8aFue9G605p8RBQv1JnQvQW6StKvzr+a7VqwoabQk sE+yP0eulVyfG0OCJhW7a824Qw47uByzutcRI= X-Google-DKIM-Signature: v=1; a=rsa-sha256; c=relaxed/relaxed; d=1e100.net; s=20230601; t=1761114056; x=1761718856; h=cc:to:from:subject:message-id:date:x-gm-message-state:from:to:cc :subject:date:message-id:reply-to; bh=8PEC5mCMeDQ+PQdVKrueRHPJUW7lEmK5GC9RgQqwZ+o=; b=W/LlhKXFP1MP3Es2LvhaN2lG9cL9glM4XMp4C/sKjDv3Z3k2lhfWHaqRqeBM5cCi4+ PjnkHof8iC+ywZXdysQcX2/xaf2sSSDPjMHIzarxxkf2f7eD+E7OhRfPMiZNgUNNGp3N vLpj9A2bllKEc64QWoeV5TLl4n8sMwipgs3CNXYbyfo0Ae5EwSOTQuNVZqDTVFy/hT+a dojrSq4jkPXXp8s8HGSQ0tD2diX/Xi9Taoa56zCFRe3KB1uu4+HYxTuJ9Af5yoOM6jv1 pVMgqF6nmMR89rhKdOzQcId8O/3fcsS7KMnG/GuCfPh9cUxhoJRJ9cpe/WovbLjNiVDJ POYQ== X-Gm-Message-State: AOJu0Yydc3HydSbzX89h4Gn4JVyACpnWccFGyAPqKViej80xKM9NseBu fzRL9Bjpjw7h4xm2zhSsJxRgnPBhPec+sqBGogoVTO43599WYbQCm1YyQ+2SHKCsevjcD7yUdBN 9K4xaqefSNeopX2/qYpLpyaIajJ3IAt4MjfkGunytPoju8eT2O7VO X-Gm-Gg: ASbGncs8s2ZGCTH9h5uwFAzdCLnDRq5cwQkZVc0r+3OVEsQaJaogGv7cnTkf370//hG 0Owkl7l0fKljWGLh7oJJpcY4+hT/4WNU6efgj76jQiT+Y06DN5YSumHn5cpPrQ7+dEJ7jcnuggJ m9RxR+1g7b0W8vtrda2yTuF0oXpSit6aNUUbi91/GbrqC6AUQYWcCJ+crr2fLpbwjWRf+dtUd8c ZGasG5yeKUsP0FRVwmD86K/Izk+QAmwVspbZzyCG000kHTVmN3R3BBnVV0VNbvzeDzsvHnEMFnJ ACBcGElUpe+BiQEYjCKJKcLP1vExkdCUtwn3N0bPDjTlQpd8ZJH7sZCD2CccyEjVOp2V6XNvTQ7 17kDMGCUg X-Google-Smtp-Source: AGHT+IEpH7Q5TUlyO2ETNEaJgFrDUdg8DTr/inISryKKekJVvdO1OC2AHJs7pUBhd/swlHVT0dJJezMoaiHa X-Received: by 2002:a05:6e02:2148:b0:42f:8bdd:6e9c with SMTP id e9e14a558f8ab-431d32db6dfmr32129265ab.14.1761114056540; Tue, 21 Oct 2025 23:20:56 -0700 (PDT) Received: from postal.iol.unh.edu (postal.iol.unh.edu. [2606:4100:3880:1234::84]) by smtp-relay.gmail.com with ESMTPS id e9e14a558f8ab-430d07ca1d1sm13378625ab.31.2025.10.21.23.20.56 (version=TLS1_2 cipher=ECDHE-ECDSA-AES128-GCM-SHA256 bits=128/128); Tue, 21 Oct 2025 23:20:56 -0700 (PDT) X-Relaying-Domain: iol.unh.edu Date: Tue, 21 Oct 2025 23:20:56 -0700 (PDT) Message-ID: <68f877c8.050a0220.47240.0ef9SMTPIN_ADDED_MISSING@mx.google.com> Received: from [172.21.0.2] (unknown [172.18.0.240]) by postal.iol.unh.edu (Postfix) with ESMTP id 23EEF6051830; Wed, 22 Oct 2025 02:20:56 -0400 (EDT) Subject: |SUCCESS| [GIT MASTER] b287e404643aeab5bb5db084c142789df187844e From: dpdklab@iol.unh.edu To: Test Report Cc: dpdk-test-reports@iol.unh.edu, Xueming Li , Christian Ehrhardt , Kevin Traynor , Luca Boccassi Content-Type: text/plain X-BeenThere: test-report@dpdk.org X-Mailman-Version: 2.1.29 Precedence: list List-Id: automatic DPDK test reports List-Unsubscribe: , List-Archive: List-Post: List-Help: List-Subscribe: , Errors-To: test-report-bounces@dpdk.org _Testing PASS_ Branch: tags/v24.11 b287e404643aeab5bb5db084c142789df187844e --> testing pass Upstream job id: Generic-DPDK-Compile-Meson#436705 Test environment and result as below: +-------------------------------+--------------------+-------------------+------------------+-------------------+-------------------------+----------------------+ | Environment | dpdk_meson_compile | dpdk_compile_spdk | dpdk_compile_ovs | dpdk_msvc_compile | dpdk_llvm_clang_compile | dpdk_mingw64_compile | +===============================+====================+===================+==================+===================+=========================+======================+ | Debian GNU/Linux 12 | PASS | PASS | SKIPPED | SKIPPED | SKIPPED | SKIPPED | +-------------------------------+--------------------+-------------------+------------------+-------------------+-------------------------+----------------------+ | CentOS Stream 9 | PASS | PASS | SKIPPED | SKIPPED | SKIPPED | SKIPPED | +-------------------------------+--------------------+-------------------+------------------+-------------------+-------------------------+----------------------+ | CentOS Stream 10 | PASS | SKIPPED | SKIPPED | SKIPPED | SKIPPED | SKIPPED | +-------------------------------+--------------------+-------------------+------------------+-------------------+-------------------------+----------------------+ | Red Hat Enterprise Linux 9.5 | PASS | SKIPPED | SKIPPED | SKIPPED | SKIPPED | SKIPPED | +-------------------------------+--------------------+-------------------+------------------+-------------------+-------------------------+----------------------+ | Fedora Linux 42 | PASS | PASS | PASS | SKIPPED | SKIPPED | SKIPPED | +-------------------------------+--------------------+-------------------+------------------+-------------------+-------------------------+----------------------+ | openSUSE Leap 15.6 | PASS | SKIPPED | SKIPPED | SKIPPED | SKIPPED | SKIPPED | +-------------------------------+--------------------+-------------------+------------------+-------------------+-------------------------+----------------------+ | Red Hat Enterprise Linux 8.10 | PASS | SKIPPED | SKIPPED | SKIPPED | SKIPPED | SKIPPED | +-------------------------------+--------------------+-------------------+------------------+-------------------+-------------------------+----------------------+ | Ubuntu 20.04 | PASS | SKIPPED | SKIPPED | SKIPPED | SKIPPED | SKIPPED | +-------------------------------+--------------------+-------------------+------------------+-------------------+-------------------------+----------------------+ | Ubuntu 24.04 | PASS | PASS | PASS | SKIPPED | SKIPPED | SKIPPED | +-------------------------------+--------------------+-------------------+------------------+-------------------+-------------------------+----------------------+ | Ubuntu 22.04 | PASS | PASS | SKIPPED | SKIPPED | SKIPPED | SKIPPED | +-------------------------------+--------------------+-------------------+------------------+-------------------+-------------------------+----------------------+ | Alpine Linux 3.22.0 | PASS | SKIPPED | SKIPPED | SKIPPED | SKIPPED | SKIPPED | +-------------------------------+--------------------+-------------------+------------------+-------------------+-------------------------+----------------------+ | FreeBSD 14.2 | PASS | SKIPPED | SKIPPED | SKIPPED | SKIPPED | SKIPPED | +-------------------------------+--------------------+-------------------+------------------+-------------------+-------------------------+----------------------+ | Windows Server 2022 | SKIPPED | SKIPPED | SKIPPED | PASS | PASS | PASS | +-------------------------------+--------------------+-------------------+------------------+-------------------+-------------------------+----------------------+ Debian GNU/Linux 12 Kernel: 5.15 Compiler: gcc gcc (Debian 12.2.0-14+deb12u1) 12.2.0 CentOS Stream 9 Kernel: 5.15 Compiler: gcc gcc (GCC) 11.5.0 20240719 (Red Hat 11.5.0-11) CentOS Stream 10 Kernel: 5.15 Compiler: gcc gcc (GCC) 14.2.1 20250110 (Red Hat 14.2.1-8) Red Hat Enterprise Linux 9.5 Kernel: 5.15 Compiler: gcc gcc (GCC) 11.5.0 20240719 (Red Hat 11.5.0-2) Fedora Linux 42 Kernel: 5.15 Compiler: clang gcc (GCC) 15.2.1 20250808 (Red Hat 15.2.1-1) openSUSE Leap 15.6 Kernel: 5.15 Compiler: gcc gcc (SUSE Linux) 7.5.0 Red Hat Enterprise Linux 8.10 Kernel: 5.15 Compiler: gcc gcc (GCC) 8.5.0 20210514 (Red Hat 8.5.0-22) Ubuntu 20.04 Kernel: 4.19 Compiler: gcc gcc (Ubuntu 9.4.0-1ubuntu1~20.04.2) 9.4.0 Ubuntu 24.04 Kernel: 5.15 Compiler: gcc gcc (Ubuntu 13.3.0-6ubuntu2~24.04) 13.3.0 Ubuntu 22.04 Kernel: 5.15 Compiler: gcc gcc (Ubuntu 11.4.0-1ubuntu1~22.04) 11.4.0 Alpine Linux 3.22.0 Kernel: 5.15 Compiler: gcc gcc (Alpine 14.2.0) 14.2.0 FreeBSD 14.2 Kernel: 14.2-RELEASE Compiler: clang 18.1.6 Windows Server 2022 Kernel: 10.0.20348.2031 Compiler: clang 15.0.7, gcc 14.1.0 (MinGW), and MSVC VS 19.39.33521 To view detailed results, visit: https://lab.dpdk.org/results/dashboard/tarballs/35300/ UNH-IOL DPDK Community Lab To manage your email subscriptions, visit: https://lab.dpdk.org/results/dashboard/preferences/subscriptions/