From mboxrd@z Thu Jan 1 00:00:00 1970 Return-Path: Received: from mails.dpdk.org (mails.dpdk.org [217.70.189.124]) by inbox.dpdk.org (Postfix) with ESMTP id 8CDF1489A1 for ; Wed, 22 Oct 2025 08:26:38 +0200 (CEST) Received: from mails.dpdk.org (localhost [127.0.0.1]) by mails.dpdk.org (Postfix) with ESMTP id 714C3400D6; Wed, 22 Oct 2025 08:26:38 +0200 (CEST) Received: from mail-qk1-f228.google.com (mail-qk1-f228.google.com [209.85.222.228]) by mails.dpdk.org (Postfix) with ESMTP id 3658D400D6 for ; Wed, 22 Oct 2025 08:26:37 +0200 (CEST) Received: by mail-qk1-f228.google.com with SMTP id af79cd13be357-7f04816589bso987968185a.3 for ; Tue, 21 Oct 2025 23:26:37 -0700 (PDT) DKIM-Signature: v=1; a=rsa-sha256; c=relaxed/relaxed; d=iol.unh.edu; s=unh-iol; t=1761114396; x=1761719196; darn=dpdk.org; h=cc:to:from:subject:message-id:date:from:to:cc:subject:date :message-id:reply-to; bh=Fh2tvgajk1thbQMO+mpkeGB2v0uDHmdkfvAnx7pPSu0=; b=Meg+3Xam73lYEyfNl8C9IL4jfCzSNJiC/aFc18NoHqU497HYM6m3CTEZD5HOpm8LX9 n+5bZiLeyhsLFJJXcHZmRmreDNJHokpgBeQLy6+S8CvMmybtDwb/2CVWTX0MCzPsrGnb FRm9JG3MX/QYBRBgLkmr4kyPNb60pRqtlBOgs= X-Google-DKIM-Signature: v=1; a=rsa-sha256; c=relaxed/relaxed; d=1e100.net; s=20230601; t=1761114396; x=1761719196; h=cc:to:from:subject:message-id:date:x-gm-message-state:from:to:cc :subject:date:message-id:reply-to; bh=Fh2tvgajk1thbQMO+mpkeGB2v0uDHmdkfvAnx7pPSu0=; b=HMQ+M59Uf01BzxPzvxbMhvixEfAjO2dG58uuU2lIy2pLXtZSei+zyZbHPzboIr7nGD V2xmVpfYEtS59xVCcpqfrHoF2P+PnmLBMv5awr7tlzky2bDqmaqsAxAgU0eroWdUKPKK /7otDIqhJdL4ZI0rCPN1QIu9gHjXBIKefsd/xCbc9zzmu0e/t7ouIIRwAivo61LPpEOA x0+eRRyBqrN+di/vSCDza/HDGIn81FvRLvSlBT0giGG/Io4koa454g1/7i0ztyUYdn7K TAEhMevexd9TDlX7VQ/lmnwfAftQ5w/my4jdCIfGj6GISwOAiVq2lR/1sZ1/2KfFGVtI BFbw== X-Gm-Message-State: AOJu0Yziqyj9frQ9REeNxwJ7Z85qPi3us1DQqcoXrh4JQXAZZfGFj0+S z6CZKIyOsOyhuI+Ns4UnnDvm0q783E/B21tD/hRg2nJnM04rshdbSynBwV6sPGnETKvZlmQQ57R Xl6hVSNJHTazy+fFEUBMHkbRwKZngzei4ADFKvtj2gir3EOETYd2Z X-Gm-Gg: ASbGncvfY5JzH6BDMR2YiSpZULOwA2MKzMFXqIFrmuvAIqEqxrmAjvHoaZ2E15rYKB6 qRPb385EAAcMeRNVKtbaCMBkbYCWvu/veFw1zPZW+10u88ZAUzI0JHPPU8vUGW586wivZv0CYgB 9VDdvzDcr/SgZuu+QidXMI4XxlHjbwOujakpPQ4TcFQl8mz35iU6eW0Os97ML3GMdSX+NgkkL/v B4uNXn7Wx3GwTCXELy9gWEuHBKYXAZ2aKEc8XmTTioxlssBfGdG0okkHKqkDlLY99L/W22/ARKe HsI0dprzVjOFRScSx0AzMF75CEhEwatYwqoSTqp2SDfuK+t8nGrYIEyDBUeOxU98s7/p6pdoSiD N/TxCZ2bf X-Google-Smtp-Source: AGHT+IFaiBsc5V1xGh9Vi6Scg3FjN0zs98gqpIVOLxmOy+S2dkaa/dEZHbbE5RH1Qh+NSSaIc88CG5RWaflV X-Received: by 2002:a05:620a:1a83:b0:892:dc48:76d with SMTP id af79cd13be357-892dc480847mr1419100985a.87.1761114396517; Tue, 21 Oct 2025 23:26:36 -0700 (PDT) Received: from postal.iol.unh.edu (postal.iol.unh.edu. [2606:4100:3880:1234::84]) by smtp-relay.gmail.com with ESMTPS id af79cd13be357-891cf8710c9sm150337585a.5.2025.10.21.23.26.36 (version=TLS1_2 cipher=ECDHE-ECDSA-AES128-GCM-SHA256 bits=128/128); Tue, 21 Oct 2025 23:26:36 -0700 (PDT) X-Relaying-Domain: iol.unh.edu Date: Tue, 21 Oct 2025 23:26:36 -0700 (PDT) Message-ID: <68f8791c.050a0220.49c9c.6b4dSMTPIN_ADDED_MISSING@mx.google.com> Received: from [172.21.0.4] (unknown [172.18.0.240]) by postal.iol.unh.edu (Postfix) with ESMTP id 34F286051830; Wed, 22 Oct 2025 02:26:36 -0400 (EDT) Subject: |SUCCESS| [GIT MASTER] b287e404643aeab5bb5db084c142789df187844e From: dpdklab@iol.unh.edu To: Test Report Cc: dpdk-test-reports@iol.unh.edu, Xueming Li , Christian Ehrhardt , Kevin Traynor , Luca Boccassi Content-Type: text/plain X-BeenThere: test-report@dpdk.org X-Mailman-Version: 2.1.29 Precedence: list List-Id: automatic DPDK test reports List-Unsubscribe: , List-Archive: List-Post: List-Help: List-Subscribe: , Errors-To: test-report-bounces@dpdk.org _Testing PASS_ Branch: tags/v24.11 b287e404643aeab5bb5db084c142789df187844e --> testing pass Upstream job id: Generic-Unit-Test-DPDK#384085 Test environment and result as below: +-------------------------------+----------------+ | Environment | dpdk_unit_test | +===============================+================+ | CentOS Stream 9 | PASS | +-------------------------------+----------------+ | Fedora Linux 40 | PASS | +-------------------------------+----------------+ | Red Hat Enterprise Linux 9.5 | PASS | +-------------------------------+----------------+ | Fedora Linux 42 | PASS | +-------------------------------+----------------+ | Ubuntu 20.04 | PASS | +-------------------------------+----------------+ | Red Hat Enterprise Linux 8.10 | PASS | +-------------------------------+----------------+ | CentOS Stream 10 | PASS | +-------------------------------+----------------+ | Debian GNU/Linux 12 | PASS | +-------------------------------+----------------+ | Fedora Linux 41 | PASS | +-------------------------------+----------------+ | Ubuntu 22.04 | PASS | +-------------------------------+----------------+ | Ubuntu 24.04 | PASS | +-------------------------------+----------------+ | Windows Server 2022 | PASS | +-------------------------------+----------------+ CentOS Stream 9 Kernel: 5.15 Compiler: gcc gcc (GCC) 11.5.0 20240719 (Red Hat 11.5.0-11) Fedora Linux 40 Kernel: 5.15 Compiler: gcc gcc (GCC) 14.2.1 20240912 (Red Hat 14.2.1-3) Red Hat Enterprise Linux 9.5 Kernel: 5.15 Compiler: gcc gcc (GCC) 11.5.0 20240719 (Red Hat 11.5.0-2) Fedora Linux 42 Kernel: 5.15 Compiler: gcc gcc (GCC) 15.2.1 20250808 (Red Hat 15.2.1-1) Ubuntu 20.04 Kernel: 5.15 Compiler: gcc gcc (Ubuntu 9.4.0-1ubuntu1~20.04.2) 9.4.0 Red Hat Enterprise Linux 8.10 Kernel: 5.15 Compiler: gcc gcc (GCC) 8.5.0 20210514 (Red Hat 8.5.0-22) CentOS Stream 10 Kernel: 5.15 Compiler: gcc gcc (GCC) 14.2.1 20250110 (Red Hat 14.2.1-8) Debian GNU/Linux 12 Kernel: 5.15 Compiler: gcc gcc (Debian 12.2.0-14+deb12u1) 12.2.0 Fedora Linux 41 Kernel: 5.15 Compiler: gcc gcc (GCC) 14.3.1 20250523 (Red Hat 14.3.1-1) Ubuntu 22.04 Kernel: 5.15 Compiler: gcc gcc (Ubuntu 11.4.0-1ubuntu1~22.04) 11.4.0 Ubuntu 24.04 Kernel: 5.15 Compiler: gcc gcc (Ubuntu 13.3.0-6ubuntu2~24.04) 13.3.0 Windows Server 2022 Kernel: 10.0.20348.2031 Compiler: clang 15.0.7, gcc 14.1.0 (MinGW), and MSVC VS 19.39.33521 To view detailed results, visit: https://lab.dpdk.org/results/dashboard/tarballs/35300/ UNH-IOL DPDK Community Lab To manage your email subscriptions, visit: https://lab.dpdk.org/results/dashboard/preferences/subscriptions/